BEGIN:VCALENDAR
VERSION:2.0
PRODID:-//UCCA - ECPv6.15.20//NONSGML v1.0//EN
CALSCALE:GREGORIAN
METHOD:PUBLISH
X-WR-CALNAME:UCCA
X-ORIGINAL-URL:https://uccaillinois.org
X-WR-CALDESC:Events for UCCA
REFRESH-INTERVAL;VALUE=DURATION:PT1H
X-Robots-Tag:noindex
X-PUBLISHED-TTL:PT1H
BEGIN:VTIMEZONE
TZID:America/Chicago
BEGIN:DAYLIGHT
TZOFFSETFROM:-0600
TZOFFSETTO:-0500
TZNAME:CDT
DTSTART:20240310T080000
END:DAYLIGHT
BEGIN:STANDARD
TZOFFSETFROM:-0500
TZOFFSETTO:-0600
TZNAME:CST
DTSTART:20241103T070000
END:STANDARD
BEGIN:DAYLIGHT
TZOFFSETFROM:-0600
TZOFFSETTO:-0500
TZNAME:CDT
DTSTART:20250309T080000
END:DAYLIGHT
BEGIN:STANDARD
TZOFFSETFROM:-0500
TZOFFSETTO:-0600
TZNAME:CST
DTSTART:20251102T070000
END:STANDARD
BEGIN:DAYLIGHT
TZOFFSETFROM:-0600
TZOFFSETTO:-0500
TZNAME:CDT
DTSTART:20260308T080000
END:DAYLIGHT
BEGIN:STANDARD
TZOFFSETFROM:-0500
TZOFFSETTO:-0600
TZNAME:CST
DTSTART:20261101T070000
END:STANDARD
END:VTIMEZONE
BEGIN:VEVENT
DTSTART;TZID=America/Chicago:20250816T133000
DTEND;TZID=America/Chicago:20250817T220000
DTSTAMP:20260424T012946
CREATED:20250802T232923Z
LAST-MODIFIED:20250802T233204Z
UID:10644-1755351000-1755468000@uccaillinois.org
SUMMARY:Ukrainian Village Fest
DESCRIPTION:Sts. Volodymyr and Olha Parish\ninvites the community and beyond  for the annual\n \nUkrainian Village Fest as we “Stand with Ukraine”\n \nSaturday: 1pm (main stage program begins at 4pm)\, Sunday 1pm (main stage program begins at 2pm) \n  \nPlease join us on August 16th-17th from 1pm-10pm for our 2025 Ukrainian Village Fest as we “Stand with Ukraine” by coming together to celebrate the heart and soul of the Ukrainian people in Ukraine\, across the world\, and in our own city of Chicago. \nCome enjoy delicious ethnic food\, imported beer\, vibrant arts & crafts\, and high-energy performances throughout the weekend! Main stage performances begin at 4pm on Saturday and 2pm on Sunday. Don’t miss any of the action on Superior St. and under the Big Tent on August 16th-17th! Slava Ykraiini! \nSponsoring organizations: Platinum sponsors: Selfreliance Federal Credit Union\, The Heritage Foundation\, Kefas Development\, United Tires & Tinting Chicago\, Slavon Roofing Company. Many more Gold\, Silver & Bronze spomsors!
URL:https://uccaillinois.org/event/ukrainian-village-fest-3/
LOCATION:Sts. Volodymyr and Olha Ukrainian Catholic Church\, 739 North Oakley Boulevard\, Chicago\, IL\, 60612\, United States
ATTACH;FMTTYPE=image/jpeg:https://uccaillinois.org/wp-content/uploads/2025/08/UVF_Save-the-Date-2025_FB2.jpg
ORGANIZER;CN="Sts. Volodymyr and Olha Ukrainian Catholic Parish":MAILTO:ukrainianvillagefestival@uccaillinois.orggmail.com
END:VEVENT
BEGIN:VEVENT
DTSTART;TZID=America/Chicago:20250822T120000
DTEND;TZID=America/Chicago:20250822T130000
DTSTAMP:20260424T012946
CREATED:20250508T014458Z
LAST-MODIFIED:20250803T135148Z
UID:10399-1755864000-1755867600@uccaillinois.org
SUMMARY:Ukrainian Flag Raising for Independence Day
DESCRIPTION:To commemorate Ukrainian Independence flag raising will take place at Daley Plaza
URL:https://uccaillinois.org/event/ukrainian-flag-raising/
LOCATION:Daley Plaza\, 50 W Washington\, Chicago\, IL\, 60602\, United States
ATTACH;FMTTYPE=image/png:https://uccaillinois.org/wp-content/uploads/2025/05/raising-of-the-flag-of-Ukraine2025.png
END:VEVENT
BEGIN:VEVENT
DTSTART;TZID=America/Chicago:20250823T080000
DTEND;TZID=America/Chicago:20250823T160000
DTSTAMP:20260424T012946
CREATED:20250508T020102Z
LAST-MODIFIED:20250803T134206Z
UID:10407-1755936000-1755964800@uccaillinois.org
SUMMARY:Ukraine and the World\, Global Insights Forum
DESCRIPTION:Ukraine and the World\, Global Insights Forum\nForum will include global leaders\, sholars and change makers reflecting  on some of the most pressing challenges facing our world today—viewed through the lens of Ukraine’s extraordinary courage\, resilience\, and moral clarity in the face of ongoing aggression.\nAugust 23\, 2025 \nUkrainian Cultural Center \nRegistration \nSponsorship Packages \nPanels and Speakers
URL:https://uccaillinois.org/event/ukrainian-days-symposium/
LOCATION:Ukrainian Cultural Center\, 2247 W. Chicago Ave.\, Chicago\, IL\, 60622\, United States
ATTACH;FMTTYPE=image/png:https://uccaillinois.org/wp-content/uploads/2025/07/BA8A6B35-2C6D-492F-9D5D-9E126E3DA101.png
END:VEVENT
BEGIN:VEVENT
DTSTART;TZID=America/Chicago:20250824T140000
DTEND;TZID=America/Chicago:20250824T170000
DTSTAMP:20260424T012946
CREATED:20250508T015317Z
LAST-MODIFIED:20250803T134835Z
UID:10402-1756044000-1756054800@uccaillinois.org
SUMMARY:Mega March and Rally for Ukraine’s Independence Day
DESCRIPTION:Mega March and Rally for Ukraine’s Independence Day\n\nOn 34th Anniversary of Ukraine’s Independence Ukrainian Congress Committee of America\, Illinois Division calls on all the communities to participate in the Mega March. We will start at the Congress Plaza Garden 501 S. Michigan Ave at 2:00 pm\, march will end with a program on the west end of Riverwalk (upper Wacker & Orleans/Franklin
URL:https://uccaillinois.org/event/celebration-of-ukrainian-days/
LOCATION:Congress Plaza Garden\, 501 S. Michigan
ATTACH;FMTTYPE=image/jpeg:https://uccaillinois.org/wp-content/uploads/2025/05/MEGA-MARCH-1.jpg
END:VEVENT
BEGIN:VEVENT
DTSTART;TZID=America/Chicago:20250829T190000
DTEND;TZID=America/Chicago:20250831T220000
DTSTAMP:20260424T012946
CREATED:20250829T175034Z
LAST-MODIFIED:20250829T175034Z
UID:10679-1756494000-1756677600@uccaillinois.org
SUMMARY:75th Anniversary Celebration of ODUM
DESCRIPTION:75th Anniversary Celebration of ODUM\nBanquet and Dance\nAugust 30\, 2025\n6:30 pm – 12:00 am\nSt Andrews Ukrainian Orthodox Church\n300 Army Trail Road\nBloomindale\n \n  \nДорога українська громадо та друзі ОДУМу!\nЗапрошуємо вас долучитися до святкування нашого ювілейного 75-річчя.  \nЦе чудова нагода згадати приємні моменти минулого\, зустріти давніх друзів та створити нові\, незабутні спогади.\nОДУМ святкуватиме своє 75-річчя\nЧиказька філія ОДУМу прийматиме захід у місті Блуміндейл\, штат Іллінойс\, при церкві Святого Андрія\, з 29 серпня по 31 серпня.\nЗапрошуємо всіх вас приєднатися до нас на це святкування. Будь ласка\, ознайомтеся з доданим розкладом вихідних. \n  \nПрограма святкувань\nП’ятниця\, 29 серпня\, ввечері\n• Вечір кіно під відкритим небом\n• Музика\, бар і закуски\n• Караоке\n• Спортивні ігри для дітей \nСубота\, 30 серпня\, вранці\n• Турнір з гольфу\n• Майстер-клас із розпису на склі\, який проведе Олена Дяденко\n• Вироби та ігри для дітей \nСубота\, 30 серпня\, ввечері\n• Бенкет і забава\n• Головний доповідач – Наталія Павленко\, голова Союзу Українок Америки\, Ст. Виховник Провідних ОДУМ-у\n• Жива музика від гурту “ACCORD” (Андрій Чуйко) \nНеділя\, 31 серпня\n• Обід-фуршет перед концертом\n• Виступ Ансамблю Бандуристок Північної Америки\n• Виступ одумівців з танцями\, грою на бандурі та співом\n• Український ярмарок (Ukrainian vendors)\nБудь ласка\, придбайте квитки на всі заходи онлайн на вебсайті\, вказаному нижче.\nhttps://odumchicago.org/\nhttps://www.zeffy.com/en-US/ticketing/odum-zustrich-75th-anniversary-weekend \nКвитки за ранньою ціною доступні до 15 серпня\, після чого ціни зростають на 10 доларів за квиток за подію.\nКупуйте квитки заздалегідь\, щоб заощадити. Всі квитки\, придбані на вході\, будуть на 20 доларів дорожчими за квиток за подію.
URL:https://uccaillinois.org/event/75th-anniversary-celebration-of-odum/
LOCATION:St. Andrew Ukrainian Orthodox Church\, 300 E. Army Trail Rd.\, Bloomingdale\,\, IL\, United States
END:VEVENT
END:VCALENDAR