BEGIN:VCALENDAR
VERSION:2.0
PRODID:-//UCCA - ECPv6.15.20//NONSGML v1.0//EN
CALSCALE:GREGORIAN
METHOD:PUBLISH
X-ORIGINAL-URL:https://uccaillinois.org
X-WR-CALDESC:Events for UCCA
REFRESH-INTERVAL;VALUE=DURATION:PT1H
X-Robots-Tag:noindex
X-PUBLISHED-TTL:PT1H
BEGIN:VTIMEZONE
TZID:America/Chicago
BEGIN:DAYLIGHT
TZOFFSETFROM:-0600
TZOFFSETTO:-0500
TZNAME:CDT
DTSTART:20240310T080000
END:DAYLIGHT
BEGIN:STANDARD
TZOFFSETFROM:-0500
TZOFFSETTO:-0600
TZNAME:CST
DTSTART:20241103T070000
END:STANDARD
BEGIN:DAYLIGHT
TZOFFSETFROM:-0600
TZOFFSETTO:-0500
TZNAME:CDT
DTSTART:20250309T080000
END:DAYLIGHT
BEGIN:STANDARD
TZOFFSETFROM:-0500
TZOFFSETTO:-0600
TZNAME:CST
DTSTART:20251102T070000
END:STANDARD
BEGIN:DAYLIGHT
TZOFFSETFROM:-0600
TZOFFSETTO:-0500
TZNAME:CDT
DTSTART:20260308T080000
END:DAYLIGHT
BEGIN:STANDARD
TZOFFSETFROM:-0500
TZOFFSETTO:-0600
TZNAME:CST
DTSTART:20261101T070000
END:STANDARD
END:VTIMEZONE
BEGIN:VEVENT
DTSTART;TZID=America/Chicago:20250307T180000
DTEND;TZID=America/Chicago:20250307T210000
DTSTAMP:20260424T105034
CREATED:20250305T024556Z
LAST-MODIFIED:20250305T024556Z
UID:10178-1741370400-1741381200@uccaillinois.org
SUMMARY:Soldiers of Song
DESCRIPTION:Special screening of “Soldiers of Song\,” a powerful documentary that captures the resilience of Ukrainian musicians amidst adversity. Ukrainian musicians cope with the Russian invasion through their art\, showcasing creativity and resilience through adversity while offering a vision of music’s power during the war.\nDirector Ryan Smith will be there for an exclusive Q&A session following the film. Don’t miss this opportunity to delve into music’s transformative power during conflict. \nDoors Open: 6:00 pm; Film screening at 6:30 pm \nLocation: Ukrainian National Museum\, 2249 W. Superior St.\, Chicago\, IL 60612 \nTicket Price: $20
URL:https://uccaillinois.org/event/soldiers-of-song/
LOCATION:Ukrainian National Museum\, 2249 W. Superior Street\, Chicago \, IL\, 60612\, United States
ATTACH;FMTTYPE=image/png:https://uccaillinois.org/wp-content/uploads/2025/03/Soldiers-of-Song-11x17-Poster.png
END:VEVENT
BEGIN:VEVENT
DTSTART;TZID=America/Chicago:20250309T123000
DTEND;TZID=America/Chicago:20250309T153000
DTSTAMP:20260424T105034
CREATED:20250211T191219Z
LAST-MODIFIED:20250211T191219Z
UID:10053-1741523400-1741534200@uccaillinois.org
SUMMARY:75th Anniversary of the heroic death of +Roman Shukhevych
DESCRIPTION:Event dedicated to the commemoration of the 75th anniversary of the heroic death of +Roman Shukhevych. Program will include a tribute to the UPA Supreme Commander\, a short video\, followed by a brief cultural presentation by Elegy Studio. \n\n\n  \nSponsoring Organizations:\nWomen’s Association for the Defense of Four Freedoms for Ukraine – ОЖ-ОЧСУ\nOrganization for the Defense of Four Freedoms for Ukraine – ООЧСУ\nAmerican Ukrainian Youth Association – СУМ\nTovaristvo UPA\nUkrainian Congress Committee of America Illinois Division – УККА\nGreywolves CO\nOrange Wave
URL:https://uccaillinois.org/event/75th-anniversary-of-the-heroic-death-of-roman-shukhevych/
LOCATION:St. Joseph the Bethroted Ukrainian Catholic  Church\, 5000 North Cumberland Avenue\, Chicago\, IL\, 60656\, United States
ATTACH;FMTTYPE=image/jpeg:https://uccaillinois.org/wp-content/uploads/2025/02/476630647_1034212915413925_6896412274319068539_n.jpg
END:VEVENT
BEGIN:VEVENT
DTSTART;TZID=America/Chicago:20250316T130000
DTEND;TZID=America/Chicago:20250316T160000
DTSTAMP:20260424T105034
CREATED:20250313T230750Z
LAST-MODIFIED:20250313T230750Z
UID:10378-1742130000-1742140800@uccaillinois.org
SUMMARY:Edward Kozak: A Visionary Across Media
DESCRIPTION:This exhibit honors Edward Kozak (1902–1992)\, a painter\, caricaturist\, illustrator\, animator\, graphic artist\, and writer. Showcasing his diverse body of work\, the exhibition explores his impact on art\, satire\, and culture.
URL:https://uccaillinois.org/event/edward-kozak-a-visionary-across-media/
LOCATION:Ukrainian National Museum\, 2249 W. Superior Street\, Chicago \, IL\, 60612\, United States
ATTACH;FMTTYPE=image/jpeg:https://uccaillinois.org/wp-content/uploads/2025/03/475923392_1346408523367435_1257364795522954248_n.jpg
ORGANIZER;CN="Branch 101 Ukrainian National Women's League of America":MAILTO:communications@unwla.org
END:VEVENT
BEGIN:VEVENT
DTSTART;TZID=America/Chicago:20250316T130000
DTEND;TZID=America/Chicago:20250316T170000
DTSTAMP:20260424T105034
CREATED:20241227T034500Z
LAST-MODIFIED:20250101T195625Z
UID:9594-1742130000-1742144400@uccaillinois.org
SUMMARY:WADFFU Bingo
DESCRIPTION:WADFFU – Alla Horska Branch invites you to our annual fundraiser “BINGO” which will be held on Sunday\, March 16th at Chicago CYM located at 2457 W Chicago Ave. beginning at 1pm. \nCost to play – $15 includes 2 cards\, coffee\, tea and sweets. Delicious kanapky! \nCome with your friends for an afternoon of fun\, surprises and a great time!\nPart of the proceeds will be going for the Widows and Orphans Fund in Ukraine.
URL:https://uccaillinois.org/event/wadffu-bingo/
LOCATION:American Ukrainian Youth Association\, 2457 W. Chicago Avenue\, Chicago\, IL\, 60622\, United States
ATTACH;FMTTYPE=image/jpeg:https://uccaillinois.org/wp-content/uploads/2024/12/unnamed.jpg
END:VEVENT
END:VCALENDAR