BEGIN:VCALENDAR
VERSION:2.0
PRODID:-//UCCA - ECPv6.15.20//NONSGML v1.0//EN
CALSCALE:GREGORIAN
METHOD:PUBLISH
X-WR-CALNAME:UCCA
X-ORIGINAL-URL:https://uccaillinois.org
X-WR-CALDESC:Events for UCCA
REFRESH-INTERVAL;VALUE=DURATION:PT1H
X-Robots-Tag:noindex
X-PUBLISHED-TTL:PT1H
BEGIN:VTIMEZONE
TZID:America/Chicago
BEGIN:DAYLIGHT
TZOFFSETFROM:-0600
TZOFFSETTO:-0500
TZNAME:CDT
DTSTART:20240310T080000
END:DAYLIGHT
BEGIN:STANDARD
TZOFFSETFROM:-0500
TZOFFSETTO:-0600
TZNAME:CST
DTSTART:20241103T070000
END:STANDARD
BEGIN:DAYLIGHT
TZOFFSETFROM:-0600
TZOFFSETTO:-0500
TZNAME:CDT
DTSTART:20250309T080000
END:DAYLIGHT
BEGIN:STANDARD
TZOFFSETFROM:-0500
TZOFFSETTO:-0600
TZNAME:CST
DTSTART:20251102T070000
END:STANDARD
BEGIN:DAYLIGHT
TZOFFSETFROM:-0600
TZOFFSETTO:-0500
TZNAME:CDT
DTSTART:20260308T080000
END:DAYLIGHT
BEGIN:STANDARD
TZOFFSETFROM:-0500
TZOFFSETTO:-0600
TZNAME:CST
DTSTART:20261101T070000
END:STANDARD
END:VTIMEZONE
BEGIN:VEVENT
DTSTART;VALUE=DATE:20250104
DTEND;VALUE=DATE:20250105
DTSTAMP:20260424T141121
CREATED:20240128T164642Z
LAST-MODIFIED:20241113T003053Z
UID:7911-1735948800-1736035199@uccaillinois.org
SUMMARY:Festival "Carolling in Richmond"
DESCRIPTION:Enjoy the holiday season with  a Festival of Ukrainian carols and verteps
URL:https://uccaillinois.org/event/festival-carolling-in-richmond/
LOCATION:Dormition Parish in Richmond\, 5700 Hill Rd\, Richmond\, IL\, United States
ATTACH;FMTTYPE=image/jpeg:https://uccaillinois.org/wp-content/uploads/2024/01/content_Колядки-та-щедрівки-до-Різдва-2019.jpeg
ORGANIZER;CN="Eparchy of St Nicholas Ukrainian Cathedral":MAILTO:mariya.kokor@esnucc.org
END:VEVENT
BEGIN:VEVENT
DTSTART;TZID=America/Chicago:20250117T190000
DTEND;TZID=America/Chicago:20250117T220000
DTSTAMP:20260424T141121
CREATED:20241210T031247Z
LAST-MODIFIED:20241210T032639Z
UID:9576-1737140400-1737151200@uccaillinois.org
SUMMARY:Revived Soldiers Ukraine - Розколяда в Чикаго
DESCRIPTION:Revived Soldiers Ukraine\nзапрошує на\nРозколяда в Чикаго\n \n17  січня\, 2025\n7:00 pm \n   Dinner included \n 
URL:https://uccaillinois.org/event/revived-soldiers-ukraine-%d1%80%d0%be%d0%b7%d0%ba%d0%be%d0%bb%d1%8f%d0%b4%d0%b0-%d0%b2-%d1%87%d0%b8%d0%ba%d0%b0%d0%b3%d0%be/
LOCATION:Zhivago\, 9925 N. Gross Point Rd\, IL\, 60076\, United States
ATTACH;FMTTYPE=image/jpeg:https://uccaillinois.org/wp-content/uploads/2024/12/Revived-Soldiers-Rozkoliada.jpeg
END:VEVENT
BEGIN:VEVENT
DTSTART;TZID=America/Chicago:20250118T180000
DTEND;TZID=America/Chicago:20250118T233000
DTSTAMP:20260424T141121
CREATED:20241124T145610Z
LAST-MODIFIED:20241127T013716Z
UID:9538-1737223200-1737243000@uccaillinois.org
SUMMARY:CYM New Year’s Ball “Malanka” & Presentation of Debutantes
DESCRIPTION:The American Ukrainian Youth Association Mykola Pavlushkov Branch of Chicago cordially invites you to attend its annual\nNew Year’s Ball “Malanka” and Presentation of Debutantes. \n6:00 pm Cocktail Reception\n7:00 pm Presentation of debutantes and dinner\n9:15 pm Ball \n 
URL:https://uccaillinois.org/event/cym-new-years-ball-malanka-presentation-of-debutantes/
LOCATION:Drury Lane Theater and Conference Center\, 100 Drury Lane\, Oakbrook Terrace\, IL\, 60181\, United States
ATTACH;FMTTYPE=image/png:https://uccaillinois.org/wp-content/uploads/2024/11/Malanka25-digital_i3.png
END:VEVENT
BEGIN:VEVENT
DTSTART;TZID=America/Chicago:20250125T180000
DTEND;TZID=America/Chicago:20250125T210000
DTSTAMP:20260424T141121
CREATED:20241128T124014Z
LAST-MODIFIED:20241210T025858Z
UID:9544-1737828000-1737838800@uccaillinois.org
SUMMARY:Revived Soldiers Ukraine Concert
DESCRIPTION:Revived Soldiers Ukraine  \ninvite the community to a\nCharity Christmas Concert  \n with Maria Burmaka \nSt. Joseph the Bethrothed \nJanuary 25\, 2025\n6:00 pm\nTicket $40\nTicket at the door $45 \n$40 \n 
URL:https://uccaillinois.org/event/revived-soldierrs-ukraine-concert/
LOCATION:St. Joseph the Bethroted Ukrainian Catholic  Church\, 5000 North Cumberland Avenue\, Chicago\, IL\, 60656\, United States
ATTACH;FMTTYPE=image/jpeg:https://uccaillinois.org/wp-content/uploads/2024/11/Revived-Soldiers-Maria-Burmaka-Concert-3.jpeg
END:VEVENT
BEGIN:VEVENT
DTSTART;TZID=America/Chicago:20250126T130000
DTEND;TZID=America/Chicago:20250126T170000
DTSTAMP:20260424T141121
CREATED:20241113T002109Z
LAST-MODIFIED:20241113T002109Z
UID:9517-1737896400-1737910800@uccaillinois.org
SUMMARY:Ukraine's Unity Day Commemoration
DESCRIPTION:Ukraine’s Unity Day Commemoration \nwill take placee on January 26th\nat the Ukrainian Cultural Center \nDetails will follow
URL:https://uccaillinois.org/event/ukraines-unity-day-commemoration/
LOCATION:Ukrainian Cultural Center\, 2247 W. Chicago Ave.\, Chicago\, IL\, 60622\, United States
ATTACH;FMTTYPE=image/jpeg:https://uccaillinois.org/wp-content/uploads/2024/11/UNITY-DAY.jpg
END:VEVENT
END:VCALENDAR