BEGIN:VCALENDAR
VERSION:2.0
PRODID:-//UCCA - ECPv6.15.20//NONSGML v1.0//EN
CALSCALE:GREGORIAN
METHOD:PUBLISH
X-WR-CALNAME:UCCA
X-ORIGINAL-URL:https://uccaillinois.org
X-WR-CALDESC:Events for UCCA
REFRESH-INTERVAL;VALUE=DURATION:PT1H
X-Robots-Tag:noindex
X-PUBLISHED-TTL:PT1H
BEGIN:VTIMEZONE
TZID:America/Chicago
BEGIN:DAYLIGHT
TZOFFSETFROM:-0600
TZOFFSETTO:-0500
TZNAME:CDT
DTSTART:20230312T080000
END:DAYLIGHT
BEGIN:STANDARD
TZOFFSETFROM:-0500
TZOFFSETTO:-0600
TZNAME:CST
DTSTART:20231105T070000
END:STANDARD
BEGIN:DAYLIGHT
TZOFFSETFROM:-0600
TZOFFSETTO:-0500
TZNAME:CDT
DTSTART:20240310T080000
END:DAYLIGHT
BEGIN:STANDARD
TZOFFSETFROM:-0500
TZOFFSETTO:-0600
TZNAME:CST
DTSTART:20241103T070000
END:STANDARD
BEGIN:DAYLIGHT
TZOFFSETFROM:-0600
TZOFFSETTO:-0500
TZNAME:CDT
DTSTART:20250309T080000
END:DAYLIGHT
BEGIN:STANDARD
TZOFFSETFROM:-0500
TZOFFSETTO:-0600
TZNAME:CST
DTSTART:20251102T070000
END:STANDARD
END:VTIMEZONE
BEGIN:VEVENT
DTSTART;VALUE=DATE:20241005
DTEND;VALUE=DATE:20241006
DTSTAMP:20260424T192831
CREATED:20240430T221035Z
LAST-MODIFIED:20240501T020804Z
UID:8578-1728086400-1728172799@uccaillinois.org
SUMMARY:Концерт Капеля Бандуристів їм. Тараса Шевченка The Ukrainian Bandurist Chorus of North America
DESCRIPTION:ВСЕ БУДЕ УКРАЇНА – UKRAINE LIVES!\nConcert Tour \nMore details will follow
URL:https://uccaillinois.org/event/event-name-%d0%ba%d0%be%d0%bd%d1%86%d0%b5%d1%80%d1%82-%d0%ba%d0%b0%d0%bf%d0%b5%d0%bb%d1%8f-%d0%b1%d0%b0%d0%bd%d0%b4%d1%83%d1%80%d0%b8%d1%81%d1%82%d1%96%d0%b2-%d1%97%d0%bc-%d1%82%d0%b0%d1%80%d0%b0/
LOCATION:Northshore Center for the Performing Arts\, 9501 Skokie Blvd\, Skokie\, 60077\, United States
ATTACH;FMTTYPE=image/jpeg:https://uccaillinois.org/wp-content/uploads/2024/04/banduristy.jpeg
END:VEVENT
BEGIN:VEVENT
DTSTART;TZID=America/Chicago:20241006T113000
DTEND;TZID=America/Chicago:20241006T160000
DTSTAMP:20260424T192831
CREATED:20240925T005854Z
LAST-MODIFIED:20240925T010154Z
UID:9443-1728214200-1728230400@uccaillinois.org
SUMMARY:Празник Святої Покрови
DESCRIPTION:Традиційне святквання Свято Покровського Празника \nВелика Вечірня в суботу. \nАрхиєарейська Божественна Літургія та празничний обід в неділю. \nHierarchical Divine Liturgy celebrated by Bishop Venedykt followed by formal luncheon with program.
URL:https://uccaillinois.org/event/%d0%bf%d1%80%d0%b0%d0%b7%d0%bd%d0%b8%d0%ba-%d1%81%d0%b2%d1%8f%d1%82%d0%be%d1%97-%d0%bf%d0%be%d0%ba%d1%80%d0%be%d0%b2%d0%b8/
LOCATION:Sts. Volodymyr and Olha Ukrainian Catholic Church\, 739 North Oakley Boulevard\, Chicago\, IL\, 60612\, United States
ATTACH;FMTTYPE=application/pdf:https://uccaillinois.org/wp-content/uploads/2024/09/Покрова-Pokrova-св.-Вол.-і-Ольги-2024.pdf
ORGANIZER;CN="Sts. Volodymyr and Olha Ukrainian Catholic Parish":MAILTO:ukrainianvillagefestival@uccaillinois.orggmail.com
END:VEVENT
BEGIN:VEVENT
DTSTART;TZID=America/Chicago:20241011T190000
DTEND;TZID=America/Chicago:20241102T170000
DTSTAMP:20260424T192831
CREATED:20240929T131409Z
LAST-MODIFIED:20240929T131409Z
UID:9450-1728673200-1730566800@uccaillinois.org
SUMMARY:Divine Gardens
DESCRIPTION:“Divine Gardens” – an art exhibit by two artists from Ukraine – Svitlana Moiseieva and Volodymyr Podlevsky. \nThe exhibit opens on Friday\, October 11\, 2024\, at 7:00 pm at the Ukrainian National Museum.\nIt will stay till November 2\, 2024.
URL:https://uccaillinois.org/event/divine-gardens/
LOCATION:Ukrainian National Museum\, 2249 W. Superior Street\, Chicago \, IL\, 60612\, United States
ATTACH;FMTTYPE=image/jpeg:https://uccaillinois.org/wp-content/uploads/2024/09/461352066_1248995946442027_3751785883954938619_n.jpg
END:VEVENT
BEGIN:VEVENT
DTSTART;TZID=America/Chicago:20241012T190000
DTEND;TZID=America/Chicago:20241012T190000
DTSTAMP:20260424T192831
CREATED:20240127T170731Z
LAST-MODIFIED:20240826T210233Z
UID:7897-1728759600-1728759600@uccaillinois.org
SUMMARY:Пластова Родина Запрошує Вас на On the Avenue
DESCRIPTION:Пластова Родина Запрошує Вас на \nOn the Avenue \nCocktail Event for the 75th Anniversary of the Plastova Stanycia \nOctober 12\, 2024 \n7:00pm \nat Ukrainian National Museum
URL:https://uccaillinois.org/event/75-anniversary-of-plast-chicago/
LOCATION:Ukrainian National Museum\, 2249 W. Superior Street\, Chicago \, IL\, 60612\, United States
ATTACH;FMTTYPE=image/jpeg:https://uccaillinois.org/wp-content/uploads/2024/01/Plast-OnTheAvenue-Event-Invite-1.jpeg
ORGANIZER;CN="Plast Chicago":MAILTO:juliekashuba@gmail.com
END:VEVENT
BEGIN:VEVENT
DTSTART;VALUE=DATE:20241013
DTEND;VALUE=DATE:20241014
DTSTAMP:20260424T192831
CREATED:20240430T215930Z
LAST-MODIFIED:20240430T215930Z
UID:8576-1728777600-1728863999@uccaillinois.org
SUMMARY:Xрамове Cвято 
DESCRIPTION:Cвяткування Храмового Свята\nУкраїнська Православна Катедра св. Покрова \nHoly Protectress Ukrainian Orthodox Cathedral \n904 North Washtenaw Avenue \nChicago\, IL 60622 \n10.00 -Початок літургії\, після цього молебень\, молитва за Україну;\n12.30 – Святковий обід та концертна програма
URL:https://uccaillinois.org/event/x%d1%80%d0%b0%d0%bc%d0%be%d0%b2%d0%b5-c%d0%b2%d1%8f%d1%82%d0%be/
LOCATION:IL
END:VEVENT
BEGIN:VEVENT
DTSTART;TZID=America/Chicago:20241019T180000
DTEND;TZID=America/Chicago:20241019T180000
DTSTAMP:20260424T192831
CREATED:20240323T014319Z
LAST-MODIFIED:20240323T014319Z
UID:8274-1729360800-1729360800@uccaillinois.org
SUMMARY:CYM 75th Anniversary Banquet
DESCRIPTION:Please save the date to celebrate the 75th Anniversary of Cym in Chicago \nDetails to follow
URL:https://uccaillinois.org/event/cym-75th-anniversary-banquet/
LOCATION:IL
ATTACH;FMTTYPE=image/jpeg:https://uccaillinois.org/wp-content/uploads/2024/03/IMG_20240322_203855.jpg
END:VEVENT
BEGIN:VEVENT
DTSTART;VALUE=DATE:20241026
DTEND;VALUE=DATE:20241027
DTSTAMP:20260424T192831
CREATED:20240201T204023Z
LAST-MODIFIED:20240904T131630Z
UID:7922-1729900800-1729987199@uccaillinois.org
SUMMARY:St. Nicholas Cathedral Fundraising Event
DESCRIPTION:Fudraising Event to benefit the restoration of St. Nicholas Cathedral
URL:https://uccaillinois.org/event/st-nicholas-cathedral-fundraising-event/
LOCATION:Ukrainian Cultural Center\, 2247 W. Chicago Ave.\, Chicago\, IL\, 60622\, United States
ATTACH;FMTTYPE=image/jpeg:https://uccaillinois.org/wp-content/uploads/2024/02/st-nicholas-eric-allix-rogers-01.jpg
ORGANIZER;CN="Eparchy of St Nicholas Ukrainian Cathedral":MAILTO:mariya.kokor@esnucc.org
END:VEVENT
BEGIN:VEVENT
DTSTART;TZID=America/Chicago:20241124T123000
DTEND;TZID=America/Chicago:20241124T123000
DTSTAMP:20260424T192831
CREATED:20241026T161018Z
LAST-MODIFIED:20241026T161149Z
UID:9474-1732451400-1732451400@uccaillinois.org
SUMMARY:We Remember the Holodomor - The Genocide Against Ukrainians Continues
DESCRIPTION:Ukrainian Consulate Chicago\, Ukrainian Congress Committee Illinois Division and Holodomor Descendants Network \nWe Remember the Holodomor – The Genocide Against Ukrainians Continues \nMemorial Service\nCommemorative program\nLaying of wreaths at Holodomor Monument \n 
URL:https://uccaillinois.org/event/we-remember-the-holodomor-the-genocide-against-ukrainians-continues/
LOCATION:St. Andrew Ukrainian Orthodox Church\, 300 E. Army Trail Rd.\, Bloomingdale\,\, IL\, United States
ATTACH;FMTTYPE=image/jpeg:https://uccaillinois.org/wp-content/uploads/2024/10/ENG.-FB-POST.jpg
END:VEVENT
BEGIN:VEVENT
DTSTART;TZID=America/Chicago:20241027T150000
DTEND;TZID=America/Chicago:20241027T150000
DTSTAMP:20260424T192831
CREATED:20240407T131642Z
LAST-MODIFIED:20240418T152804Z
UID:8291-1730041200-1730041200@uccaillinois.org
SUMMARY:UCUF Chicago Banquet
DESCRIPTION:UCU Annual Banquet \nMore details will come \nContact email: ocromley@ucufoundation.org \n 
URL:https://uccaillinois.org/event/ucuf-chicago-banquet/
LOCATION:St. Ignatius College Prep.\, IL\, United States
ATTACH;FMTTYPE=image/jpeg:https://uccaillinois.org/wp-content/uploads/2022/05/UCUF-LOGO-FOR-ANNOUNCEMENT-100521-e1653927139841.jpeg
END:VEVENT
END:VCALENDAR