BEGIN:VCALENDAR
VERSION:2.0
PRODID:-//UCCA - ECPv6.15.20//NONSGML v1.0//EN
CALSCALE:GREGORIAN
METHOD:PUBLISH
X-WR-CALNAME:UCCA
X-ORIGINAL-URL:https://uccaillinois.org
X-WR-CALDESC:Events for UCCA
REFRESH-INTERVAL;VALUE=DURATION:PT1H
X-Robots-Tag:noindex
X-PUBLISHED-TTL:PT1H
BEGIN:VTIMEZONE
TZID:America/Chicago
BEGIN:DAYLIGHT
TZOFFSETFROM:-0600
TZOFFSETTO:-0500
TZNAME:CDT
DTSTART:20230312T080000
END:DAYLIGHT
BEGIN:STANDARD
TZOFFSETFROM:-0500
TZOFFSETTO:-0600
TZNAME:CST
DTSTART:20231105T070000
END:STANDARD
BEGIN:DAYLIGHT
TZOFFSETFROM:-0600
TZOFFSETTO:-0500
TZNAME:CDT
DTSTART:20240310T080000
END:DAYLIGHT
BEGIN:STANDARD
TZOFFSETFROM:-0500
TZOFFSETTO:-0600
TZNAME:CST
DTSTART:20241103T070000
END:STANDARD
BEGIN:DAYLIGHT
TZOFFSETFROM:-0600
TZOFFSETTO:-0500
TZNAME:CDT
DTSTART:20250309T080000
END:DAYLIGHT
BEGIN:STANDARD
TZOFFSETFROM:-0500
TZOFFSETTO:-0600
TZNAME:CST
DTSTART:20251102T070000
END:STANDARD
END:VTIMEZONE
BEGIN:VEVENT
DTSTART;TZID=America/Chicago:20240406T183000
DTEND;TZID=America/Chicago:20240406T183000
DTSTAMP:20260425T055109
CREATED:20240314T232734Z
LAST-MODIFIED:20240314T234416Z
UID:8242-1712428200-1712428200@uccaillinois.org
SUMMARY:Oleksandra Matviichuk Ukraine's Nobel Prize Winner
DESCRIPTION:Kyiv Mohyla Foundation of America\nInvitation \nCome hear Oleksandra Matviichuk\nat\nUkrainian Institute of Modern Art \n 
URL:https://uccaillinois.org/event/oleksandra-matviichuk-ukraines-nobel-prize-winner/
LOCATION:Ukrainian Institute of Modern Art\, 2320 West Chicago Avenue\, Chicago\, IL\, 60622\, United States
ATTACH;FMTTYPE=image/png:https://uccaillinois.org/wp-content/uploads/2024/03/KMF-USA_horiz_for-light-backs_RGB.png
END:VEVENT
BEGIN:VEVENT
DTSTART;TZID=America/Chicago:20240407T100000
DTEND;TZID=America/Chicago:20240407T100000
DTSTAMP:20260425T055109
CREATED:20240315T022501Z
LAST-MODIFIED:20240315T022633Z
UID:8265-1712484000-1712484000@uccaillinois.org
SUMMARY:Pysanka Workshop at Cym
DESCRIPTION:Two chances to take a pysanka writing master class with Anna Chychula! \nFirst session: 10:00 am\nSecond session: 1:30 pm \nOnly 25 spots available per session\nSupplies and light refreshments will be provided\n17+ to participate
URL:https://uccaillinois.org/event/pysanka-workshop-at-cym/
LOCATION:American Ukrainian Youth Association\, 2457 W. Chicago Avenue\, Chicago\, IL\, 60622\, United States
ATTACH;FMTTYPE=image/jpeg:https://uccaillinois.org/wp-content/uploads/2024/03/Pysanka-April-7.jpeg
END:VEVENT
BEGIN:VEVENT
DTSTART;TZID=America/Chicago:20240413T100000
DTEND;TZID=America/Chicago:20240413T140000
DTSTAMP:20260425T055109
CREATED:20240216T235255Z
LAST-MODIFIED:20240315T000404Z
UID:8067-1713002400-1713016800@uccaillinois.org
SUMMARY:Pysanka Workshop
DESCRIPTION:Let your creative juices flow as you create a piece of artwork to add to your treasure trove. \nEach workshop is 4 hours long from 10:am-2:pm. Dates: March 9\, March 23\, April 13\, April 27. Seating is limited to 18 participants per workshop. Participants must be 17 years of age or older. Registration fee $45 per person. \nRegister online: ukrainiannationalmuseum.org/workshops/ \n 
URL:https://uccaillinois.org/event/pysanka-workshop-2/
LOCATION:Ukrainian National Museum\, 2249 W. Superior Street\, Chicago \, IL\, 60612\, United States
ATTACH;FMTTYPE=image/png:https://uccaillinois.org/wp-content/uploads/2024/02/pysanky.png
END:VEVENT
BEGIN:VEVENT
DTSTART;TZID=America/Chicago:20240413T110000
DTEND;TZID=America/Chicago:20240413T170000
DTSTAMP:20260425T055109
CREATED:20240420T005619Z
LAST-MODIFIED:20240420T005619Z
UID:8327-1713006000-1713027600@uccaillinois.org
SUMMARY:Marriage Conference
DESCRIPTION:Please join us for a Marriage Conference at the Ukrainian Baptist Church
URL:https://uccaillinois.org/event/marriage-conference/
LOCATION:Ukrainian Baptist Church\, 6751 Riverside Dr\, Berwyn\, IL\, 60402\, United States
ATTACH;FMTTYPE=image/jpeg:https://uccaillinois.org/wp-content/uploads/2024/04/image_123650291.jpg
END:VEVENT
BEGIN:VEVENT
DTSTART;TZID=America/Chicago:20240420T170000
DTEND;TZID=America/Chicago:20240420T193000
DTSTAMP:20260425T055109
CREATED:20240205T163907Z
LAST-MODIFIED:20240205T163915Z
UID:8009-1713632400-1713641400@uccaillinois.org
SUMMARY:St. Nicholas Cathedral Fundraising Event
DESCRIPTION:Fundraising Event to benefit the restoration of St. Nicholas Cathedral
URL:https://uccaillinois.org/event/st-nicholas-cathedral-fundraising-event-2/
LOCATION:Ukrainian Cultural Center\, 2247 W. Chicago Ave.\, Chicago\, IL\, 60622\, United States
ATTACH;FMTTYPE=image/jpeg:https://uccaillinois.org/wp-content/uploads/2024/02/st-nicholas-eric-allix-rogers-01.jpg
ORGANIZER;CN="Eparchy of St Nicholas Ukrainian Cathedral":MAILTO:mariya.kokor@esnucc.org
END:VEVENT
BEGIN:VEVENT
DTSTART;TZID=America/Chicago:20240421T130000
DTEND;TZID=America/Chicago:20240421T130000
DTSTAMP:20260425T055109
CREATED:20240314T233636Z
LAST-MODIFIED:20240407T133810Z
UID:8246-1713704400-1713704400@uccaillinois.org
SUMMARY:SavED - Save Ukraine's Schools
DESCRIPTION:Educators from Ukraine will focus on project to\nrebuild schools that were destroyed during the war.
URL:https://uccaillinois.org/event/saved-save-ukraines-schools/
LOCATION:Ukrainian Institute of Modern Art\, 2320 West Chicago Avenue\, Chicago\, IL\, 60622\, United States
ATTACH;FMTTYPE=image/png:https://uccaillinois.org/wp-content/uploads/2024/03/KMF-USA_horiz_for-light-backs_RGB.png
END:VEVENT
BEGIN:VEVENT
DTSTART;VALUE=DATE:20240424
DTEND;VALUE=DATE:20240425
DTSTAMP:20260425T055109
CREATED:20240501T021633Z
LAST-MODIFIED:20240501T021839Z
UID:8586-1713916800-1714003199@uccaillinois.org
SUMMARY:Ukranian-Owned Restaurant Chicago Waffles Debuts Three New Refreshing Cocktails Just in Time for Summer
DESCRIPTION:Chicago’s Favorite brunch destination is dropping new refreshing cocktails to sip under the summer sun. The Peach Martini\, made with smooth vodka\, fresh peach juice\, peach schnapps\, triple sec and lime juice is sure to capture the best of summer flavors in one sip. The Lemon Drop Martini made with vodka\, lemon juice\, and sour mix is sure to make a delicious\, sweet and mouth-puckering addition to your brunch The Barbie Sangria\, made with rose wine\, lemon juice\, simple syrup\, mint\, fresh berries\, and a splash of lemon-lime soda is sure to make a showstopping appearance at a girls’ brunch. \nKnown for their sweet and savory unique waffles\, bold burgers and creative cocktails\, Chicago Waffles prides themselves on preparing their full menu from scratch\, in-house daily. From a special deep-dish waffle iron and thicker batter to produce the perfect thickness and texture for a variety of mouthwatering toppings to homemade Bloody Mary mix\, the restaurant is known for a unique experience where quality comes first. Some of their menu standouts include sweet and savory waffles such as Green Tea\, Cheddar and Short Rib\, Cookies & Ice Cream and Blueberry Lemon Cheesecake. Other favorites include their bold burgers such as the Chi-Town Burger\, featuring an 8oz. Patty of Black Angus Beef\, topped high with mushrooms\, onions\, bacon\, cheese\, and a sunny side up egg served on a buttery pretzel roll. To drink\, Chicago Waffles offers fan-favorites including chocolate margaritas\, homemade Bloody Mary’s and mimosas. \nChicago Waffles offers dine-in service and online ordering for pickup directly through their website. Diners can enjoy delivery by placing a Chicago Waffles order via UberEats. All locations make the perfect catering option for everything from small-scale celebrations to large-scale private or corporate events with both buffet and individual style plate options. For more information on each location\, full menu or to place an order\, please visit www.chicagowaffles.com. \nSponsoring organizations: Chicago Waffles
URL:https://uccaillinois.org/event/ukranian-owned-restaurant-chicago-waffles-debuts-three-new-refreshing-cocktails-just-in-time-for-summer/
LOCATION:Chicago Waffles\, 1400 S Michigan Ave\, Chicago\, IL\, 60605\, United States
ATTACH;FMTTYPE=image/webp:https://uccaillinois.org/wp-content/uploads/2024/04/CHGO-WAFFLES.webp
ORGANIZER;CN="Chicago Waffles":MAILTO:stacey@heronagency.com
END:VEVENT
BEGIN:VEVENT
DTSTART;TZID=America/Chicago:20240424T070000
DTEND;TZID=America/Chicago:20240507T150000
DTSTAMP:20260425T055109
CREATED:20240507T013954Z
LAST-MODIFIED:20240507T013954Z
UID:8631-1713942000-1715094000@uccaillinois.org
SUMMARY:Ukranian-Owned Restaurant Chicago Waffles Debuts Three New Refreshing Cocktails Just in Time for Summer
DESCRIPTION:Event description: Chicago’s Favorite brunch destination is dropping new refreshing cocktails to sip under the summer sun. The Peach Martini\, made with smooth vodka\, fresh peach juice\, peach schnapps\, triple sec and lime juice is sure to capture the best of summer flavors in one sip. The Lemon Drop Martini made with vodka\, lemon juice\, and sour mix is sure to make a delicious\, sweet and mouth-puckering addition to your brunch The Barbie Sangria\, made with rose wine\, lemon juice\, simple syrup\, mint\, fresh berries\, and a splash of lemon-lime soda is sure to make a showstopping appearance at a girls’ brunch. \nKnown for their sweet and savory unique waffles\, bold burgers and creative cocktails\, Chicago Waffles prides themselves on preparing their full menu from scratch\, in-house daily. From a special deep-dish waffle iron and thicker batter to produce the perfect thickness and texture for a variety of mouthwatering toppings to homemade Bloody Mary mix\, the restaurant is known for a unique experience where quality comes first. Some of their menu standouts include sweet and savory waffles such as Green Tea\, Cheddar and Short Rib\, Cookies & Ice Cream and Blueberry Lemon Cheesecake. Other favorites include their bold burgers such as the Chi-Town Burger\, featuring an 8oz. Patty of Black Angus Beef\, topped high with mushrooms\, onions\, bacon\, cheese\, and a sunny side up egg served on a buttery pretzel roll. To drink\, Chicago Waffles offers fan-favorites including chocolate margaritas\, homemade Bloody Mary’s and mimosas. \nChicago Waffles offers dine-in service and online ordering for pickup directly through their website. Diners can enjoy delivery by placing a Chicago Waffles order via UberEats. All locations make the perfect catering option for everything from small-scale celebrations to large-scale private or corporate events with both buffet and individual style plate options. For more information on each location\, full menu or to place an order\, please visit www.chicagowaffles.com.
URL:https://uccaillinois.org/event/ukranian-owned-restaurant-chicago-waffles-debuts-three-new-refreshing-cocktails-just-in-time-for-summer-2/
LOCATION:Chicago Waffles\, 1400 S Michigan Ave\, Chicago\, IL\, 60605\, United States
ATTACH;FMTTYPE=image/webp:https://uccaillinois.org/wp-content/uploads/2024/04/CHGO-WAFFLES.webp
ORGANIZER;CN="Chicago Waffles":MAILTO:stacey@heronagency.com
END:VEVENT
BEGIN:VEVENT
DTSTART;TZID=America/Chicago:20240427T100000
DTEND;TZID=America/Chicago:20240427T140000
DTSTAMP:20260425T055109
CREATED:20240216T235940Z
LAST-MODIFIED:20240315T224225Z
UID:8070-1714212000-1714226400@uccaillinois.org
SUMMARY:Pysanka Workshop
DESCRIPTION:Let your creative juices flow as you create a piece of artwork to add to your treasure trove. \nEach workshop is 4 hours long from 10:am-2:pm. Dates: March 9\, March 23\, April 13\, April 27. Seating is limited to 18 participants per workshop. Participants must be 17 years of age or older. Registration fee $45 per person. \nRegister online: ukrainiannationalmuseum.org/workshops/
URL:https://uccaillinois.org/event/pysanka-workshop-3/
LOCATION:Ukrainian National Museum\, 2249 W. Superior Street\, Chicago \, IL\, 60612\, United States
ATTACH;FMTTYPE=image/png:https://uccaillinois.org/wp-content/uploads/2024/02/pysanky.png
END:VEVENT
BEGIN:VEVENT
DTSTART;TZID=America/Chicago:20240428T133000
DTEND;TZID=America/Chicago:20240428T170000
DTSTAMP:20260425T055109
CREATED:20240428T020402Z
LAST-MODIFIED:20240428T020402Z
UID:8558-1714311000-1714323600@uccaillinois.org
SUMMARY:UCCA Annual Board Meeting
DESCRIPTION:UCCA Annual Board Meeting will be held on April 28\, 2024 at 1:30 pm\nThe community is invited.\nAll who have paid their 2023/2024 membership dues have the right to vote at the meeting \n  \n 
URL:https://uccaillinois.org/event/ucca-annual-board-meeting/
LOCATION:Ukrainian Cultural Center\, 2247 W. Chicago Ave.\, Chicago\, IL\, 60622\, United States
ATTACH;FMTTYPE=image/png:https://uccaillinois.org/wp-content/uploads/2024/04/UCCA-50th-logo.png
END:VEVENT
END:VCALENDAR