BEGIN:VCALENDAR
VERSION:2.0
PRODID:-//UCCA - ECPv6.15.20//NONSGML v1.0//EN
CALSCALE:GREGORIAN
METHOD:PUBLISH
X-WR-CALNAME:UCCA
X-ORIGINAL-URL:https://uccaillinois.org
X-WR-CALDESC:Events for UCCA
REFRESH-INTERVAL;VALUE=DURATION:PT1H
X-Robots-Tag:noindex
X-PUBLISHED-TTL:PT1H
BEGIN:VTIMEZONE
TZID:America/Chicago
BEGIN:DAYLIGHT
TZOFFSETFROM:-0600
TZOFFSETTO:-0500
TZNAME:CDT
DTSTART:20150308T080000
END:DAYLIGHT
BEGIN:STANDARD
TZOFFSETFROM:-0500
TZOFFSETTO:-0600
TZNAME:CST
DTSTART:20151101T070000
END:STANDARD
BEGIN:DAYLIGHT
TZOFFSETFROM:-0600
TZOFFSETTO:-0500
TZNAME:CDT
DTSTART:20160313T080000
END:DAYLIGHT
BEGIN:STANDARD
TZOFFSETFROM:-0500
TZOFFSETTO:-0600
TZNAME:CST
DTSTART:20161106T070000
END:STANDARD
BEGIN:DAYLIGHT
TZOFFSETFROM:-0600
TZOFFSETTO:-0500
TZNAME:CDT
DTSTART:20170312T080000
END:DAYLIGHT
BEGIN:STANDARD
TZOFFSETFROM:-0500
TZOFFSETTO:-0600
TZNAME:CST
DTSTART:20171105T070000
END:STANDARD
BEGIN:DAYLIGHT
TZOFFSETFROM:-0600
TZOFFSETTO:-0500
TZNAME:CDT
DTSTART:20180311T080000
END:DAYLIGHT
BEGIN:STANDARD
TZOFFSETFROM:-0500
TZOFFSETTO:-0600
TZNAME:CST
DTSTART:20181104T070000
END:STANDARD
END:VTIMEZONE
BEGIN:VEVENT
DTSTART;TZID=America/Chicago:20170225T183000
DTEND;TZID=America/Chicago:20170225T183000
DTSTAMP:20260425T074818
CREATED:20161022T223648Z
LAST-MODIFIED:20161204T045505Z
UID:611-1488047400-1488047400@uccaillinois.org
SUMMARY:St. Nicholas Cathedral School 80th Anniversary Gala Dinner Dance
DESCRIPTION:Come and celebrate the 80th Anniversary of St. Nicholas Cathedral School
URL:https://uccaillinois.org/event/st-nicholas-cathedral-school-80th-anniversary-gala-dinner-dance/
LOCATION:Hyatt Regency Rosemont\, 9300 Bryn Mawr Ave\, Rosemont\, IL\, 60018\, United States
ORGANIZER;CN="St. Nicholas Cathedral School":MAILTO:juliakash@uccaillinois.orgsbcglobal.net
END:VEVENT
BEGIN:VEVENT
DTSTART;TZID=America/Chicago:20170212T133000
DTEND;TZID=America/Chicago:20170212T153000
DTSTAMP:20260425T074818
CREATED:20161124T021943Z
LAST-MODIFIED:20161204T045505Z
UID:1462-1486906200-1486913400@uccaillinois.org
SUMMARY:Distinguished Speakers Presentation - Johanan Petrovsky-Shtern
DESCRIPTION:The Ukrainian Institute of Modern Art\, Kyiv Mohyla Foundation and Chicago Business and Professional Group  present the Distinguished Speakers Series with Johanan Petrovsky-Shtern\, Crown Family Professor of Jewish Studies and Professor of Jewish History. He recently  published book\, “Jews and Ukrainians: A Millennium of Co-Existence explores the idea that there is much that ordinary Ukrainians do not know about Jews and that ordinary Jews do not know about Ukrainians. As a result\, those Jews and Ukrainians who may care about their respective ancestral heritages usually view each other through distorted stereotypes\, misperceptions\, and biases. This book sheds new light on highly controversial moments of Ukrainian-Jewish relations and argues that the historical experience in Ukraine not only divided ethnic Ukrainians and Jews but also brought them together.
URL:https://uccaillinois.org/event/distinguished-speakers-presentation-johann-petrovsky-stern/
LOCATION:Ukrainian Institute of Modern Art\, 2320 West Chicago Avenue\, Chicago\, IL\, 60622\, United States
END:VEVENT
BEGIN:VEVENT
DTSTART;TZID=America/Chicago:20161228T183000
DTEND;TZID=America/Chicago:20161228T193000
DTSTAMP:20260425T074818
CREATED:20160729T025948Z
LAST-MODIFIED:20161204T045505Z
UID:291-1482949800-1482953400@uccaillinois.org
SUMMARY:YOGA at the UNM
DESCRIPTION:Yoga can change your physical and mental capacity quickly\, while preparing the mind and body for long-term health. \nCome to the UNM every Wednesday at 6:30 pm and bring your own mat. \n$10/session \nPlease RSVP:  312.421.8020 or email:  info@uccaillinois.orgukrainiannationaluseum.org
URL:https://uccaillinois.org/event/yoga-at-the-ukrainian-national-museum-22/
LOCATION:Ukrainian National Museum\, 2249 W. Superior Street\, Chicago \, IL\, 60612\, United States
END:VEVENT
BEGIN:VEVENT
DTSTART;TZID=America/Chicago:20161221T183000
DTEND;TZID=America/Chicago:20161221T193000
DTSTAMP:20260425T074818
CREATED:20160729T025925Z
LAST-MODIFIED:20161204T045505Z
UID:290-1482345000-1482348600@uccaillinois.org
SUMMARY:YOGA at the UNM
DESCRIPTION:Yoga can change your physical and mental capacity quickly\, while preparing the mind and body for long-term health. \nCome to the UNM every Wednesday at 6:30 pm and bring your own mat. \n$10/session \nPlease RSVP:  312.421.8020 or email:  info@uccaillinois.orgukrainiannationaluseum.org
URL:https://uccaillinois.org/event/yoga-at-the-ukrainian-national-museum-21/
LOCATION:Ukrainian National Museum\, 2249 W. Superior Street\, Chicago \, IL\, 60612\, United States
END:VEVENT
BEGIN:VEVENT
DTSTART;TZID=America/Chicago:20161214T183000
DTEND;TZID=America/Chicago:20161214T193000
DTSTAMP:20260425T074818
CREATED:20160729T025901Z
LAST-MODIFIED:20161204T045505Z
UID:289-1481740200-1481743800@uccaillinois.org
SUMMARY:YOGA at the UNM
DESCRIPTION:Yoga can change your physical and mental capacity quickly\, while preparing the mind and body for long-term health. \nCome to the UNM every Wednesday at 6:30 pm and bring your own mat. \n$10/session \nPlease RSVP:  312.421.8020 or email:  info@uccaillinois.orgukrainiannationaluseum.org
URL:https://uccaillinois.org/event/yoga-at-the-ukrainian-national-museum-20/
LOCATION:Ukrainian National Museum\, 2249 W. Superior Street\, Chicago \, IL\, 60612\, United States
END:VEVENT
BEGIN:VEVENT
DTSTART;TZID=America/Chicago:20161207T183000
DTEND;TZID=America/Chicago:20161207T193000
DTSTAMP:20260425T074818
CREATED:20160729T025829Z
LAST-MODIFIED:20161204T045505Z
UID:288-1481135400-1481139000@uccaillinois.org
SUMMARY:YOGA at the Ukrainian National Museum
DESCRIPTION:Yoga can change your physical and mental capacity quickly\, while preparing the mind and body for long-term health. \nCome to the UNM every Wednesday at 6:30 pm and bring your own mat. \n$10/session \nPlease RSVP:  312.421.8020 or email:  info@uccaillinois.orgukrainiannationaluseum.org
URL:https://uccaillinois.org/event/yoga-at-the-ukrainian-national-museum-19/
LOCATION:Ukrainian National Museum\, 2249 W. Superior Street\, Chicago \, IL\, 60612\, United States
END:VEVENT
BEGIN:VEVENT
DTSTART;TZID=America/Chicago:20161204T130000
DTEND;TZID=America/Chicago:20161204T130000
DTSTAMP:20260425T074818
CREATED:20161022T221742Z
LAST-MODIFIED:20161204T045505Z
UID:606-1480856400-1480856400@uccaillinois.org
SUMMARY:Bria Blessing in concert at Ukrainian Institute of Modern Art
DESCRIPTION:Українське Незалежне Радіо та Український Інститут Модерного Мистецтва запрошує громаду на концерт Брії Блессінґ. \nUkrainian Independent Radio and the Ukrainian Institute of Modern Art invite you to a first time concert of Bria Blessing. Bria Blessing is known in Ukraine as “an American with a Ukrainian soul.” She is a young and talented singer and musician who was born in Sugar Land\, Texas\, a Houston suburb. Her family moved to live in Ukraine when Bria was only 13 years old\, and for over 20 years she has been living\, working\, and performing in Lviv\, Ukraine.\nIn August of 2015\, this talented singer travelled to her native United States and Canada to give 12 charity concerts in support of victims of the war in Ukraine. She sings in both Ukrainian and English.
URL:https://uccaillinois.org/event/bria-blessing-in-concert-at-ukrainian-institute-of-modern-art-2/
LOCATION:Ukrainian Institute of Modern Art\, 2320 West Chicago Avenue\, Chicago\, IL\, 60622\, United States
END:VEVENT
BEGIN:VEVENT
DTSTART;TZID=America/Chicago:20161204T080000
DTEND;TZID=America/Chicago:20161204T170000
DTSTAMP:20260425T074818
CREATED:20161204T044532Z
LAST-MODIFIED:20161204T044532Z
UID:1571-1480838400-1480870800@uccaillinois.org
SUMMARY:Bria Blessing in concert at Ukrainian Institute of Modern Art
DESCRIPTION:Українське Незалежне Радіо та Український Інститут Модерного Мистецтва запрошує громаду на концерт Брії Блессінґ. \nUkrainian Independent Radio and the Ukrainian Institute of Modern Art invite you to a first time concert of Bria Blessing. Bria Blessing is known in Ukraine as “an American with a Ukrainian soul.” She is a young and talented singer and musician who was born in Sugar Land\, Texas\, a Houston suburb. Her family moved to live in Ukraine when Bria was only 13 years old\, and for over 20 years she has been living\, working\, and performing in Lviv\, Ukraine.\nIn August of 2015\, this talented singer travelled to her native United States and Canada to give 12 charity concerts in support of victims of the war in Ukraine. She sings in both Ukrainian and English.
URL:https://uccaillinois.org/event/bria-blessing-in-concert-at-ukrainian-institute-of-modern-art/
LOCATION:Ukrainian Institute of Modern Art\, 2320 West Chicago Avenue\, Chicago\, IL\, 60622\, United States
END:VEVENT
BEGIN:VEVENT
DTSTART;TZID=America/Chicago:20161202T190000
DTEND;TZID=America/Chicago:20161202T190000
DTSTAMP:20260425T074818
CREATED:20161120T142441Z
LAST-MODIFIED:20161204T045505Z
UID:1336-1480705200-1480705200@uccaillinois.org
SUMMARY:Myths and Madness - Presentation and Book Signing at Ukrainian Institute of Modern Art
DESCRIPTION:A mythical quest for love and freedom during Ukraine’s Revolution of Dignity.Presentation and book signing by local author Daniel Hryhorczuk.Forwards by Father Myron Panchuk and Dr. Andrew Ripecky.
URL:https://uccaillinois.org/event/myths-and-madness-presentation-and-book-signing/
LOCATION:Ukrainian Institute of Modern Art\, 2320 West Chicago Avenue\, Chicago\, IL\, 60622\, United States
END:VEVENT
BEGIN:VEVENT
DTSTART;TZID=America/Chicago:20161130T183000
DTEND;TZID=America/Chicago:20161130T193000
DTSTAMP:20260425T074818
CREATED:20160729T025738Z
LAST-MODIFIED:20161204T045505Z
UID:287-1480530600-1480534200@uccaillinois.org
SUMMARY:YOGA at UNM
DESCRIPTION:Yoga can change your physical and mental capacity quickly\, while preparing the mind and body for long-term health. \nCome to the Ukrainian National Museum every Wednesday at 6:30 pm and bring your own mat. \n$10/session \nPlease RSVP:  312.421.8020 or email:  info@uccaillinois.orgukrainiannationaluseum.org
URL:https://uccaillinois.org/event/yoga-at-the-ukrainian-national-museum-18/
LOCATION:Ukrainian National Museum\, 2249 W. Superior Street\, Chicago \, IL\, 60612\, United States
END:VEVENT
BEGIN:VEVENT
DTSTART;TZID=America/Chicago:20161123T183000
DTEND;TZID=America/Chicago:20161123T193000
DTSTAMP:20260425T074818
CREATED:20160729T025713Z
LAST-MODIFIED:20161204T045505Z
UID:286-1479925800-1479929400@uccaillinois.org
SUMMARY:YOGA at UNM
DESCRIPTION:                                                 Yoga can change your physical and mental capacity quickly\, while       preparing the mind and body for long-term health. \nCome to the Ukrainian National Museum  every Wednesday at 6:30 pm and bring your own mat. \n$10/session \nPlease RSVP:  312.421.8020 or email:  info@uccaillinois.orgukrainiannationaluseum.org
URL:https://uccaillinois.org/event/yoga-at-the-ukrainian-national-museum-17/
LOCATION:Ukrainian National Museum\, 2249 W. Superior Street\, Chicago \, IL\, 60612\, United States
END:VEVENT
BEGIN:VEVENT
DTSTART;TZID=America/Chicago:20161119T180000
DTEND;TZID=America/Chicago:20161119T180000
DTSTAMP:20260425T074818
CREATED:20161022T025916Z
LAST-MODIFIED:20161204T045505Z
UID:581-1479578400-1479578400@uccaillinois.org
SUMMARY:Immaculate Conception Ukrainian Byzantine Catholic Church 2nd Annual Gala (Palatine)
DESCRIPTION:Please join us for our 2nd Annual Gala Fundraiser for the building of our new church and shrine. Ticket price includes drink ticket\, sit down dinner\, dancing\, and a  silent auction!\nMost Rev. Stefan Soroka\, Metropolitan-Archbishop of Philadelphia will be the guest speaker. \nPlease contact Jill Panko (224) 388-6149\nemail: jillpanko@uccaillinois.orgyahoo.com
URL:https://uccaillinois.org/event/fundraiser-immaculate-conception-ukr-byzantine-cath-church-2nd-annual-gala-palatine/
LOCATION:European Crystal Banquet and Conference Center\, 519 W. Algonquin Rd\, Arlington Heights\, IL\, 60005\, United States
END:VEVENT
BEGIN:VEVENT
DTSTART;TZID=America/Chicago:20161119T100000
DTEND;TZID=America/Chicago:20161120T150000
DTSTAMP:20260425T074818
CREATED:20161021T004513Z
LAST-MODIFIED:20161204T045505Z
UID:564-1479549600-1479654000@uccaillinois.org
SUMMARY:UKRAINIAN  VILLAGE  FARMER'S  MARKET  &  ARTISAN   FAIR
DESCRIPTION:Come and enjoy\nOrganic and gourmet food\, baked goods\, honey\, jewelry\, artwork\, handmade gifts\nHuge Children’s Book Fair\nChildren’s Fun Area\niPad raffle  and much more! \nIf you are interested in being a vendor\, please email us at ukrainianvillagemarket@uccaillinois.orggmail.com as applications are ready!
URL:https://uccaillinois.org/event/farmers-market-ukrainian-village-farmers-market-and-artisan-fair-chg/
LOCATION:St. Nicholas Cathedral School\, 2200 W. Rice Street\, Chicago\, IL\, 60622\, United States
ORGANIZER;CN="Natalka":MAILTO:ukrainianvillagemarket@uccaillinois.orggmail.com
END:VEVENT
BEGIN:VEVENT
DTSTART;TZID=America/Chicago:20161116T183000
DTEND;TZID=America/Chicago:20161116T193000
DTSTAMP:20260425T074818
CREATED:20160729T025649Z
LAST-MODIFIED:20161204T045505Z
UID:285-1479321000-1479324600@uccaillinois.org
SUMMARY:YOGA at the UNM
DESCRIPTION:    \nYoga can change your physical and mental capacity quickly\, while preparing the mind and body for long-term health. \nCome to the Ukrainian National Museum every Wednesday at 6:30 pm and bring your own mat. \n$10/session \nPlease RSVP:  312.421.8020 or email:  info@uccaillinois.orgukrainiannationaluseum.or \n                                     
URL:https://uccaillinois.org/event/yoga-at-the-ukrainian-national-museum-16/
LOCATION:Ukrainian National Museum\, 2249 W. Superior Street\, Chicago \, IL\, 60612\, United States
END:VEVENT
BEGIN:VEVENT
DTSTART;TZID=America/Chicago:20161109T183000
DTEND;TZID=America/Chicago:20161109T193000
DTSTAMP:20260425T074818
CREATED:20160729T025610Z
LAST-MODIFIED:20161204T045505Z
UID:284-1478716200-1478719800@uccaillinois.org
SUMMARY:YOGA at the UNM
DESCRIPTION:Yoga can change your physical and mental capacity quickly\, while preparing the mind and body for long-term health. \nCome to the Ukrainian National Museum every Wednesday at 6:30 pm and bring your own mat. \n$10/session \nPlease RSVP:  312.421.8020 or email:  info@uccaillinois.orgukrainiannationaluseum.org
URL:https://uccaillinois.org/event/yoga-at-the-ukrainian-national-museum-15/
LOCATION:Ukrainian National Museum\, 2249 W. Superior Street\, Chicago \, IL\, 60612\, United States
END:VEVENT
BEGIN:VEVENT
DTSTART;TZID=America/Chicago:20161106T130000
DTEND;TZID=America/Chicago:20161106T130000
DTSTAMP:20260425T074818
CREATED:20161022T135312Z
LAST-MODIFIED:20161204T045505Z
UID:587-1478437200-1478437200@uccaillinois.org
SUMMARY:ЛИСТОПАДОВИЙ  ЗРИВ
DESCRIPTION:Український Конґресовий Комітет Америки–Відділ Ілліной запрошує громаду на Візначення 100–ліття подій бойового літопису полку Українських Січових Стрільчів на горі Лисонній.
URL:https://uccaillinois.org/event/%d0%bb%d0%b8%d1%81%d1%82%d0%be%d0%bf%d0%b0%d0%b4%d0%be%d0%b2%d0%b8%d0%b9-%d0%b7%d1%80%d0%b8%d0%b2/
LOCATION:Sts. Volodymyr and Olha Ukrainian Cаtholic Church Auditorium\, 2247 West Superior Street\, Chicago\, IL\, 60622\, United States
END:VEVENT
BEGIN:VEVENT
DTSTART;TZID=America/Chicago:20161104T190000
DTEND;TZID=America/Chicago:20161127T170000
DTSTAMP:20260425T074818
CREATED:20161028T010425Z
LAST-MODIFIED:20161204T045506Z
UID:685-1478286000-1480266000@uccaillinois.org
SUMMARY:Journey into Paradise ~ Art Exhibit at UNM
DESCRIPTION:Art Exhibit by Volodymyr Podlevsky and Svitlana Moiseieva\n Opening Reception Friday\, November 4\, 2016\, 7:00 pm ~ $10.00 \nA marriage of art and life\, the artists Volodymyr Podlevsky and Svitlana Moiseieva will exhibit their oil paintings in a joint showing at the Ukrainian National Museum. They are husband and wife and have both been classically trained in Ukraine. While their styles and techniques are different\, the joy of life\, nuances of Ukrainian culture and beauty is individually captured in their works. \nVolodymyr Podlevsky was born in the Zhytomyr Region of Ukraine\, in 1985 he finished the Lviv Institute of Applied and Decorative Arts. His artwork has been displayed in over 30 exhibits in the United States and Ukraine 1990-2016. Svitlana Moiseieva\, Podlevskys wife\, was born in Chernihiv\, Ukraine. After completing the Chernihiv Academy of Art in 1990\, she studied iconography at the St. Michael the Archangel Church. Her works can be found in private collections in Ukraine\, Russia\, and Western Europe. \nThe Ukrainian National Museum is located in the heart of the Ukrainian Village\, at 2249 West Superior Street in Chicago. \nHours: Thursday through Sunday\, 11:00 am to 4:00 pm \nAdmission: Adults $5.00\, Children under 12 – Free\nFree Parking is available beside the Museum. \nFor additional information\, please call (312) 421-8020 or\ne-mail info@uccaillinois.orgUkrainianNationalMuseum.org
URL:https://uccaillinois.org/event/journey-into-paradise/
LOCATION:Ukrainian National Museum\, 2249 W. Superior Street\, Chicago \, IL\, 60612\, United States
END:VEVENT
BEGIN:VEVENT
DTSTART;TZID=America/Chicago:20161102T183000
DTEND;TZID=America/Chicago:20161102T193000
DTSTAMP:20260425T074818
CREATED:20160729T025405Z
LAST-MODIFIED:20161204T045515Z
UID:282-1478111400-1478115000@uccaillinois.org
SUMMARY:YOGA at the UNM
DESCRIPTION:Yoga can change your physical and mental capacity quickly\, while preparing the mind and body for long-term health. \nCome to the Ukrainian National Museum every Wednesday at 6:30 pm and bring your own mat. \n$10/session \nPlease RSVP:  312.421.8020 or email:  info@uccaillinois.orgukrainiannationaluseum.org
URL:https://uccaillinois.org/event/yoga-at-the-ukrainian-national-museum-14/
LOCATION:Ukrainian National Museum\, 2249 W. Superior Street\, Chicago \, IL\, 60612\, United States
END:VEVENT
BEGIN:VEVENT
DTSTART;TZID=America/Chicago:20161030T140000
DTEND;TZID=America/Chicago:20161030T140000
DTSTAMP:20260425T074818
CREATED:20160724T194006Z
LAST-MODIFIED:20161204T045515Z
UID:209-1477836000-1477836000@uccaillinois.org
SUMMARY:CHICAGO GALA BENEFIT FOR UKRAINIAN CATHOLIC UNIVERSITY
DESCRIPTION:Gala Banquet to raise funds for the Ukrainian Catholic University in Lviv\, Ukraine. \nConfirmed speakers: Bishop Borys Gudziak and Former Ukraine’s Minister of Finance\, Natalie Jaresko \n  \nVIP Reception and Cocktail Reception: 1:00 pm\n Luncheon: 2:00 pm
URL:https://uccaillinois.org/event/chicago-gala-benefit/
LOCATION:Ritz Carlton Hotel\, 160 East Pearson Street\, Chicago\, IL\, 60611\, United States
ORGANIZER;CN="UCEF - Sonia Hrynewycz":MAILTO: soniah@uccaillinois.orgucef.org 
END:VEVENT
BEGIN:VEVENT
DTSTART;TZID=America/Chicago:20161028T193000
DTEND;TZID=America/Chicago:20161028T193000
DTSTAMP:20260425T074818
CREATED:20161021T013740Z
LAST-MODIFIED:20161204T045515Z
UID:572-1477683000-1477683000@uccaillinois.org
SUMMARY:KYIV CHAMBER CHOIR  ~ THE SOUNDS OF UKRAINE
DESCRIPTION:The award winning Kyiv Chamber Choir and Conductor Mykola Hobdych will present a concert in St. Nicholas Cathedral. Come and enjoy one of the world’s best choirs\, performing some of the most popular music of Ukraine.
URL:https://uccaillinois.org/event/the-sounds-of-ukraine-kyiv-chamber-choir/
LOCATION:The Village Strings Musical Event\, 2238 W. Rice Street\, Chicago\, IL\, 60622\, United States
END:VEVENT
BEGIN:VEVENT
DTSTART;TZID=America/Chicago:20161026T183000
DTEND;TZID=America/Chicago:20161026T193000
DTSTAMP:20260425T074818
CREATED:20160729T025336Z
LAST-MODIFIED:20161204T045515Z
UID:281-1477506600-1477510200@uccaillinois.org
SUMMARY:YOGA at the Ukrainian National Museum
DESCRIPTION:Yoga can change your physical and mental capacity quickly\, while preparing the mind and body for long-term health. \nCome to the UNM every Wednesday at 6:30 pm and bring your own mat. \n$10/session \nPlease RSVP:  312.421.8020 or email:  info@uccaillinois.orgukrainiannationaluseum.org
URL:https://uccaillinois.org/event/yoga-at-the-ukrainian-national-museum-13/
LOCATION:Ukrainian National Museum\, 2249 W. Superior Street\, Chicago \, IL\, 60612\, United States
END:VEVENT
BEGIN:VEVENT
DTSTART;TZID=America/Chicago:20161022T080000
DTEND;TZID=America/Chicago:20161022T170000
DTSTAMP:20260425T074818
CREATED:20161022T221131Z
LAST-MODIFIED:20161204T045516Z
UID:602-1477123200-1477155600@uccaillinois.org
SUMMARY:Bria Blessing -Брія Блессінґ - Концерт
DESCRIPTION:Українське Незалежне Радіо та Український Інститут Модерного Мистецтва запрошує громаду на концерт Брії Блессінґ. \nUkrainian Independent Radio  and the Ukrainian Institute of Modern Art invite you to a first time concert of Bria Blessing. Bria Blessing is known in Ukraine as “an American with Ukrainian soul.” She is a young and talented singer and musician who was born in Sugar Land\, Texas\, a Houston suburb. Her family moved to live in Ukraine when Bria was only 13 years old\, and for over 20 years she has been living\, working\, and performing in Lviv\, Ukraine.\nIn August of 2015\, this talented singer travelled to her native United States and Canada to give 12 charity concerts in support of victims of the war in Ukraine. She sings in both Ukrainian and English.
URL:https://uccaillinois.org/event/bria-blessing-%d0%b1%d1%80%d1%96%d1%8f-%d0%b1%d0%bb%d0%b5%d1%81%d1%81%d1%96%d0%bd%d2%91-%d0%ba%d0%be%d0%bd%d1%86%d0%b5%d1%80%d1%82/
LOCATION:IL
END:VEVENT
BEGIN:VEVENT
DTSTART;TZID=America/Chicago:20161021T080000
DTEND;TZID=America/Chicago:20161021T170000
DTSTAMP:20260425T074818
CREATED:20161021T021759Z
LAST-MODIFIED:20161204T045516Z
UID:579-1477036800-1477069200@uccaillinois.org
SUMMARY:MEMBERS\, FRIENDS AND DONORS
DESCRIPTION:The Ukrainian Institute of Modern Art hosts
URL:https://uccaillinois.org/event/members-friends-and-donors/
LOCATION:IL
END:VEVENT
BEGIN:VEVENT
DTSTART;TZID=America/Chicago:20161019T183000
DTEND;TZID=America/Chicago:20161019T193000
DTSTAMP:20260425T074818
CREATED:20160729T025313Z
LAST-MODIFIED:20161204T045516Z
UID:280-1476901800-1476905400@uccaillinois.org
SUMMARY:YOGA at the Ukrainian National Museum
DESCRIPTION:Yoga can change your physical and mental capacity quickly\, while preparing the mind and body for long-term health. \nCome to the UNM every Wednesday at 6:30 pm and bring your own mat. \n$10/session \nPlease RSVP:  312.421.8020 or email:  info@uccaillinois.orgukrainiannationaluseum.org
URL:https://uccaillinois.org/event/yoga-at-the-ukrainian-national-museum-12/
LOCATION:Ukrainian National Museum\, 2249 W. Superior Street\, Chicago \, IL\, 60612\, United States
END:VEVENT
BEGIN:VEVENT
DTSTART;TZID=America/Chicago:20161015T180000
DTEND;TZID=America/Chicago:20161015T180000
DTSTAMP:20260425T074818
CREATED:20160731T203934Z
LAST-MODIFIED:20161204T045516Z
UID:369-1476554400-1476554400@uccaillinois.org
SUMMARY:Ukrainian American Veterans 69th National Convention Banquet
DESCRIPTION:Our event is a celebratory banquet for Honorably Discharged Veterans of the United States Armed Forces\, who are of Ukrainian heritage or descent. Post 32 – Chicago\, IL\, led by Commander Peter Bencak\, is honored to host this 69th National convention where we invite hundreds of Ukrainian American veterans belonging to UAV Posts throughout the United States.
URL:https://uccaillinois.org/event/ukrainian-american-veterans-69th-national-convention-banquet/
LOCATION:Sts. Volodymyr and Olha Ukrainian Cаtholic Church Auditorium\, 2247 West Superior Street\, Chicago\, IL\, 60622\, United States
ORGANIZER;CN="Ukrainian American Veterans 69th National Convention":MAILTO:horbenko@uccaillinois.orgcomcast.net or johnsteciw@uccaillinois.orgsbcglobal.net
END:VEVENT
BEGIN:VEVENT
DTSTART;TZID=America/Chicago:20161012T183000
DTEND;TZID=America/Chicago:20161012T193000
DTSTAMP:20260425T074818
CREATED:20160729T025239Z
LAST-MODIFIED:20161204T045516Z
UID:279-1476297000-1476300600@uccaillinois.org
SUMMARY:YOGA at the Ukrainian National Museum
DESCRIPTION:Yoga can change your physical and mental capacity quickly\, while preparing the mind and body for long-term health. \nCome to the UNM every Wednesday at 6:30 pm and bring your own mat. \n$10/session \nPlease RSVP:  312.421.8020 or email:  info@uccaillinois.orgukrainiannationaluseum.org
URL:https://uccaillinois.org/event/yoga-at-the-ukrainian-national-museum-11/
LOCATION:Ukrainian National Museum\, 2249 W. Superior Street\, Chicago \, IL\, 60612\, United States
END:VEVENT
BEGIN:VEVENT
DTSTART;TZID=America/Chicago:20161009T130000
DTEND;TZID=America/Chicago:20161009T160000
DTSTAMP:20260425T074818
CREATED:20160730T195042Z
LAST-MODIFIED:20161204T045516Z
UID:360-1476018000-1476028800@uccaillinois.org
SUMMARY:UKRAINIAN GENOCIDE REMEMBRANCE DAY
DESCRIPTION:Ukrainian Genocide Famine Foundation\, USA  invites the community to participate in an Ecumenical Memorial Service for 10\,000\,000 victims of the 1932-1933 Ukrainian Genocide. \nThe religious observance will be followed by a traditional “Holodnyi Obid” (luncheon) and commemorative program  in the church auditorium. \nAll community organizations are asked to refrain from holding events today in order to commemorate the Ukrainian Genocide (Holodomor) as a unified community. \n  \n$10 for luncheon
URL:https://uccaillinois.org/event/community-remembrance-ukrainian-genocide-remembrance-day/
LOCATION:Sts. Volodymyr and Olha Ukrainian Catholic Church\, 739 North Oakley Boulevard\, Chicago\, IL\, 60612\, United States
END:VEVENT
BEGIN:VEVENT
DTSTART;TZID=America/Chicago:20161005T183000
DTEND;TZID=America/Chicago:20161005T193000
DTSTAMP:20260425T074818
CREATED:20160729T025213Z
LAST-MODIFIED:20161204T045516Z
UID:278-1475692200-1475695800@uccaillinois.org
SUMMARY:YOGA at the Ukrainian National Museum
DESCRIPTION:Yoga can change your physical and mental capacity quickly\, while preparing the mind and body for long-term health. \nCome to the UNM every Wednesday at 6:30 pm and bring your own mat. \n$10/session \nPlease RSVP:  312.421.8020 or email:  info@uccaillinois.orgukrainiannationaluseum.org
URL:https://uccaillinois.org/event/yoga-at-the-ukrainian-national-museum-10/
LOCATION:Ukrainian National Museum\, 2249 W. Superior Street\, Chicago \, IL\, 60612\, United States
END:VEVENT
BEGIN:VEVENT
DTSTART;TZID=America/Chicago:20160928T183000
DTEND;TZID=America/Chicago:20160928T193000
DTSTAMP:20260425T074818
CREATED:20160729T025141Z
LAST-MODIFIED:20161204T045516Z
UID:277-1475087400-1475091000@uccaillinois.org
SUMMARY:YOGA  at the Ukrainian National Museum
DESCRIPTION:Yoga can change your physical and mental capacity quickly\, while preparing the mind and body for long-term health. \nCome to the UNM every Wednesday at 6:30 pm and bring your own mat. \n$10/session \nPlease RSVP:  312.421.8020 or email:  info@uccaillinois.orgukrainiannationaluseum.org
URL:https://uccaillinois.org/event/yoga-at-the-ukrainian-national-museum-9/
LOCATION:Ukrainian National Museum\, 2249 W. Superior Street\, Chicago \, IL\, 60612\, United States
END:VEVENT
BEGIN:VEVENT
DTSTART;TZID=America/Chicago:20160921T183000
DTEND;TZID=America/Chicago:20160921T193000
DTSTAMP:20260425T074818
CREATED:20160729T025108Z
LAST-MODIFIED:20161204T045516Z
UID:276-1474482600-1474486200@uccaillinois.org
SUMMARY:YOGA at the Ukrainian National Museum
DESCRIPTION:Yoga can change your physical and mental capacity quickly\, while preparing the mind and body for long-term health. \nCome to the UNM every Wednesday at 6:30 pm and bring your own mat. \n$10/session \nPlease RSVP:  312.421.8020 or email:  info@uccaillinois.orgukrainiannationaluseum.org
URL:https://uccaillinois.org/event/yoga-at-the-ukrainian-national-museum-8/
LOCATION:Ukrainian National Museum\, 2249 W. Superior Street\, Chicago \, IL\, 60612\, United States
END:VEVENT
END:VCALENDAR