BEGIN:VCALENDAR
VERSION:2.0
PRODID:-//UCCA - ECPv6.15.20//NONSGML v1.0//EN
CALSCALE:GREGORIAN
METHOD:PUBLISH
X-WR-CALNAME:UCCA
X-ORIGINAL-URL:https://uccaillinois.org
X-WR-CALDESC:Events for UCCA
REFRESH-INTERVAL;VALUE=DURATION:PT1H
X-Robots-Tag:noindex
X-PUBLISHED-TTL:PT1H
BEGIN:VTIMEZONE
TZID:America/Chicago
BEGIN:DAYLIGHT
TZOFFSETFROM:-0600
TZOFFSETTO:-0500
TZNAME:CDT
DTSTART:20230312T080000
END:DAYLIGHT
BEGIN:STANDARD
TZOFFSETFROM:-0500
TZOFFSETTO:-0600
TZNAME:CST
DTSTART:20231105T070000
END:STANDARD
BEGIN:DAYLIGHT
TZOFFSETFROM:-0600
TZOFFSETTO:-0500
TZNAME:CDT
DTSTART:20240310T080000
END:DAYLIGHT
BEGIN:STANDARD
TZOFFSETFROM:-0500
TZOFFSETTO:-0600
TZNAME:CST
DTSTART:20241103T070000
END:STANDARD
BEGIN:DAYLIGHT
TZOFFSETFROM:-0600
TZOFFSETTO:-0500
TZNAME:CDT
DTSTART:20250309T080000
END:DAYLIGHT
BEGIN:STANDARD
TZOFFSETFROM:-0500
TZOFFSETTO:-0600
TZNAME:CST
DTSTART:20251102T070000
END:STANDARD
BEGIN:DAYLIGHT
TZOFFSETFROM:-0600
TZOFFSETTO:-0500
TZNAME:CDT
DTSTART:20260308T080000
END:DAYLIGHT
BEGIN:STANDARD
TZOFFSETFROM:-0500
TZOFFSETTO:-0600
TZNAME:CST
DTSTART:20261101T070000
END:STANDARD
END:VTIMEZONE
BEGIN:VEVENT
DTSTART;VALUE=DATE:20250104
DTEND;VALUE=DATE:20250105
DTSTAMP:20260423T164902
CREATED:20240128T164642Z
LAST-MODIFIED:20241113T003053Z
UID:7911-1735948800-1736035199@uccaillinois.org
SUMMARY:Festival "Carolling in Richmond"
DESCRIPTION:Enjoy the holiday season with  a Festival of Ukrainian carols and verteps
URL:https://uccaillinois.org/event/festival-carolling-in-richmond/
LOCATION:Dormition Parish in Richmond\, 5700 Hill Rd\, Richmond\, IL\, United States
ATTACH;FMTTYPE=image/jpeg:https://uccaillinois.org/wp-content/uploads/2024/01/content_Колядки-та-щедрівки-до-Різдва-2019.jpeg
ORGANIZER;CN="Eparchy of St Nicholas Ukrainian Cathedral":MAILTO:mariya.kokor@esnucc.org
END:VEVENT
BEGIN:VEVENT
DTSTART;TZID=America/Chicago:20241225T103000
DTEND;TZID=America/Chicago:20241225T143000
DTSTAMP:20260423T164902
CREATED:20240420T010652Z
LAST-MODIFIED:20240420T010652Z
UID:8335-1735122600-1735137000@uccaillinois.org
SUMMARY:Різдво Христове
DESCRIPTION:Різдво Христове
URL:https://uccaillinois.org/event/%d1%80%d1%96%d0%b7%d0%b4%d0%b2%d0%be-%d1%85%d1%80%d0%b8%d1%81%d1%82%d0%be%d0%b2%d0%b5/
LOCATION:Ukrainian Baptist Church\, 6751 Riverside Dr\, Berwyn\, IL\, 60402\, United States
ATTACH;FMTTYPE=image/jpeg:https://uccaillinois.org/wp-content/uploads/2024/04/272199233_10159554732549014_4417678373815162960_n.jpg
END:VEVENT
BEGIN:VEVENT
DTSTART;TZID=America/Chicago:20241225T100000
DTEND;TZID=America/Chicago:20241225T170000
DTSTAMP:20260423T164902
CREATED:20240508T015330Z
LAST-MODIFIED:20240508T015330Z
UID:8648-1735120800-1735146000@uccaillinois.org
SUMMARY:Різдво Христове - St. Sophia Ukrainian Orthodox Church
DESCRIPTION:Свята літургія о 10ам\nПісля літургії загальна коляда
URL:https://uccaillinois.org/event/%d1%80%d1%96%d0%b7%d0%b4%d0%b2%d0%be-%d1%85%d1%80%d0%b8%d1%81%d1%82%d0%be%d0%b2%d0%b5-st-sophia-ukrainian-orthodox-church/
LOCATION:St. Sophia Ukrainian Orthodox Church\, 6655 W Higgins\, Chicago\, IL\, 60656\, United States
ATTACH;FMTTYPE=image/jpeg:https://uccaillinois.org/wp-content/uploads/2024/05/326591135_5824107097643779_5251093090052348206_n.jpg
END:VEVENT
BEGIN:VEVENT
DTSTART;TZID=America/Chicago:20241214T150000
DTEND;TZID=America/Chicago:20241214T180000
DTSTAMP:20260423T164902
CREATED:20241124T142735Z
LAST-MODIFIED:20241124T142735Z
UID:9535-1734188400-1734199200@uccaillinois.org
SUMMARY:Різдвянв вечеря з Святим о. Миколаєм
DESCRIPTION:Святий Миколай обов’язково завітає до СУМу суботу\, 14 грудня. Запрошуємо вас та ваші родини на сценку юнацтва\, а також на традиційну різдвяну вечерю разом з нашою Сумівською родиною. Будь ласка\, скануйте QR-код\, щоб зареєструватися до 2 грудня! \nPlease join us for the annual performance by our amazing yunatstvo as well as for a Christmas dinner with our CYM family on December 14. Scan the QR code below to register by December 2nd. We look forward to celebrating together soon!
URL:https://uccaillinois.org/event/%d1%80%d1%96%d0%b7%d0%b4%d0%b2%d1%8f%d0%bd%d0%b2-%d0%b2%d0%b5%d1%87%d0%b5%d1%80%d1%8f-%d0%b7-%d1%81%d0%b2%d1%8f%d1%82%d0%b8%d0%bc-%d0%be-%d0%bc%d0%b8%d0%ba%d0%be%d0%bb%d0%b0%d1%94%d0%bc/
LOCATION:American Ukrainian Youth Association\, 2457 W. Chicago Avenue\, Chicago\, IL\, 60622\, United States
ATTACH;FMTTYPE=image/jpeg:https://uccaillinois.org/wp-content/uploads/2024/11/Mykolai-Yalynka-2024-New-QR-CODE.jpeg
END:VEVENT
BEGIN:VEVENT
DTSTART;TZID=America/Chicago:20241206T190000
DTEND;TZID=America/Chicago:20241206T210000
DTSTAMP:20260423T164902
CREATED:20241119T025450Z
LAST-MODIFIED:20241119T025450Z
UID:9531-1733511600-1733518800@uccaillinois.org
SUMMARY:Heritage in Bloom: The Art of Petrykivka
DESCRIPTION:Kateryna Kryvolap is a Canadian artist\, originally from Ukraine\, whose passion for fine art was nurtured in an artistic family. \nThough her work spans various styles\, she is known for both contemporary and traditional decorative painting\, particularly Petrykivka—a Ukrainian folk art form recognized by UNESCO. \nThis exhibition celebrates her dedication to elevating Petrykivka from its roots in traditional Ukrainian crafts to the canvas\, bringing it into galleries as a fine art form.
URL:https://uccaillinois.org/event/heritage-in-bloom-the-art-of-petrykivka/
LOCATION:Ukrainian National Museum\, 2249 W. Superior Street\, Chicago \, IL\, 60612\, United States
ATTACH;FMTTYPE=image/jpeg:https://uccaillinois.org/wp-content/uploads/2024/11/466920033_1285888696086085_3239275651475879787_n.jpg
END:VEVENT
BEGIN:VEVENT
DTSTART;TZID=America/Chicago:20241206T100000
DTEND;TZID=America/Chicago:20241206T170000
DTSTAMP:20260423T164902
CREATED:20240508T015157Z
LAST-MODIFIED:20240508T015157Z
UID:8646-1733479200-1733504400@uccaillinois.org
SUMMARY:Свято Миколая - St. Sophia Ukrainian Orthodox Church
DESCRIPTION:Святкова літургія о 10ам\nПісля літургії до дітей завітає св. Миколай
URL:https://uccaillinois.org/event/%d1%81%d0%b2%d1%8f%d1%82%d0%be-%d0%bc%d0%b8%d0%ba%d0%be%d0%bb%d0%b0%d1%8f-st-sophia-ukrainian-orthodox-church/
LOCATION:St. Sophia Ukrainian Orthodox Church\, 6655 W Higgins\, Chicago\, IL\, 60656\, United States
ATTACH;FMTTYPE=image/jpeg:https://uccaillinois.org/wp-content/uploads/2024/05/326591135_5824107097643779_5251093090052348206_n.jpg
END:VEVENT
BEGIN:VEVENT
DTSTART;VALUE=DATE:20241130
DTEND;VALUE=DATE:20241201
DTSTAMP:20260423T164902
CREATED:20240904T132510Z
LAST-MODIFIED:20240904T133104Z
UID:9399-1732924800-1733011199@uccaillinois.org
SUMMARY:Plast Chicago 75th Anniversary
DESCRIPTION: Plast Chicago\ncordially invites you to \nPlast Chicago’s 75th Anniversary\nFundraising Banquet and Zabava  \nNovember 30\, 2024\nUkrainian Cultural Center \nCost: Banquet $150\n           Zabava   $50 \n        Time: TBA
URL:https://uccaillinois.org/event/plast-chicago-75th-anniversary/
LOCATION:Ukrainian Cultural Center\, 2247 W. Chicago Ave.\, Chicago\, IL\, 60622\, United States
ATTACH;FMTTYPE=image/jpeg:https://uccaillinois.org/wp-content/uploads/2024/08/PLAST_IMG_4746.jpg
ORGANIZER;CN="Plast Chicago":MAILTO:juliekashuba@gmail.com
END:VEVENT
BEGIN:VEVENT
DTSTART;TZID=America/Chicago:20241129T190000
DTEND;TZID=America/Chicago:20241129T210000
DTSTAMP:20260423T164902
CREATED:20241119T024929Z
LAST-MODIFIED:20241119T024929Z
UID:9528-1732906800-1732914000@uccaillinois.org
SUMMARY:Dark Night of the Soul - Book signing and discussion
DESCRIPTION:Author Daniel Hryhorczuk will present his new novel\, The “Dark Night of the Soul\,” about a Ukrainian writer who embarks on a spiritual journey to reconcile with his Russian daughter and seek redemption amid the pandemic and the war in Ukraine. \n\nThe evening presents a wonderful opportunity to meet the Chicago author\, Daniel Hryhorczuk\, purchase a signed copy of his book\, and socialize with fellow attendees.
URL:https://uccaillinois.org/event/dark-night-of-the-soul-book-signing-and-discussion/
LOCATION:Ukrainian National Museum\, 2249 W. Superior Street\, Chicago \, IL\, 60612\, United States
ATTACH;FMTTYPE=image/png:https://uccaillinois.org/wp-content/uploads/2024/11/467048345_1285744162767205_7376621890125241679_n.png
END:VEVENT
BEGIN:VEVENT
DTSTART;TZID=America/Chicago:20241128T103000
DTEND;TZID=America/Chicago:20241128T140000
DTSTAMP:20260423T164902
CREATED:20240420T010528Z
LAST-MODIFIED:20240420T010528Z
UID:8333-1732789800-1732802400@uccaillinois.org
SUMMARY:День Подяки
DESCRIPTION:Святкуємо День Подяки
URL:https://uccaillinois.org/event/%d0%b4%d0%b5%d0%bd%d1%8c-%d0%bf%d0%be%d0%b4%d1%8f%d0%ba%d0%b8/
LOCATION:Ukrainian Baptist Church\, 6751 Riverside Dr\, Berwyn\, IL\, 60402\, United States
ATTACH;FMTTYPE=image/jpeg:https://uccaillinois.org/wp-content/uploads/2024/04/272199233_10159554732549014_4417678373815162960_n.jpg
END:VEVENT
BEGIN:VEVENT
DTSTART;TZID=America/Chicago:20241124T123000
DTEND;TZID=America/Chicago:20241124T153000
DTSTAMP:20260423T164902
CREATED:20241029T015909Z
LAST-MODIFIED:20241029T020829Z
UID:9496-1732451400-1732462200@uccaillinois.org
SUMMARY:ПАМ'ЯТАЄМО ГОЛОДОМОР ГЕНОЦИД УКРАЇНЦІВ ТРИВАЄ!
DESCRIPTION:Запрошуємо громаду з’єднано вшанувати\nпам’ять жертв Голодомору 1932-1933 років \nПанахида\nСвяточна програма\nПокладання вінків біля пам’ятника Голодомор \nнеділя\, 24 листопада 2024 р.\n12:30 пополудні \nУкраїнська Православна Катедра\nсв. Апостола Андрія Первозваного ПЦУ \n300 East Army Trail Rd.\nBloomingdale\, IL
URL:https://uccaillinois.org/event/%d0%bf%d0%b0%d0%bc%d1%8f%d1%82%d0%b0%d1%94%d0%bc%d0%be-%d0%b3%d0%be%d0%bb%d0%be%d0%b4%d0%be%d0%bc%d0%be%d1%80-%d0%b3%d0%b5%d0%bd%d0%be%d1%86%d0%b8%d0%b4-%d1%83%d0%ba%d1%80%d0%b0%d1%97%d0%bd%d1%86/
LOCATION:St. Andrew Ukrainian Orthodox Church\, 300 E. Army Trail Rd.\, Bloomingdale\,\, IL\, United States
ATTACH;FMTTYPE=application/pdf:https://uccaillinois.org/wp-content/uploads/2024/10/ENG.-POSTER11-x-17-in-2.pdf
END:VEVENT
BEGIN:VEVENT
DTSTART;TZID=America/Chicago:20241124T103000
DTEND;TZID=America/Chicago:20241124T150000
DTSTAMP:20260423T164902
CREATED:20241022T234016Z
LAST-MODIFIED:20241022T234016Z
UID:9463-1732444200-1732460400@uccaillinois.org
SUMMARY:50-ліття заснування Братства Хлопців Прислужащих «Входу в Храм»
DESCRIPTION:Реколекціі для хлопців та батьків \nБожественна Літургія та святковий обід для відзначення\n50-ліття Братства Хлопців Прислужащих «Входу в Храм»
URL:https://uccaillinois.org/event/50-%d0%bb%d1%96%d1%82%d1%82%d1%8f-%d0%b7%d0%b0%d1%81%d0%bd%d1%83%d0%b2%d0%b0%d0%bd%d0%bd%d1%8f-%d0%b1%d1%80%d0%b0%d1%82%d1%81%d1%82%d0%b2%d0%b0-%d1%85%d0%bb%d0%be%d0%bf%d1%86%d1%96%d0%b2-%d0%bf%d1%80/
LOCATION:Sts. Volodymyr and Olha Ukrainian Catholic Church\, 739 North Oakley Boulevard\, Chicago\, IL\, 60612\, United States
ATTACH;FMTTYPE=image/jpeg:https://uccaillinois.org/wp-content/uploads/2024/10/IMG_2413.jpg
ORGANIZER;CN="Sts. Volodymyr and Olha Ukrainian Catholic Parish":MAILTO:ukrainianvillagefestival@uccaillinois.orggmail.com
END:VEVENT
BEGIN:VEVENT
DTSTART;TZID=America/Chicago:20241123T000000
DTEND;TZID=America/Chicago:20241123T000000
DTSTAMP:20260423T164902
CREATED:20241023T132600Z
LAST-MODIFIED:20241023T132600Z
UID:9468-1732320000-1732320000@uccaillinois.org
SUMMARY:Revived Soldiers Gala Concert
DESCRIPTION:Save the Date\nRevived Soldiers Gala Concert \nDetails to follow
URL:https://uccaillinois.org/event/revived-soldiers-gala-concert/
LOCATION:IL
END:VEVENT
BEGIN:VEVENT
DTSTART;TZID=America/Chicago:20241119T190000
DTEND;TZID=America/Chicago:20241119T200000
DTSTAMP:20260423T164902
CREATED:20241112T221408Z
LAST-MODIFIED:20241112T221522Z
UID:9513-1732042800-1732046400@uccaillinois.org
SUMMARY:1000 days of Resilience Rally
DESCRIPTION:November 19th will mark 1000 days since russia’s full scale invasion of Ukraine began.  \nJoin the rally at the Wrigley Building to remember the moments of perseverance\, resilience and unwavering support for Ukraine. \n 
URL:https://uccaillinois.org/event/1000-days-of-resilience-rally/
LOCATION:IL
ATTACH;FMTTYPE=image/jpeg:https://uccaillinois.org/wp-content/uploads/2024/11/1000-days-of-war.jpg
END:VEVENT
BEGIN:VEVENT
DTSTART;TZID=America/Chicago:20241116T180000
DTEND;TZID=America/Chicago:20241116T220000
DTSTAMP:20260423T164902
CREATED:20240214T022751Z
LAST-MODIFIED:20240313T033103Z
UID:8041-1731780000-1731794400@uccaillinois.org
SUMMARY:40th Anniversary of WADFFU - Alla Horska Branch
DESCRIPTION:WADFFU will be celebrating their 40th anniversary \nContact: Natalka Kowal: natalka1178@hotmail.com
URL:https://uccaillinois.org/event/40th-anniversary-of-wadffu-alla-horska-branch/
LOCATION:Ukrainian Cultural Center\, 2247 W. Chicago Ave.\, Chicago\, IL\, 60622\, United States
ATTACH;FMTTYPE=image/jpeg:https://uccaillinois.org/wp-content/uploads/2018/03/wadffu2L-e1520166522577.jpg
END:VEVENT
BEGIN:VEVENT
DTSTART;TZID=America/Chicago:20241109T190000
DTEND;TZID=America/Chicago:20241109T210000
DTSTAMP:20260423T164902
CREATED:20240816T004037Z
LAST-MODIFIED:20240914T020056Z
UID:9267-1731178800-1731186000@uccaillinois.org
SUMMARY:КОЗАЦЬКА ЗАБАВА
DESCRIPTION:Академія українського народного танцю “Світанок”\nзапрошує на \nЗабаву\n9-го листопада\n7:00 pm\n$30 вступ\nГратимуть Веселі Часи \nSt. Andrew Ukrainian Orthodox Cathedral\n300 E. Army Trail Rd.\nBloomingdale\, IL 60108 \n 
URL:https://uccaillinois.org/event/%d0%ba%d0%be%d0%b7%d0%b0%d1%86%d1%8c%d0%ba%d0%b0-%d0%b7%d0%b0%d0%b1%d0%b0%d0%b2%d0%b0/
LOCATION:St. Andrew Ukrainian Orthodox Church\, 300 E. Army Trail Rd.\, Bloomingdale\,\, IL\, United States
ATTACH;FMTTYPE=image/jpeg:https://uccaillinois.org/wp-content/uploads/2024/11/svitanok_1339298978182364733_n.jpg
END:VEVENT
BEGIN:VEVENT
DTSTART;TZID=America/Chicago:20241109T180000
DTEND;TZID=America/Chicago:20241109T220000
DTSTAMP:20260423T164902
CREATED:20240614T195429Z
LAST-MODIFIED:20241014T203042Z
UID:8980-1731175200-1731189600@uccaillinois.org
SUMMARY:UNM Annual Gala
DESCRIPTION:
URL:https://uccaillinois.org/event/unm-annual-gala/
LOCATION:Ukrainian Cultural Center\, 2247 W. Chicago Ave.\, Chicago\, IL\, 60622\, United States
ATTACH;FMTTYPE=image/jpeg:https://uccaillinois.org/wp-content/uploads/2024/06/KRYM.jpg
END:VEVENT
BEGIN:VEVENT
DTSTART;TZID=America/Chicago:20241027T150000
DTEND;TZID=America/Chicago:20241027T150000
DTSTAMP:20260423T164902
CREATED:20240407T131642Z
LAST-MODIFIED:20240418T152804Z
UID:8291-1730041200-1730041200@uccaillinois.org
SUMMARY:UCUF Chicago Banquet
DESCRIPTION:UCU Annual Banquet \nMore details will come \nContact email: ocromley@ucufoundation.org \n 
URL:https://uccaillinois.org/event/ucuf-chicago-banquet/
LOCATION:St. Ignatius College Prep.\, IL\, United States
ATTACH;FMTTYPE=image/jpeg:https://uccaillinois.org/wp-content/uploads/2022/05/UCUF-LOGO-FOR-ANNOUNCEMENT-100521-e1653927139841.jpeg
END:VEVENT
BEGIN:VEVENT
DTSTART;TZID=America/Chicago:20241124T123000
DTEND;TZID=America/Chicago:20241124T123000
DTSTAMP:20260423T164902
CREATED:20241026T161018Z
LAST-MODIFIED:20241026T161149Z
UID:9474-1732451400-1732451400@uccaillinois.org
SUMMARY:We Remember the Holodomor - The Genocide Against Ukrainians Continues
DESCRIPTION:Ukrainian Consulate Chicago\, Ukrainian Congress Committee Illinois Division and Holodomor Descendants Network \nWe Remember the Holodomor – The Genocide Against Ukrainians Continues \nMemorial Service\nCommemorative program\nLaying of wreaths at Holodomor Monument \n 
URL:https://uccaillinois.org/event/we-remember-the-holodomor-the-genocide-against-ukrainians-continues/
LOCATION:St. Andrew Ukrainian Orthodox Church\, 300 E. Army Trail Rd.\, Bloomingdale\,\, IL\, United States
ATTACH;FMTTYPE=image/jpeg:https://uccaillinois.org/wp-content/uploads/2024/10/ENG.-FB-POST.jpg
END:VEVENT
BEGIN:VEVENT
DTSTART;VALUE=DATE:20241026
DTEND;VALUE=DATE:20241027
DTSTAMP:20260423T164902
CREATED:20240201T204023Z
LAST-MODIFIED:20240904T131630Z
UID:7922-1729900800-1729987199@uccaillinois.org
SUMMARY:St. Nicholas Cathedral Fundraising Event
DESCRIPTION:Fudraising Event to benefit the restoration of St. Nicholas Cathedral
URL:https://uccaillinois.org/event/st-nicholas-cathedral-fundraising-event/
LOCATION:Ukrainian Cultural Center\, 2247 W. Chicago Ave.\, Chicago\, IL\, 60622\, United States
ATTACH;FMTTYPE=image/jpeg:https://uccaillinois.org/wp-content/uploads/2024/02/st-nicholas-eric-allix-rogers-01.jpg
ORGANIZER;CN="Eparchy of St Nicholas Ukrainian Cathedral":MAILTO:mariya.kokor@esnucc.org
END:VEVENT
BEGIN:VEVENT
DTSTART;TZID=America/Chicago:20241019T180000
DTEND;TZID=America/Chicago:20241019T180000
DTSTAMP:20260423T164902
CREATED:20240323T014319Z
LAST-MODIFIED:20240323T014319Z
UID:8274-1729360800-1729360800@uccaillinois.org
SUMMARY:CYM 75th Anniversary Banquet
DESCRIPTION:Please save the date to celebrate the 75th Anniversary of Cym in Chicago \nDetails to follow
URL:https://uccaillinois.org/event/cym-75th-anniversary-banquet/
LOCATION:IL
ATTACH;FMTTYPE=image/jpeg:https://uccaillinois.org/wp-content/uploads/2024/03/IMG_20240322_203855.jpg
END:VEVENT
BEGIN:VEVENT
DTSTART;VALUE=DATE:20241013
DTEND;VALUE=DATE:20241014
DTSTAMP:20260423T164902
CREATED:20240430T215930Z
LAST-MODIFIED:20240430T215930Z
UID:8576-1728777600-1728863999@uccaillinois.org
SUMMARY:Xрамове Cвято 
DESCRIPTION:Cвяткування Храмового Свята\nУкраїнська Православна Катедра св. Покрова \nHoly Protectress Ukrainian Orthodox Cathedral \n904 North Washtenaw Avenue \nChicago\, IL 60622 \n10.00 -Початок літургії\, після цього молебень\, молитва за Україну;\n12.30 – Святковий обід та концертна програма
URL:https://uccaillinois.org/event/x%d1%80%d0%b0%d0%bc%d0%be%d0%b2%d0%b5-c%d0%b2%d1%8f%d1%82%d0%be/
LOCATION:IL
END:VEVENT
BEGIN:VEVENT
DTSTART;TZID=America/Chicago:20241012T190000
DTEND;TZID=America/Chicago:20241012T190000
DTSTAMP:20260423T164902
CREATED:20240127T170731Z
LAST-MODIFIED:20240826T210233Z
UID:7897-1728759600-1728759600@uccaillinois.org
SUMMARY:Пластова Родина Запрошує Вас на On the Avenue
DESCRIPTION:Пластова Родина Запрошує Вас на \nOn the Avenue \nCocktail Event for the 75th Anniversary of the Plastova Stanycia \nOctober 12\, 2024 \n7:00pm \nat Ukrainian National Museum
URL:https://uccaillinois.org/event/75-anniversary-of-plast-chicago/
LOCATION:Ukrainian National Museum\, 2249 W. Superior Street\, Chicago \, IL\, 60612\, United States
ATTACH;FMTTYPE=image/jpeg:https://uccaillinois.org/wp-content/uploads/2024/01/Plast-OnTheAvenue-Event-Invite-1.jpeg
ORGANIZER;CN="Plast Chicago":MAILTO:juliekashuba@gmail.com
END:VEVENT
BEGIN:VEVENT
DTSTART;TZID=America/Chicago:20241011T190000
DTEND;TZID=America/Chicago:20241102T170000
DTSTAMP:20260423T164902
CREATED:20240929T131409Z
LAST-MODIFIED:20240929T131409Z
UID:9450-1728673200-1730566800@uccaillinois.org
SUMMARY:Divine Gardens
DESCRIPTION:“Divine Gardens” – an art exhibit by two artists from Ukraine – Svitlana Moiseieva and Volodymyr Podlevsky. \nThe exhibit opens on Friday\, October 11\, 2024\, at 7:00 pm at the Ukrainian National Museum.\nIt will stay till November 2\, 2024.
URL:https://uccaillinois.org/event/divine-gardens/
LOCATION:Ukrainian National Museum\, 2249 W. Superior Street\, Chicago \, IL\, 60612\, United States
ATTACH;FMTTYPE=image/jpeg:https://uccaillinois.org/wp-content/uploads/2024/09/461352066_1248995946442027_3751785883954938619_n.jpg
END:VEVENT
BEGIN:VEVENT
DTSTART;TZID=America/Chicago:20241006T113000
DTEND;TZID=America/Chicago:20241006T160000
DTSTAMP:20260423T164902
CREATED:20240925T005854Z
LAST-MODIFIED:20240925T010154Z
UID:9443-1728214200-1728230400@uccaillinois.org
SUMMARY:Празник Святої Покрови
DESCRIPTION:Традиційне святквання Свято Покровського Празника \nВелика Вечірня в суботу. \nАрхиєарейська Божественна Літургія та празничний обід в неділю. \nHierarchical Divine Liturgy celebrated by Bishop Venedykt followed by formal luncheon with program.
URL:https://uccaillinois.org/event/%d0%bf%d1%80%d0%b0%d0%b7%d0%bd%d0%b8%d0%ba-%d1%81%d0%b2%d1%8f%d1%82%d0%be%d1%97-%d0%bf%d0%be%d0%ba%d1%80%d0%be%d0%b2%d0%b8/
LOCATION:Sts. Volodymyr and Olha Ukrainian Catholic Church\, 739 North Oakley Boulevard\, Chicago\, IL\, 60612\, United States
ATTACH;FMTTYPE=application/pdf:https://uccaillinois.org/wp-content/uploads/2024/09/Покрова-Pokrova-св.-Вол.-і-Ольги-2024.pdf
ORGANIZER;CN="Sts. Volodymyr and Olha Ukrainian Catholic Parish":MAILTO:ukrainianvillagefestival@uccaillinois.orggmail.com
END:VEVENT
BEGIN:VEVENT
DTSTART;VALUE=DATE:20241005
DTEND;VALUE=DATE:20241006
DTSTAMP:20260423T164902
CREATED:20240430T221035Z
LAST-MODIFIED:20240501T020804Z
UID:8578-1728086400-1728172799@uccaillinois.org
SUMMARY:Концерт Капеля Бандуристів їм. Тараса Шевченка The Ukrainian Bandurist Chorus of North America
DESCRIPTION:ВСЕ БУДЕ УКРАЇНА – UKRAINE LIVES!\nConcert Tour \nMore details will follow
URL:https://uccaillinois.org/event/event-name-%d0%ba%d0%be%d0%bd%d1%86%d0%b5%d1%80%d1%82-%d0%ba%d0%b0%d0%bf%d0%b5%d0%bb%d1%8f-%d0%b1%d0%b0%d0%bd%d0%b4%d1%83%d1%80%d0%b8%d1%81%d1%82%d1%96%d0%b2-%d1%97%d0%bc-%d1%82%d0%b0%d1%80%d0%b0/
LOCATION:Northshore Center for the Performing Arts\, 9501 Skokie Blvd\, Skokie\, 60077\, United States
ATTACH;FMTTYPE=image/jpeg:https://uccaillinois.org/wp-content/uploads/2024/04/banduristy.jpeg
END:VEVENT
BEGIN:VEVENT
DTSTART;TZID=America/Chicago:20240929T130000
DTEND;TZID=America/Chicago:20240929T170000
DTSTAMP:20260423T164902
CREATED:20240905T193833Z
LAST-MODIFIED:20240905T193833Z
UID:9413-1727614800-1727629200@uccaillinois.org
SUMMARY:Private Screening of Film BUCHA
DESCRIPTION: Ukrainian Institute of Modern Art invites you \nfor the private screening of BUCHA\nThe power of film ensures that history vividly records and condemns Putin’s war.\n\n\nThe Ukrainian Institute of Modern Art proudly presents the critically acclaimed film Bucha\, with English subtitles. This screening underscores the vital role of culture\, especially film\, in exposing the brutality of Putin’s regime.\n\n\nWhen the Russian Armed Forces invaded Ukraine in 2022\, over 1\,000 civilians were brutally murdered in the city of Bucha\, in what is now known as the Bucha Massacre. Amid the tragedy\, 203 Ukrainian lives were saved\, thanks to the heroic efforts of activist Konstantin Gudauskas. The feature film Bucha tells the story of his extraordinary bravery. Often referred to as an “angel of salvation\,” Gudauskas\, a Kazakh citizen granted political asylum in Ukraine years earlier\, retained his freedom of movement even during the war. He used that freedom to rescue 203 Ukrainians\, driving them out of Russian-occupied territory.\n\n\nProducer and screenwriter Oleksandr Shchur will discuss the challenges and significance of filming in Bucha.\n\n\nMore information: https://uima-chicago.org/events/bucha-screening\nTickets: https://www.eventbrite.com/e/bucha-tickets-989700138757…
URL:https://uccaillinois.org/event/private-screening-of-film-bucha/
LOCATION:Ukrainian Institute of Modern Art\, 2320 West Chicago Avenue\, Chicago\, IL\, 60622\, United States
ATTACH;FMTTYPE=image/png:https://uccaillinois.org/wp-content/uploads/2024/09/Invitation-3-with-qr-code.png
END:VEVENT
BEGIN:VEVENT
DTSTART;TZID=America/Chicago:20240922T100000
DTEND;TZID=America/Chicago:20240922T150000
DTSTAMP:20260423T164902
CREATED:20240508T015004Z
LAST-MODIFIED:20240508T015004Z
UID:8644-1726999200-1727017200@uccaillinois.org
SUMMARY:Храмове свято - St. Sophia Ukrainian Orthodox Church
DESCRIPTION:Святкова літургія о 10am\n Після літургії святковий обід
URL:https://uccaillinois.org/event/%d1%85%d1%80%d0%b0%d0%bc%d0%be%d0%b2%d0%b5-%d1%81%d0%b2%d1%8f%d1%82%d0%be-st-sophia-ukrainian-orthodox-church/
LOCATION:St. Sophia Ukrainian Orthodox Church\, 6655 W Higgins\, Chicago\, IL\, 60656\, United States
ATTACH;FMTTYPE=image/jpeg:https://uccaillinois.org/wp-content/uploads/2024/05/326591135_5824107097643779_5251093090052348206_n.jpg
END:VEVENT
BEGIN:VEVENT
DTSTART;TZID=America/Chicago:20240921T183000
DTEND;TZID=America/Chicago:20240921T183000
DTSTAMP:20260423T164902
CREATED:20240905T192407Z
LAST-MODIFIED:20240905T193116Z
UID:9408-1726943400-1726943400@uccaillinois.org
SUMMARY:Да Вінчі
DESCRIPTION:Запрошуємо вас на особливий показ фільму «Да Вінчі»\, що розповідає про героїчну історію воїна\, який загинув на війні росії з Україною. Цей фільм вшановує пам’ять про відвагу і самопожертву людей\, які борються за свободу та незалежність нашої країни. \n📅 Дата: 21 вересня 2024 року\n🕒 Час: 18:30\n📍 Місце: 5000 North Cumberland Ave\n🎟️ Вартість квитка: 40$\n🔞 Вік: 16+ \nФільм розкриває силу духу та непохитність Героїв\, які на передовій борються заради нашого спільного майбутнього. Ця подія стане важливою частиною нашої пам’яті та вшанування тих\, хто віддав своє життя за нашу свободу. \nНе пропустіть можливість побачити цей фільм і поділитися миттю спільної пам’яті. \nДо зустрічі на показі! \n🕊️ Пам’ятаймо та шануймо Героїв! 🕊️
URL:https://uccaillinois.org/event/9408/
LOCATION:St. Joseph the Bethroted Ukrainian Catholic  Church\, 5000 North Cumberland Avenue\, Chicago\, IL\, 60656\, United States
ATTACH;FMTTYPE=image/jpeg:https://uccaillinois.org/wp-content/uploads/2024/08/2000224645153907070.jpg
END:VEVENT
BEGIN:VEVENT
DTSTART;TZID=America/Chicago:20240915T130000
DTEND;TZID=America/Chicago:20240915T130000
DTSTAMP:20260423T164902
CREATED:20240816T034636Z
LAST-MODIFIED:20240816T035302Z
UID:9280-1726405200-1726405200@uccaillinois.org
SUMMARY:Ecumenical Memorial Service Commemorating 10\,000\,000 Victims of the 1932-33 Genocide Against Ukrainians
DESCRIPTION:UKRAINIAN GENOCIDE FAMINE FOUNDATION-USA\, INC. \nPlease join us for an \nEcumenical Memorial Service\nCommemorating 10\,000\,000 Victims of the 1932-33 Genocide Against Ukrainians\nSunday\, September 15\, 2024\n1:00pm \nUkrainian Orthodox Holy Patronage Cathedral Orthodox Church of Ukraine 900 N. Washtenaw Ave. Chicago\, IL. \n“Holodnyi Obid” and program will follow in church hall\nKeynote Speakers: Olga Bertelson\, Ph.D. Victoria Malko\, Ph.D
URL:https://uccaillinois.org/event/9280/
LOCATION:IL
ATTACH;FMTTYPE=image/png:https://uccaillinois.org/wp-content/uploads/2024/08/Ecumenical-Memorial-Service-POSTER11-x-17-in.png
END:VEVENT
BEGIN:VEVENT
DTSTART;TZID=America/Chicago:20240912T180000
DTEND;TZID=America/Chicago:20240912T200000
DTSTAMP:20260423T164902
CREATED:20240910T003831Z
LAST-MODIFIED:20240910T003831Z
UID:9429-1726164000-1726171200@uccaillinois.org
SUMMARY:College of DuPage English Class Registration
DESCRIPTION:This Tuesday and Thursday night starting at 6 p.m. College of DuPage faculty will be registering new students for English classes that begin on 9/16. The classes are high quality\, fun\, free\, 2.5-hour evening English classes twice a week (M/W and T/TH) covering all levels of ability. Registration is at Marquardt Middle School\, 1912 Glen Ellyn Road in Glendale Heights. The classes are open to any resident of DuPage County\, Illinois.
URL:https://uccaillinois.org/event/college-of-dupage-english-class-registration-2/
LOCATION:College of DuPage\, 425 Fawell Blvd\, Glen Ellyn\, IL\, 60137\, United States
ATTACH;FMTTYPE=image/png:https://uccaillinois.org/wp-content/uploads/2024/09/download.png
END:VEVENT
END:VCALENDAR