BEGIN:VCALENDAR
VERSION:2.0
PRODID:-//UCCA - ECPv6.15.20//NONSGML v1.0//EN
CALSCALE:GREGORIAN
METHOD:PUBLISH
X-WR-CALNAME:UCCA
X-ORIGINAL-URL:https://uccaillinois.org
X-WR-CALDESC:Events for UCCA
REFRESH-INTERVAL;VALUE=DURATION:PT1H
X-Robots-Tag:noindex
X-PUBLISHED-TTL:PT1H
BEGIN:VTIMEZONE
TZID:America/Chicago
BEGIN:DAYLIGHT
TZOFFSETFROM:-0600
TZOFFSETTO:-0500
TZNAME:CDT
DTSTART:20150308T080000
END:DAYLIGHT
BEGIN:STANDARD
TZOFFSETFROM:-0500
TZOFFSETTO:-0600
TZNAME:CST
DTSTART:20151101T070000
END:STANDARD
BEGIN:DAYLIGHT
TZOFFSETFROM:-0600
TZOFFSETTO:-0500
TZNAME:CDT
DTSTART:20160313T080000
END:DAYLIGHT
BEGIN:STANDARD
TZOFFSETFROM:-0500
TZOFFSETTO:-0600
TZNAME:CST
DTSTART:20161106T070000
END:STANDARD
BEGIN:DAYLIGHT
TZOFFSETFROM:-0600
TZOFFSETTO:-0500
TZNAME:CDT
DTSTART:20170312T080000
END:DAYLIGHT
BEGIN:STANDARD
TZOFFSETFROM:-0500
TZOFFSETTO:-0600
TZNAME:CST
DTSTART:20171105T070000
END:STANDARD
END:VTIMEZONE
BEGIN:VEVENT
DTSTART;TZID=America/Chicago:20161019T183000
DTEND;TZID=America/Chicago:20161019T193000
DTSTAMP:20260425T105813
CREATED:20160729T025313Z
LAST-MODIFIED:20161204T045516Z
UID:280-1476901800-1476905400@uccaillinois.org
SUMMARY:YOGA at the Ukrainian National Museum
DESCRIPTION:Yoga can change your physical and mental capacity quickly\, while preparing the mind and body for long-term health. \nCome to the UNM every Wednesday at 6:30 pm and bring your own mat. \n$10/session \nPlease RSVP:  312.421.8020 or email:  info@uccaillinois.orgukrainiannationaluseum.org
URL:https://uccaillinois.org/event/yoga-at-the-ukrainian-national-museum-12/
LOCATION:Ukrainian National Museum\, 2249 W. Superior Street\, Chicago \, IL\, 60612\, United States
END:VEVENT
BEGIN:VEVENT
DTSTART;TZID=America/Chicago:20161015T180000
DTEND;TZID=America/Chicago:20161015T180000
DTSTAMP:20260425T105813
CREATED:20160731T203934Z
LAST-MODIFIED:20161204T045516Z
UID:369-1476554400-1476554400@uccaillinois.org
SUMMARY:Ukrainian American Veterans 69th National Convention Banquet
DESCRIPTION:Our event is a celebratory banquet for Honorably Discharged Veterans of the United States Armed Forces\, who are of Ukrainian heritage or descent. Post 32 – Chicago\, IL\, led by Commander Peter Bencak\, is honored to host this 69th National convention where we invite hundreds of Ukrainian American veterans belonging to UAV Posts throughout the United States.
URL:https://uccaillinois.org/event/ukrainian-american-veterans-69th-national-convention-banquet/
LOCATION:Sts. Volodymyr and Olha Ukrainian Cаtholic Church Auditorium\, 2247 West Superior Street\, Chicago\, IL\, 60622\, United States
ORGANIZER;CN="Ukrainian American Veterans 69th National Convention":MAILTO:horbenko@uccaillinois.orgcomcast.net or johnsteciw@uccaillinois.orgsbcglobal.net
END:VEVENT
BEGIN:VEVENT
DTSTART;TZID=America/Chicago:20161012T183000
DTEND;TZID=America/Chicago:20161012T193000
DTSTAMP:20260425T105813
CREATED:20160729T025239Z
LAST-MODIFIED:20161204T045516Z
UID:279-1476297000-1476300600@uccaillinois.org
SUMMARY:YOGA at the Ukrainian National Museum
DESCRIPTION:Yoga can change your physical and mental capacity quickly\, while preparing the mind and body for long-term health. \nCome to the UNM every Wednesday at 6:30 pm and bring your own mat. \n$10/session \nPlease RSVP:  312.421.8020 or email:  info@uccaillinois.orgukrainiannationaluseum.org
URL:https://uccaillinois.org/event/yoga-at-the-ukrainian-national-museum-11/
LOCATION:Ukrainian National Museum\, 2249 W. Superior Street\, Chicago \, IL\, 60612\, United States
END:VEVENT
BEGIN:VEVENT
DTSTART;TZID=America/Chicago:20161009T130000
DTEND;TZID=America/Chicago:20161009T160000
DTSTAMP:20260425T105813
CREATED:20160730T195042Z
LAST-MODIFIED:20161204T045516Z
UID:360-1476018000-1476028800@uccaillinois.org
SUMMARY:UKRAINIAN GENOCIDE REMEMBRANCE DAY
DESCRIPTION:Ukrainian Genocide Famine Foundation\, USA  invites the community to participate in an Ecumenical Memorial Service for 10\,000\,000 victims of the 1932-1933 Ukrainian Genocide. \nThe religious observance will be followed by a traditional “Holodnyi Obid” (luncheon) and commemorative program  in the church auditorium. \nAll community organizations are asked to refrain from holding events today in order to commemorate the Ukrainian Genocide (Holodomor) as a unified community. \n  \n$10 for luncheon
URL:https://uccaillinois.org/event/community-remembrance-ukrainian-genocide-remembrance-day/
LOCATION:Sts. Volodymyr and Olha Ukrainian Catholic Church\, 739 North Oakley Boulevard\, Chicago\, IL\, 60612\, United States
END:VEVENT
BEGIN:VEVENT
DTSTART;TZID=America/Chicago:20161005T183000
DTEND;TZID=America/Chicago:20161005T193000
DTSTAMP:20260425T105813
CREATED:20160729T025213Z
LAST-MODIFIED:20161204T045516Z
UID:278-1475692200-1475695800@uccaillinois.org
SUMMARY:YOGA at the Ukrainian National Museum
DESCRIPTION:Yoga can change your physical and mental capacity quickly\, while preparing the mind and body for long-term health. \nCome to the UNM every Wednesday at 6:30 pm and bring your own mat. \n$10/session \nPlease RSVP:  312.421.8020 or email:  info@uccaillinois.orgukrainiannationaluseum.org
URL:https://uccaillinois.org/event/yoga-at-the-ukrainian-national-museum-10/
LOCATION:Ukrainian National Museum\, 2249 W. Superior Street\, Chicago \, IL\, 60612\, United States
END:VEVENT
BEGIN:VEVENT
DTSTART;TZID=America/Chicago:20160928T183000
DTEND;TZID=America/Chicago:20160928T193000
DTSTAMP:20260425T105813
CREATED:20160729T025141Z
LAST-MODIFIED:20161204T045516Z
UID:277-1475087400-1475091000@uccaillinois.org
SUMMARY:YOGA  at the Ukrainian National Museum
DESCRIPTION:Yoga can change your physical and mental capacity quickly\, while preparing the mind and body for long-term health. \nCome to the UNM every Wednesday at 6:30 pm and bring your own mat. \n$10/session \nPlease RSVP:  312.421.8020 or email:  info@uccaillinois.orgukrainiannationaluseum.org
URL:https://uccaillinois.org/event/yoga-at-the-ukrainian-national-museum-9/
LOCATION:Ukrainian National Museum\, 2249 W. Superior Street\, Chicago \, IL\, 60612\, United States
END:VEVENT
BEGIN:VEVENT
DTSTART;TZID=America/Chicago:20160921T183000
DTEND;TZID=America/Chicago:20160921T193000
DTSTAMP:20260425T105813
CREATED:20160729T025108Z
LAST-MODIFIED:20161204T045516Z
UID:276-1474482600-1474486200@uccaillinois.org
SUMMARY:YOGA at the Ukrainian National Museum
DESCRIPTION:Yoga can change your physical and mental capacity quickly\, while preparing the mind and body for long-term health. \nCome to the UNM every Wednesday at 6:30 pm and bring your own mat. \n$10/session \nPlease RSVP:  312.421.8020 or email:  info@uccaillinois.orgukrainiannationaluseum.org
URL:https://uccaillinois.org/event/yoga-at-the-ukrainian-national-museum-8/
LOCATION:Ukrainian National Museum\, 2249 W. Superior Street\, Chicago \, IL\, 60612\, United States
END:VEVENT
BEGIN:VEVENT
DTSTART;TZID=America/Chicago:20160918T140000
DTEND;TZID=America/Chicago:20160918T140000
DTSTAMP:20260425T105813
CREATED:20160721T191927Z
LAST-MODIFIED:20161204T045516Z
UID:199-1474207200-1474207200@uccaillinois.org
SUMMARY:25th ANNIVERSARY OF UKRAINIAN INDEPENDENCE GALA BANQUET in CHICAGO
DESCRIPTION:The Consulate General of Chicago\, Ukrainian Congress Committee of America\, Illinois Division and Kyiv Committee of Chicago Sister Cities International invite you in celebrating the 25th Anniversary of Ukrainian Independence and the 25th Anniversary of the KYIV-CHICAGO Sister Cities partnership. \nTickets\, Sponsorships and Donations:  http://www.ukraine25chicago.org/purchase-tickets.html \nCocktails 2:00 pm \nDinner and Program 3:00 pm \n 
URL:https://uccaillinois.org/event/gala-banquet-in-chicago/
LOCATION:Chicago Hilton Towers\, 720 South Michigan Avenue\, Chicago\, IL\, 60605\, United States
END:VEVENT
BEGIN:VEVENT
DTSTART;TZID=America/Chicago:20160914T183000
DTEND;TZID=America/Chicago:20160914T193000
DTSTAMP:20260425T105813
CREATED:20160729T025039Z
LAST-MODIFIED:20161204T045516Z
UID:275-1473877800-1473881400@uccaillinois.org
SUMMARY:YOGA at the Ukrainian National Museum
DESCRIPTION:Yoga can change your physical and mental capacity quickly\, while preparing the mind and body for long-term health. \nCome to the UNM every Wednesday at 6:30 pm and bring your own mat. \n$10/session \nPlease RSVP:  312.421.8020 or email:  info@uccaillinois.orgukrainiannationaluseum.org
URL:https://uccaillinois.org/event/yoga-at-the-ukrainian-national-museum-7/
LOCATION:Ukrainian National Museum\, 2249 W. Superior Street\, Chicago \, IL\, 60612\, United States
END:VEVENT
BEGIN:VEVENT
DTSTART;TZID=America/Chicago:20160910T130000
DTEND;TZID=America/Chicago:20160911T220000
DTSTAMP:20260425T105813
CREATED:20160721T151401Z
LAST-MODIFIED:20161204T045516Z
UID:188-1473512400-1473631200@uccaillinois.org
SUMMARY:UKRAINIAN VILLAGE  FEST
DESCRIPTION:Come to our two-day event located in the heart of the Ukrainian Village. There will be non-stop music\, dancing by local dance ensembles\, merchant and food vendors\, a children’s area with lots of surprises. Raffle drawing Sunday. Beer garden. \nEntrance to festival: $5/day \nTime:  1:00pm-10:00pm each day
URL:https://uccaillinois.org/event/ukrainian-village-fest/
LOCATION:Superior Street and Oakley Blvd.\, IL\, 60612\, United States
ORGANIZER;CN="Sts. Volodymyr and Olha Ukrainian Catholic Parish":MAILTO:ukrainianvillagefestival@uccaillinois.orggmail.com
END:VEVENT
BEGIN:VEVENT
DTSTART;TZID=America/Chicago:20160907T183000
DTEND;TZID=America/Chicago:20160907T193000
DTSTAMP:20260425T105813
CREATED:20160729T025011Z
LAST-MODIFIED:20161204T045516Z
UID:274-1473273000-1473276600@uccaillinois.org
SUMMARY:YOGA at the Ukrainian National Museum
DESCRIPTION:Yoga can change your physical and mental capacity quickly\, while preparing the mind and body for long-term health. \nCome to the UNM every Wednesday at 6:30 pm and bring your own mat. \n$10/session \nPlease RSVP:  312.421.8020 or email:  info@uccaillinois.orgukrainiannationaluseum.org
URL:https://uccaillinois.org/event/yoga-at-the-ukrainian-national-museum-6/
LOCATION:Ukrainian National Museum\, 2249 W. Superior Street\, Chicago \, IL\, 60612\, United States
END:VEVENT
BEGIN:VEVENT
DTSTART;TZID=America/Chicago:20160831T183000
DTEND;TZID=America/Chicago:20160831T193000
DTSTAMP:20260425T105813
CREATED:20160729T024925Z
LAST-MODIFIED:20161204T045516Z
UID:273-1472668200-1472671800@uccaillinois.org
SUMMARY:YOGA at the Ukrainian National Museum
DESCRIPTION:Yoga can change your physical and mental capacity quickly\, while preparing the mind and body for long-term health. \nCome to the UNM every Wednesday at 6:30 pm and bring your own mat. \n$10/session \nPlease RSVP:  312.421.8020 or email:  info@uccaillinois.orgukrainiannationaluseum.org
URL:https://uccaillinois.org/event/yoga-at-the-ukrainian-national-museum-5/
LOCATION:Ukrainian National Museum\, 2249 W. Superior Street\, Chicago \, IL\, 60612\, United States
END:VEVENT
BEGIN:VEVENT
DTSTART;TZID=America/Chicago:20160827T080000
DTEND;TZID=America/Chicago:20161128T170000
DTSTAMP:20260425T105813
CREATED:20160802T151149Z
LAST-MODIFIED:20161204T045516Z
UID:378-1472284800-1480352400@uccaillinois.org
SUMMARY:UIMA Exhibit - Reality Check.....
DESCRIPTION:The Ukrainian Institute of Modern Art is pleased to celebrate the 25th Anniversary of Ukraine’s Independence with the exhibition\, “Reality Check\,” curated by Adrienne Kochman\, one of North America’s foremost scholars of contemporary art of Ukraine and the Ukrainian diaspora. \nFor Ukrainian professional artists\, the collapse of the Soviet Union created an opportunity to learn and engage with current artistic developments occurring in the west\, as well as delve into those of the past from which they had been excluded. “Reality Check” explores the work of eight contemporary artists affected by Ukraine’s 1991 independence: Lydia Bodnar-Balahutrak\, Anna Bogatin\, Yhelena & Michael Hall\, Roman Hrab\, Natalka Husar\, Yulia Pinkusevich\, and Valya. \n  \nOpening Reception: August 26\, 2016 \n6:00 pm-9:00 pm
URL:https://uccaillinois.org/event/uima-exhibit-reality-check/
LOCATION:Ukrainian Institute of Modern Art\, 2320 West Chicago Avenue\, Chicago\, IL\, 60622\, United States
END:VEVENT
BEGIN:VEVENT
DTSTART;TZID=America/Chicago:20160826T080000
DTEND;TZID=America/Chicago:20160826T170000
DTSTAMP:20260425T105813
CREATED:20160730T193158Z
LAST-MODIFIED:20161204T045517Z
UID:356-1472198400-1472230800@uccaillinois.org
SUMMARY:UIMA Exhibit - Reality Check: Directions in Contemporary Art Since Ukrainian Independence
DESCRIPTION:The Ukrainian Institute of Modern Art is pleased to celebrate the 25th Anniversary of Ukraine’s Independence with the exhibition\, “Reality Check\,” curated by Adrienne Kochman\, one of North America’s foremost scholars of contemporary art of Ukraine and the Ukrainian diaspora. \nFor Ukrainian professional artists\, the collapse of the Soviet Union created an opportunity to learn and engage with current artistic developments occurring in the west\, as well as delve into those of the past from which they had been excluded. “Reality Check” explores the work of eight contemporary artists affected by Ukraine’s 1991 independence: Lydia Bodnar-Balahutrak\, Anna Bogatin\, Yhelena & Michael Hall\, Roman Hrab\, Natalka Husar\, Yulia Pinkusevich\, and Valya. \n  \nOpening Reception: August 26\, 2016 \n6:00 pm-9:00 pm
URL:https://uccaillinois.org/event/reality-check-directions-in-contemporary-art-since-ukrainian-independence/
LOCATION:Ukrainian Institute of Modern Art\, 2320 West Chicago Avenue\, Chicago\, IL\, 60622\, United States
END:VEVENT
BEGIN:VEVENT
DTSTART;TZID=America/Chicago:20160824T183000
DTEND;TZID=America/Chicago:20160824T193000
DTSTAMP:20260425T105813
CREATED:20160729T024858Z
LAST-MODIFIED:20161204T045526Z
UID:272-1472063400-1472067000@uccaillinois.org
SUMMARY:YOGA at the Ukrainian National Museum
DESCRIPTION:Yoga can change your physical and mental capacity quickly\, while preparing the mind and body for long-term health. \nCome to the UNM every Wednesday at 6:30 pm and bring your own mat. \n$10/session \nPlease RSVP:  312.421.8020 or email:  info@uccaillinois.orgukrainiannationaluseum.org
URL:https://uccaillinois.org/event/yoga-at-the-ukrainian-national-museum-4/
LOCATION:Ukrainian National Museum\, 2249 W. Superior Street\, Chicago \, IL\, 60612\, United States
END:VEVENT
BEGIN:VEVENT
DTSTART;TZID=America/Chicago:20160820T140000
DTEND;TZID=America/Chicago:20160821T220000
DTSTAMP:20260425T105813
CREATED:20160720T170933Z
LAST-MODIFIED:20161204T045526Z
UID:154-1471701600-1471816800@uccaillinois.org
SUMMARY:UKRAINIAN DAYS FESTIVAL - Smith Park
DESCRIPTION:2016 FESTIVAL FORMS \nFOOD & NON-FOOD VENDOR FORMS\nUkrainian Days Vendor Application Forms \nSPONSORSHIP FORMS\nUkrainian Days Festival Sponsor Form \nAD BOOK FORMS\nUkrainian Days Festival Ad Book Form \n  \n2016  FESTIVAL CONTACTS \nPROGRAM AND ENTERTAINMENT\nChristina Drozd 773 314.6468\n  cmdrozd@uccaillinois.orggmail.com \nNON-FOOD VENDOR APPLICATION AND EXHIBIT SPACE\nLesya Bahriy 773 817.6974 \nFOOD VENDOR APPLICATION AND EXHIBIT SPACE\n Christina Drozd 773 314.6468\n cmdrozd@uccaillinois.orggmail.com \nSPONSORSHIP AND DONATIONS\nChristina Drozd 773\, 314.6468\n cmdrozd@uccaillinois.orggmail.com\nIhor Diaczun 216\, 870.1811\nddiaczun@uccaillinois.orghotmail.com \nADVERTISING\n Peter Krutiak 847\, 830.8323\n pkrutiak@uccaillinois.orggmail.com \nUCCA WEB SITE: www.uccaillinois.org \nUKRAINIAN DAYS FESTIVAL 2016\n Saturday\, August 20 and Sunday\, August 21\n Smith Park- 2526 W\, Grand Avenue – Chicago\, IL 60612
URL:https://uccaillinois.org/event/ukrainian-days-festival/
LOCATION:Smith Park\, 2526 W. Grand Avenue\, Chicago\, IL\, 60612\, United States
END:VEVENT
BEGIN:VEVENT
DTSTART;TZID=America/Chicago:20160817T183000
DTEND;TZID=America/Chicago:20160817T193000
DTSTAMP:20260425T105813
CREATED:20160729T024823Z
LAST-MODIFIED:20161204T045526Z
UID:271-1471458600-1471462200@uccaillinois.org
SUMMARY:YOGA at the Ukrainian National Museum
DESCRIPTION:Yoga can change your physical and mental capacity quickly\, while preparing the mind and body for long-term health. \nCome to the UNM every Wednesday at 6:30 pm and bring your own mat. \n$10/session \nPlease RSVP:  312.421.8020 or email:  info@uccaillinois.orgukrainiannationaluseum.org
URL:https://uccaillinois.org/event/yoga-at-the-ukrainian-national-museum-3/
LOCATION:Ukrainian National Museum\, 2249 W. Superior Street\, Chicago \, IL\, 60612\, United States
END:VEVENT
BEGIN:VEVENT
DTSTART;TZID=America/Chicago:20160813T160000
DTEND;TZID=America/Chicago:20160814T220000
DTSTAMP:20260425T105813
CREATED:20160729T135057Z
LAST-MODIFIED:20161204T045526Z
UID:293-1471104000-1471212000@uccaillinois.org
SUMMARY:8th Annual UKEtoberfest
DESCRIPTION:  \nSt. Joseph the Betrothed Ukrainian Catholic Church  invites you to their 8th Annual UKEtoberfest.\nTwo days filled with activities for children and adults\, music\, dance\, food\, art and crafts sale. \nSaturday\, August 13\, 2016 – 4:00 pm – 11:00 pm\nSunday\, August 14\, 2016 – 12:00 pm – 10:00 pm
URL:https://uccaillinois.org/event/8th-annual-uketoberfest/
LOCATION:St. Joseph the Bethroted Ukrainian Catholic  Church\, 5000 North Cumberland Avenue\, Chicago\, IL\, 60656\, United States
END:VEVENT
BEGIN:VEVENT
DTSTART;TZID=America/Chicago:20160810T183000
DTEND;TZID=America/Chicago:20160810T193000
DTSTAMP:20260425T105813
CREATED:20160729T024656Z
LAST-MODIFIED:20161204T045526Z
UID:269-1470853800-1470857400@uccaillinois.org
SUMMARY:YOGA at the Ukrainian National Museum
DESCRIPTION:Yoga can change your physical and mental capacity quickly\, while preparing the mind and body for long-term health. \nCome to the UNM every Wednesday at 6:30 pm and bring your own mat. \n$10/session \nPlease RSVP:  312.421.8020 or email:  info@uccaillinois.orgukrainiannationaluseum.org
URL:https://uccaillinois.org/event/yoga-at-the-ukrainian-national-museum-2/
LOCATION:Ukrainian National Museum\, 2249 W. Superior Street\, Chicago \, IL\, 60612\, United States
END:VEVENT
BEGIN:VEVENT
DTSTART;TZID=America/Chicago:20160807T120000
DTEND;TZID=America/Chicago:20160807T200000
DTSTAMP:20260425T105813
CREATED:20160730T190834Z
LAST-MODIFIED:20161204T045527Z
UID:354-1470571200-1470600000@uccaillinois.org
SUMMARY:Immaculate Conception Ukrainian Catholic Church                                                                           Summer Festival (Palatine)
DESCRIPTION:Immaculate Conception Ukrainian Catholic Church invites you to their summer festival with Ukrainian food\, music\, dancing\, children’s activities and raffle. \n  \n 
URL:https://uccaillinois.org/event/immaculate-conception-ukrainian-catholic-church-summer-festival-palatine/
LOCATION:Immaculate Conception Ukrainian Catholic Church\, 745 South Benton Street\, Palatine\, IL\, 60067\, United States
ORGANIZER;CN="Kerry Panko":MAILTO:kerrystanton27@uccaillinois.orghotmail.com
END:VEVENT
BEGIN:VEVENT
DTSTART;TZID=America/Chicago:20160805T200000
DTEND;TZID=America/Chicago:20160805T200000
DTSTAMP:20260425T105813
CREATED:20160720T235520Z
LAST-MODIFIED:20161204T045527Z
UID:170-1470427200-1470427200@uccaillinois.org
SUMMARY:Concert and Reception 'Krill Karats leads CSO at Ravinia
DESCRIPTION:Ukrainian conductor Kirill Karabits leaders Chicago Symphony Orchestra at RAVINIA\, followed by Post-Concert reception at RAVINIA hosted by Kyiv Committee of Chicago Sister Cities International Program. Details will follow. \nGuests should purchase tickets for the concert online directly from Ravinia at http://www.ravinia.org \nTickets for the post-concert reception will be available online through the Sister Cities Program at a later date. Notices will be sent.
URL:https://uccaillinois.org/event/immaculate-conception-ukrainian-catholic-church-summer-festival/
LOCATION:Ravvinia Festival\, 200 Ravinia Park Rd.\, Highland Park\, IL\, 60035\, United States
ORGANIZER;CN="Vera Eliashevsky%2C Chair%2C Kyiv Committee of Chicago Sister Cities International Program":MAILTO:veraie@uccaillinois.orgyahoo.com
END:VEVENT
BEGIN:VEVENT
DTSTART;TZID=America/Chicago:20160803T183000
DTEND;TZID=America/Chicago:20160803T193000
DTSTAMP:20260425T105813
CREATED:20160728T151225Z
LAST-MODIFIED:20161204T045527Z
UID:258-1470249000-1470252600@uccaillinois.org
SUMMARY:YOGA at the Ukrainian National Museum
DESCRIPTION:Yoga can change your physical and mental capacity quickly\, while preparing the mind and body for long-term health. \nCome to the UNM every Wednesday at 6:30 pm and bring your own mat. \n$10/session \nPlease RSVP:  312.421.8020 or email:  info@uccaillinois.orgukrainiannationaluseum.org
URL:https://uccaillinois.org/event/yoga-at-the-ukrainian-national-museum/
LOCATION:Ukrainian National Museum\, 2249 W. Superior Street\, Chicago \, IL\, 60612\, United States
END:VEVENT
END:VCALENDAR