BEGIN:VCALENDAR
VERSION:2.0
PRODID:-//UCCA - ECPv6.15.20//NONSGML v1.0//EN
CALSCALE:GREGORIAN
METHOD:PUBLISH
X-WR-CALNAME:UCCA
X-ORIGINAL-URL:https://uccaillinois.org
X-WR-CALDESC:Events for UCCA
REFRESH-INTERVAL;VALUE=DURATION:PT1H
X-Robots-Tag:noindex
X-PUBLISHED-TTL:PT1H
BEGIN:VTIMEZONE
TZID:America/Chicago
BEGIN:DAYLIGHT
TZOFFSETFROM:-0600
TZOFFSETTO:-0500
TZNAME:CDT
DTSTART:20250309T080000
END:DAYLIGHT
BEGIN:STANDARD
TZOFFSETFROM:-0500
TZOFFSETTO:-0600
TZNAME:CST
DTSTART:20251102T070000
END:STANDARD
BEGIN:DAYLIGHT
TZOFFSETFROM:-0600
TZOFFSETTO:-0500
TZNAME:CDT
DTSTART:20260308T080000
END:DAYLIGHT
BEGIN:STANDARD
TZOFFSETFROM:-0500
TZOFFSETTO:-0600
TZNAME:CST
DTSTART:20261101T070000
END:STANDARD
BEGIN:DAYLIGHT
TZOFFSETFROM:-0600
TZOFFSETTO:-0500
TZNAME:CDT
DTSTART:20270314T080000
END:DAYLIGHT
BEGIN:STANDARD
TZOFFSETFROM:-0500
TZOFFSETTO:-0600
TZNAME:CST
DTSTART:20271107T070000
END:STANDARD
END:VTIMEZONE
BEGIN:VEVENT
DTSTART;TZID=America/Chicago:20260206T190000
DTEND;TZID=America/Chicago:20260206T190000
DTSTAMP:20260423T182605
CREATED:20260124T185946Z
LAST-MODIFIED:20260124T190051Z
UID:11107-1770404400-1770404400@uccaillinois.org
SUMMARY:The Dear Road
DESCRIPTION:The exhibition “The Dear Road” explores the symbolic meaning of roads as metaphors for life’s journey — from childhood to adulthood\, through joy\, struggle\, love\, and discovery. Among all life’s paths\, the road home stands as the most sacred\, representing warmth\, belonging\, and love. Today\, for Ukrainians\, this symbolism takes on a deeper resonance as they fight for the ultimate road — the path to peace\, freedom\, and the preservation of their homeland. The exhibition invites viewers to reflect on their own life journeys\, the roads that have shaped them\, and the ones that lead them home.\nKrystyna Berehovska\, curator of the ZENYK ART GALLERY.
URL:https://uccaillinois.org/event/the-dear-road/
LOCATION:Ukrainian National Museum\, 2249 W. Superior Street\, Chicago \, IL\, 60612\, United States
ATTACH;FMTTYPE=image/png:https://uccaillinois.org/wp-content/uploads/2026/01/The-Dear-Road_Event-page.png
END:VEVENT
BEGIN:VEVENT
DTSTART;TZID=America/Chicago:20260214T180000
DTEND;TZID=America/Chicago:20260214T180000
DTSTAMP:20260423T182605
CREATED:20260124T190731Z
LAST-MODIFIED:20260124T190806Z
UID:11109-1771092000-1771092000@uccaillinois.org
SUMMARY:UMANA Traditional Banquet and Ball with Presentation of Debutantes
DESCRIPTION:The Ukrainian Medical Association of North America Illinois Branch\nCordially invites you to attend the traditional Banquet and Ball\nwith presentation of Debutantes\non Saturday\, February 14\, 2026\nThe Grand Ballroom\nHilton Chicago\n720 South Michigan Avenue\nChicago\, Illinois\nCocktails 6:00 pm Presentation 7:00 pm Dinner 8:00 pm\nMusic by “Accord”\nBlack Tie Requested\nParticipation limited to guests age 16 and older\nAll proceeds benefit the Foundation of The Ukrainian Medical Association of North America\nSponsoring organizations: The Ukrainian Medical Association of North America Illinois Branch
URL:https://uccaillinois.org/event/umana-traditional-banquet-and-ball-with-presentation-of-debutantes/
LOCATION:Hilton Chicago\, 720 S\, Michigan\, Chicago\, IL\, 60605\, United States
END:VEVENT
BEGIN:VEVENT
DTSTART;TZID=America/Chicago:20260221T160000
DTEND;TZID=America/Chicago:20260221T190000
DTSTAMP:20260423T182605
CREATED:20260116T174234Z
LAST-MODIFIED:20260116T174819Z
UID:11092-1771689600-1771700400@uccaillinois.org
SUMMARY:The Constellation of Hope Chicago Soiree
DESCRIPTION:This luminous gathering is more than a gala; it is an opportunity to stand alongside a global community committed to education\, faith\, and leadership in the face of extraordinary challenges. \nThroughout the afternoon and evening\, guests will enjoy vibrant conversation\, meaningful connection\, and a sense of shared purpose—coming together like a constellation whose collective light strengthens Ukrainian Catholic University’s mission and future. \nThe event begins with an elegant cocktail reception and buffet-style service\, creating space to connect with fellow supporters who believe in the transformative power of education. Inspiring speakers and performances will follow\, offering a firsthand glimpse into the courage\, creativity\, and resilience that define UCU’s community. The soirée continues with a refined dessert reception and musical entertainment\, concluding an evening illuminated by generosity\, solidarity\, and hope. \nBy attending\, you directly support UCU’s students and faculty\, whose work forms ethical leaders\, preserves culture\, and fosters hope for Ukraine and the world.This luminous gathering is more than a gala; it is an opportunity to stand alongside a global community committed to education\, faith\, and leadership in the face of extraordinary challenges. \nThroughout the afternoon and evening\, guests will enjoy vibrant conversation\, meaningful connection\, and a sense of shared purpose—coming together like a constellation whose collective light strengthens Ukrainian Catholic University’s mission and future. \nThe event begins with an elegant cocktail reception and buffet-style service\, creating space to connect with fellow supporters who believe in the transformative power of education. Inspiring speakers and performances will follow\, offering a firsthand glimpse into the courage\, creativity\, and resilience that define UCU’s community. The soirée continues with a refined dessert reception and musical entertainment\, concluding an evening illuminated by generosity\, solidarity\, and hope. \nBy attending\, you directly support UCU’s students and faculty\, whose work forms ethical leaders\, preserves culture\, and fosters hope for Ukraine and the world.\n \nCost $200  ($250 after January 25)
URL:https://uccaillinois.org/event/the-constellation-of-hope-chicago-soiree/
LOCATION:St. Ignatius College Prep.\, IL\, United States
ATTACH;FMTTYPE=image/jpeg:https://uccaillinois.org/wp-content/uploads/2026/01/The-Constellation-of-Hope-Chicago-Soiree.jpg
END:VEVENT
BEGIN:VEVENT
DTSTART;TZID=America/Chicago:20260221T170000
DTEND;TZID=America/Chicago:20260221T200000
DTSTAMP:20260423T182605
CREATED:20260203T183510Z
LAST-MODIFIED:20260204T184054Z
UID:11393-1771693200-1771704000@uccaillinois.org
SUMMARY:RALLY Four Years of russia's  Full Scale War on Ukraine
DESCRIPTION:UCCA  is calling on the community to attend a\nRALLY TO COMMEMORATE FOUR YEARS OF russia’s BRUTAL FULL SCALE WAR ON UKRAINE\n5:00 p.m. Public rally at the Wrigley Building Plaza6:30 p.m. Walk down Michigan Avenue7:00 p.m. Memorial service at Holy Name Cathedral\nProtect future generations. Stand with Ukraine.Children are being kidnapped. Nature is being destroyed.\nA genocidal dictatorship is spreading its reach across the world. Silence enables it. Unity can stop it.
URL:https://uccaillinois.org/event/rally-four-years-of-russias-full-scale-war-on-ukraine/
LOCATION:Wrigley Building
ATTACH;FMTTYPE=image/png:https://uccaillinois.org/wp-content/uploads/2026/02/FACEBOOK-EVENT-v6.png
END:VEVENT
BEGIN:VEVENT
DTSTART;TZID=America/Chicago:20260416T183000
DTEND;TZID=America/Chicago:20260416T223000
DTSTAMP:20260423T182605
CREATED:20260409T110532Z
LAST-MODIFIED:20260409T110532Z
UID:11701-1776364200-1776378600@uccaillinois.org
SUMMARY:Woman's Identity Dinner with Olia Freimut
DESCRIPTION:For the first time in Chicago – renowned Ukrainian TV host and cultural figure Olia Freimut \nWomen’s Identity Dinner is a nonprofit\, mission-driven evening designed to empower women through dialogue\, shared experience\, and community connection. The event brings together inspiring speakers\, meaningful stories\, and cultural conversation in support of strengthening the Ukrainian community in the United States. \nEvent Highlights\n Elegant seated dinner\n Four speakers\, each sharing a personal life and business journey\n Headline speaker Olia Freimut with an exclusive talk on femininity\, identity\, and inner confidence.\n Red Carpet & VIP Networking\n Live talk & QnA with all speakers\n Woman Trends presentation\n Workshops & panel discussions\n Quite Elegance night atmosphere with Chicago vibes \nMission & Impact\nBy attending this event\, you support Ukrainian Roots Community\, a nonprofit organization building a modern ecosystem for education\, dialogue\, and leadership within the Ukrainian diaspora. \nYour ticket helps:\n– fund nonprofit educational and cultural initiatives\n– promote women’s leadership and self-worth\n– create meaningful platforms for connection and dialogue\n– support long-term community development \nThis dinner is both an experience – and a contribution to lasting impact. \nThis evening is created for:\n• influence-forward individuals\n• entrepreneurs and brand builders\n• creatives\, influencers\, and tastemakers\n• those who appreciate premium networking and cultural experiences \nDress Code: Quiet Elegance\nStylish\, refined\, confident. \nPartnership & Sponsorship Opportunities\nWe welcome brands\, businesses\, organizations\, and private supporters to partner with us. \nIf you are interested in:\n• brand visibility\n• premium audience engagement\n• supporting Ukrainian culture in the United States\n– this is the right platform for you. \n*All sponsorships and contributions are tax-deductible. \nOrganizer\nThis event is part of a cultural initiative by Ukrainian Roots Community\, a 501(c)(3) nonprofit organization dedicated to uniting Ukrainian communities in the U.S.\, promoting modern Ukrainian culture internationally\, and strengthening cultural and digital diplomacy through education\, arts\, and community-driven initiatives. \nIn partnership & support of:\n– URC Radio\n– PWR Media\n– ÉSTE Management\nContact Information
URL:https://uccaillinois.org/event/womans-identity-dinner-with-olia-freimut/
LOCATION:Burr Ridge Village Center\, 720 Village Center Dr\, Burr Ridge\, IL\, 60627\, United States
END:VEVENT
BEGIN:VEVENT
DTSTART;TZID=America/Chicago:20260426T140000
DTEND;TZID=America/Chicago:20260426T170000
DTSTAMP:20260423T182605
CREATED:20260411T172923Z
LAST-MODIFIED:20260411T172923Z
UID:11708-1777212000-1777222800@uccaillinois.org
SUMMARY:UCCA ANNUAL BOARD MEETING
DESCRIPTION:The Ukrainian Congress Committee of America (Illinois Division) invites you to its \nAnnual Board Meeting on Sunday\, April 26\, 2026\, at 2:00 p.m \nat the Ukrainian Cultural Center \nJoin us to hear about UCCA’s accomplishments over the past year \nNot yet a member? Join today at: https://uccaillinois.org/membership/ \nMembers with paid membership for 2024 and 2025 are eligible to vote.
URL:https://uccaillinois.org/event/ucca-annual-board-meeting-3/
LOCATION:Ukrainian Cultural Center\, 2247 W. Chicago Ave.\, Chicago\, IL\, 60622\, United States
ATTACH;FMTTYPE=image/png:https://uccaillinois.org/wp-content/uploads/revslider/ucca-home/uccablue_white_more_yellow.png
END:VEVENT
BEGIN:VEVENT
DTSTART;TZID=America/Chicago:20260530T183000
DTEND;TZID=America/Chicago:20260530T220000
DTSTAMP:20260423T182605
CREATED:20251101T110814Z
LAST-MODIFIED:20260409T111218Z
UID:11008-1780165800-1780178400@uccaillinois.org
SUMMARY:Ukrainian Institute of Modern Art Annual Fundraiser Gala
DESCRIPTION:Save the Date \nSaturday\, May 30\, 2026 \nJoin us in celebrating The Ukrainian Institute of Modern Art’s 55th Anniversary at UIMA’s annual Benefit Gala taking place on May 30th. This year’s theme\, “The Enduring Legacy of Ukrainian Art: Honoring the Past\, Inspiring the Future\,” carries profound meaning in this moment of history. On this special evening\, both galleries will be filled with the beauty\, strength\, and spirit of Ukrainian art. We invite you to walk among these works\, to feel their stories\, and to share in a night of connection\, reflection\, friendship\, and hope. \nLink for tickets: https://events.humanitix.com/the-enduring-legacy-of-ukrainian-art-ukrainian-institute-of-modern-art-annual-benefit-gala/tickets
URL:https://uccaillinois.org/event/ukrainian-institute-of-modern-art-annual-fundraiser-gala/
LOCATION:Ukrainian Institute of Modern Art\, 2320 West Chicago Avenue\, Chicago\, IL\, 60622\, United States
ATTACH;FMTTYPE=image/png:https://uccaillinois.org/wp-content/uploads/2025/11/UIMA-MediaKit_EMAIL.png
END:VEVENT
BEGIN:VEVENT
DTSTART;VALUE=DATE:20260613
DTEND;VALUE=DATE:20260614
DTSTAMP:20260423T182605
CREATED:20260211T224953Z
LAST-MODIFIED:20260211T230451Z
UID:11676-1781308800-1781395199@uccaillinois.org
SUMMARY:XXXII Крайовий Зʼїзд ООЧСУ та Гала-Бенкет 80-Річчя Існування
DESCRIPTION:Invitation to the\nNational Convention of ООЧСУ during the day\nfollowed by a Gala Banquet to commemorate the\n80th anniversary of the founding of the\n Organization for the Defense of Four Freedoms for Ukraine\n\nMeeting\, luncheon\, commemoration\, banquet
URL:https://uccaillinois.org/event/xxxii-%d0%ba%d1%80%d0%b0%d0%b9%d0%be%d0%b2%d0%b8%d0%b9-%d0%b7%ca%bc%d1%97%d0%b7%d0%b4-%d0%be%d0%be%d1%87%d1%81%d1%83-%d1%82%d0%b0-%d0%b3%d0%b0%d0%bb%d0%b0-%d0%b1%d0%b5%d0%bd%d0%ba%d0%b5%d1%82-80/
LOCATION:Ukrainian Cultural Center\, 2247 W. Chicago Ave.\, Chicago\, IL\, 60622\, United States
ATTACH;FMTTYPE=image/png:https://uccaillinois.org/wp-content/uploads/2026/02/ODFFU-logo.png
ORGANIZER;CN="Organization for the Defense of Four Freedoms for Ukraine":MAILTO:Pbandriwsky@gmail.com
END:VEVENT
BEGIN:VEVENT
DTSTART;VALUE=DATE:20260620
DTEND;VALUE=DATE:20260621
DTSTAMP:20260423T182605
CREATED:20251101T112158Z
LAST-MODIFIED:20251101T112543Z
UID:11011-1781913600-1781999999@uccaillinois.org
SUMMARY:Selfreliance Federal Credit Union 75th Anniversary
DESCRIPTION:SAVE THE DATE \nJUNE 20\, 2026 \n  \nDetails will Follow
URL:https://uccaillinois.org/event/selfreliance-federal-credit-union-75th-anniversary/
LOCATION:IL
END:VEVENT
BEGIN:VEVENT
DTSTART;TZID=America/Chicago:20260821T120000
DTEND;TZID=America/Chicago:20260821T130000
DTSTAMP:20260423T182605
CREATED:20251002T022818Z
LAST-MODIFIED:20251002T022818Z
UID:10955-1787313600-1787317200@uccaillinois.org
SUMMARY:Flag Raising for Ukraine Independence Day
DESCRIPTION:Please join us for the Ukrainian flag raising ceremony as August is Ukraine Month in Chicago at the Daley Plaza on August 22\, 2026 at 12 noon. \n\nA bus will depart from the Ukrainian Cultural Center at 11:00 am.
URL:https://uccaillinois.org/event/flag-raising-for-ukraine-independence-day/
LOCATION:Daley Plaza\, 50 W Washington\, Chicago\, IL\, 60602\, United States
ATTACH;FMTTYPE=image/jpeg:https://uccaillinois.org/wp-content/uploads/2024/03/photo-with-flags.jpeg
END:VEVENT
END:VCALENDAR