BEGIN:VCALENDAR
VERSION:2.0
PRODID:-//UCCA - ECPv6.15.20//NONSGML v1.0//EN
CALSCALE:GREGORIAN
METHOD:PUBLISH
X-WR-CALNAME:UCCA
X-ORIGINAL-URL:https://uccaillinois.org
X-WR-CALDESC:Events for UCCA
REFRESH-INTERVAL;VALUE=DURATION:PT1H
X-Robots-Tag:noindex
X-PUBLISHED-TTL:PT1H
BEGIN:VTIMEZONE
TZID:America/Chicago
BEGIN:DAYLIGHT
TZOFFSETFROM:-0600
TZOFFSETTO:-0500
TZNAME:CDT
DTSTART:20250309T080000
END:DAYLIGHT
BEGIN:STANDARD
TZOFFSETFROM:-0500
TZOFFSETTO:-0600
TZNAME:CST
DTSTART:20251102T070000
END:STANDARD
BEGIN:DAYLIGHT
TZOFFSETFROM:-0600
TZOFFSETTO:-0500
TZNAME:CDT
DTSTART:20260308T080000
END:DAYLIGHT
BEGIN:STANDARD
TZOFFSETFROM:-0500
TZOFFSETTO:-0600
TZNAME:CST
DTSTART:20261101T070000
END:STANDARD
BEGIN:DAYLIGHT
TZOFFSETFROM:-0600
TZOFFSETTO:-0500
TZNAME:CDT
DTSTART:20270314T080000
END:DAYLIGHT
BEGIN:STANDARD
TZOFFSETFROM:-0500
TZOFFSETTO:-0600
TZNAME:CST
DTSTART:20271107T070000
END:STANDARD
END:VTIMEZONE
BEGIN:VEVENT
DTSTART;TZID=America/Chicago:20260214T180000
DTEND;TZID=America/Chicago:20260214T180000
DTSTAMP:20260423T163859
CREATED:20260124T190731Z
LAST-MODIFIED:20260124T190806Z
UID:11109-1771092000-1771092000@uccaillinois.org
SUMMARY:UMANA Traditional Banquet and Ball with Presentation of Debutantes
DESCRIPTION:The Ukrainian Medical Association of North America Illinois Branch\nCordially invites you to attend the traditional Banquet and Ball\nwith presentation of Debutantes\non Saturday\, February 14\, 2026\nThe Grand Ballroom\nHilton Chicago\n720 South Michigan Avenue\nChicago\, Illinois\nCocktails 6:00 pm Presentation 7:00 pm Dinner 8:00 pm\nMusic by “Accord”\nBlack Tie Requested\nParticipation limited to guests age 16 and older\nAll proceeds benefit the Foundation of The Ukrainian Medical Association of North America\nSponsoring organizations: The Ukrainian Medical Association of North America Illinois Branch
URL:https://uccaillinois.org/event/umana-traditional-banquet-and-ball-with-presentation-of-debutantes/
LOCATION:Hilton Chicago\, 720 S\, Michigan\, Chicago\, IL\, 60605\, United States
END:VEVENT
END:VCALENDAR