BEGIN:VCALENDAR
VERSION:2.0
PRODID:-//UCCA - ECPv6.15.20//NONSGML v1.0//EN
CALSCALE:GREGORIAN
METHOD:PUBLISH
X-WR-CALNAME:UCCA
X-ORIGINAL-URL:https://uccaillinois.org
X-WR-CALDESC:Events for UCCA
REFRESH-INTERVAL;VALUE=DURATION:PT1H
X-Robots-Tag:noindex
X-PUBLISHED-TTL:PT1H
BEGIN:VTIMEZONE
TZID:America/Chicago
BEGIN:DAYLIGHT
TZOFFSETFROM:-0600
TZOFFSETTO:-0500
TZNAME:CDT
DTSTART:20250309T080000
END:DAYLIGHT
BEGIN:STANDARD
TZOFFSETFROM:-0500
TZOFFSETTO:-0600
TZNAME:CST
DTSTART:20251102T070000
END:STANDARD
BEGIN:DAYLIGHT
TZOFFSETFROM:-0600
TZOFFSETTO:-0500
TZNAME:CDT
DTSTART:20260308T080000
END:DAYLIGHT
BEGIN:STANDARD
TZOFFSETFROM:-0500
TZOFFSETTO:-0600
TZNAME:CST
DTSTART:20261101T070000
END:STANDARD
BEGIN:DAYLIGHT
TZOFFSETFROM:-0600
TZOFFSETTO:-0500
TZNAME:CDT
DTSTART:20270314T080000
END:DAYLIGHT
BEGIN:STANDARD
TZOFFSETFROM:-0500
TZOFFSETTO:-0600
TZNAME:CST
DTSTART:20271107T070000
END:STANDARD
END:VTIMEZONE
BEGIN:VEVENT
DTSTART;TZID=America/Chicago:20260125T130000
DTEND;TZID=America/Chicago:20260125T160000
DTSTAMP:20260423T182135
CREATED:20251002T014115Z
LAST-MODIFIED:20260108T154722Z
UID:10943-1769346000-1769356800@uccaillinois.org
SUMMARY:Declaration of Independence January 22\, 1918 and 107th  Anniversary of the Act of Unification
DESCRIPTION:The Ukrainian Congress Committee of America\, Illinois Division\, invites you \nto the annual commemoration of the Declaration of Independence of January 22\, 1918\, \nand the 107th anniversary of the Act of Union uniting the Ukrainian People’s Republic and the Western Ukrainian People’s Republic\nSunday\, January 25\, 2026\n1:00 PM – Cocktails and appetizers2:00 PM – Main program\, dinner4:00 PM – Coffee\, dessert\, and networking\nUkrainian Cultural Center\n2247 W. Chicago Avenue\nTICKETS: https://bit.ly/4bv1cqm\nThis event will honor these pivotal milestones in Ukraine’s path to statehood and mark the beginning of the Year of Global Ukrainian Unity\, as proclaimed by the Ukrainian World Congress.\nWe bring together community leaders from across the United States\, elected officials\, senators\, and members of Congress to reflect on Ukraine’s enduring resilience and the unity of Ukrainians worldwide. It also provides an opportunity to exchange perspectives\, share insights on the challenges ahead\, and explore collaborative pathways that strengthen advocacy\, cultural preservation\, and community engagement.\nWe are also honored to anticipate the participation of Olga Stefanishyna\, the newly appointed Ambassador of Ukraine to the United States\, as well as Yevhen Hlybovytsky\, founder of Pro-Mova\, a think tank specializing in the impact of cultural factors on Ukraine’s development.\nThe commemoration will provide a forum for thoughtful dialogue and a chance to connect with fellow community members and advocates dedicated to Ukraine’s sovereignty\, cultural heritage\, and future.
URL:https://uccaillinois.org/event/107th-anniversary-of-the-act-of-unification/
LOCATION:Ukrainian Cultural Center\, 2247 W. Chicago Ave.\, Chicago\, IL\, 60622\, United States
ATTACH;FMTTYPE=image/png:https://uccaillinois.org/wp-content/uploads/2025/10/UNITY-DAY-2026-final-2.png
END:VEVENT
END:VCALENDAR