BEGIN:VCALENDAR
VERSION:2.0
PRODID:-//UCCA - ECPv6.15.20//NONSGML v1.0//EN
CALSCALE:GREGORIAN
METHOD:PUBLISH
X-ORIGINAL-URL:https://uccaillinois.org
X-WR-CALDESC:Events for UCCA
REFRESH-INTERVAL;VALUE=DURATION:PT1H
X-Robots-Tag:noindex
X-PUBLISHED-TTL:PT1H
BEGIN:VTIMEZONE
TZID:America/Chicago
BEGIN:DAYLIGHT
TZOFFSETFROM:-0600
TZOFFSETTO:-0500
TZNAME:CDT
DTSTART:20240310T080000
END:DAYLIGHT
BEGIN:STANDARD
TZOFFSETFROM:-0500
TZOFFSETTO:-0600
TZNAME:CST
DTSTART:20241103T070000
END:STANDARD
BEGIN:DAYLIGHT
TZOFFSETFROM:-0600
TZOFFSETTO:-0500
TZNAME:CDT
DTSTART:20250309T080000
END:DAYLIGHT
BEGIN:STANDARD
TZOFFSETFROM:-0500
TZOFFSETTO:-0600
TZNAME:CST
DTSTART:20251102T070000
END:STANDARD
BEGIN:DAYLIGHT
TZOFFSETFROM:-0600
TZOFFSETTO:-0500
TZNAME:CDT
DTSTART:20260308T080000
END:DAYLIGHT
BEGIN:STANDARD
TZOFFSETFROM:-0500
TZOFFSETTO:-0600
TZNAME:CST
DTSTART:20261101T070000
END:STANDARD
END:VTIMEZONE
BEGIN:VEVENT
DTSTART;TZID=America/Chicago:20251024T190000
DTEND;TZID=America/Chicago:20251024T190000
DTSTAMP:20260423T233316
CREATED:20251009T123821Z
LAST-MODIFIED:20251009T234533Z
UID:10971-1761332400-1761332400@uccaillinois.org
SUMMARY:Book Presentation - Sustainable Success: How Businesses Win as a Force for Good
DESCRIPTION:Paul Marushka\, a proud Ukrainian American and accomplished business leader as founder\, CEO and president of Chicago-based Sphera\, a sustainability and operational risk software company\, will present insights from his book\, Sustainable Success: How Businesses Win as a Force for Good\, during a special 30-minute session at the Ukrainian National Museum on October 24.\nThis presentation offers a rare opportunity to hear directly from Marushka as he explores how organizations can leverage sustainability to drive meaningful change\, foster resilience\, and create long-term value. Drawing from his extensive experience in leadership and data-driven transformation\, he will share strategic frameworks and real-world examples that have shaped his approach.\nAttendees will also gain insight into Marushka’s personal journey as the son of Ukrainian immigrants and the cultural influences that inform his work\, making this session especially relevant for professionals\, students and community members interested in leadership\, innovation and the role of heritage in shaping impactful business practices.\nJoin Paul at the Ukrainian National Museum to engage in an inspiring conversation that bridges tradition and transformation.
URL:https://uccaillinois.org/event/book-presentation-sustainable-success-how-businesses-win-as-a-force-for-good/
LOCATION:Ukrainian National Museum\, 2249 W. Superior Street\, Chicago \, IL\, 60612\, United States
ATTACH;FMTTYPE=image/png:https://uccaillinois.org/wp-content/uploads/2025/10/Ukrainian-Museum-IG.png
END:VEVENT
END:VCALENDAR