BEGIN:VCALENDAR
VERSION:2.0
PRODID:-//UCCA - ECPv6.15.20//NONSGML v1.0//EN
CALSCALE:GREGORIAN
METHOD:PUBLISH
X-ORIGINAL-URL:https://uccaillinois.org
X-WR-CALDESC:Events for UCCA
REFRESH-INTERVAL;VALUE=DURATION:PT1H
X-Robots-Tag:noindex
X-PUBLISHED-TTL:PT1H
BEGIN:VTIMEZONE
TZID:America/Chicago
BEGIN:DAYLIGHT
TZOFFSETFROM:-0600
TZOFFSETTO:-0500
TZNAME:CDT
DTSTART:20240310T080000
END:DAYLIGHT
BEGIN:STANDARD
TZOFFSETFROM:-0500
TZOFFSETTO:-0600
TZNAME:CST
DTSTART:20241103T070000
END:STANDARD
BEGIN:DAYLIGHT
TZOFFSETFROM:-0600
TZOFFSETTO:-0500
TZNAME:CDT
DTSTART:20250309T080000
END:DAYLIGHT
BEGIN:STANDARD
TZOFFSETFROM:-0500
TZOFFSETTO:-0600
TZNAME:CST
DTSTART:20251102T070000
END:STANDARD
BEGIN:DAYLIGHT
TZOFFSETFROM:-0600
TZOFFSETTO:-0500
TZNAME:CDT
DTSTART:20260308T080000
END:DAYLIGHT
BEGIN:STANDARD
TZOFFSETFROM:-0500
TZOFFSETTO:-0600
TZNAME:CST
DTSTART:20261101T070000
END:STANDARD
END:VTIMEZONE
BEGIN:VEVENT
DTSTART;TZID=America/Chicago:20250829T190000
DTEND;TZID=America/Chicago:20250831T220000
DTSTAMP:20260424T012946
CREATED:20250829T175034Z
LAST-MODIFIED:20250829T175034Z
UID:10679-1756494000-1756677600@uccaillinois.org
SUMMARY:75th Anniversary Celebration of ODUM
DESCRIPTION:75th Anniversary Celebration of ODUM\nBanquet and Dance\nAugust 30\, 2025\n6:30 pm – 12:00 am\nSt Andrews Ukrainian Orthodox Church\n300 Army Trail Road\nBloomindale\n \n  \nДорога українська громадо та друзі ОДУМу!\nЗапрошуємо вас долучитися до святкування нашого ювілейного 75-річчя.  \nЦе чудова нагода згадати приємні моменти минулого\, зустріти давніх друзів та створити нові\, незабутні спогади.\nОДУМ святкуватиме своє 75-річчя\nЧиказька філія ОДУМу прийматиме захід у місті Блуміндейл\, штат Іллінойс\, при церкві Святого Андрія\, з 29 серпня по 31 серпня.\nЗапрошуємо всіх вас приєднатися до нас на це святкування. Будь ласка\, ознайомтеся з доданим розкладом вихідних. \n  \nПрограма святкувань\nП’ятниця\, 29 серпня\, ввечері\n• Вечір кіно під відкритим небом\n• Музика\, бар і закуски\n• Караоке\n• Спортивні ігри для дітей \nСубота\, 30 серпня\, вранці\n• Турнір з гольфу\n• Майстер-клас із розпису на склі\, який проведе Олена Дяденко\n• Вироби та ігри для дітей \nСубота\, 30 серпня\, ввечері\n• Бенкет і забава\n• Головний доповідач – Наталія Павленко\, голова Союзу Українок Америки\, Ст. Виховник Провідних ОДУМ-у\n• Жива музика від гурту “ACCORD” (Андрій Чуйко) \nНеділя\, 31 серпня\n• Обід-фуршет перед концертом\n• Виступ Ансамблю Бандуристок Північної Америки\n• Виступ одумівців з танцями\, грою на бандурі та співом\n• Український ярмарок (Ukrainian vendors)\nБудь ласка\, придбайте квитки на всі заходи онлайн на вебсайті\, вказаному нижче.\nhttps://odumchicago.org/\nhttps://www.zeffy.com/en-US/ticketing/odum-zustrich-75th-anniversary-weekend \nКвитки за ранньою ціною доступні до 15 серпня\, після чого ціни зростають на 10 доларів за квиток за подію.\nКупуйте квитки заздалегідь\, щоб заощадити. Всі квитки\, придбані на вході\, будуть на 20 доларів дорожчими за квиток за подію.
URL:https://uccaillinois.org/event/75th-anniversary-celebration-of-odum/
LOCATION:St. Andrew Ukrainian Orthodox Church\, 300 E. Army Trail Rd.\, Bloomingdale\,\, IL\, United States
END:VEVENT
END:VCALENDAR