BEGIN:VCALENDAR
VERSION:2.0
PRODID:-//UCCA - ECPv6.15.20//NONSGML v1.0//EN
CALSCALE:GREGORIAN
METHOD:PUBLISH
X-WR-CALNAME:UCCA
X-ORIGINAL-URL:https://uccaillinois.org
X-WR-CALDESC:Events for UCCA
REFRESH-INTERVAL;VALUE=DURATION:PT1H
X-Robots-Tag:noindex
X-PUBLISHED-TTL:PT1H
BEGIN:VTIMEZONE
TZID:America/Chicago
BEGIN:DAYLIGHT
TZOFFSETFROM:-0600
TZOFFSETTO:-0500
TZNAME:CDT
DTSTART:20240310T080000
END:DAYLIGHT
BEGIN:STANDARD
TZOFFSETFROM:-0500
TZOFFSETTO:-0600
TZNAME:CST
DTSTART:20241103T070000
END:STANDARD
BEGIN:DAYLIGHT
TZOFFSETFROM:-0600
TZOFFSETTO:-0500
TZNAME:CDT
DTSTART:20250309T080000
END:DAYLIGHT
BEGIN:STANDARD
TZOFFSETFROM:-0500
TZOFFSETTO:-0600
TZNAME:CST
DTSTART:20251102T070000
END:STANDARD
BEGIN:DAYLIGHT
TZOFFSETFROM:-0600
TZOFFSETTO:-0500
TZNAME:CDT
DTSTART:20260308T080000
END:DAYLIGHT
BEGIN:STANDARD
TZOFFSETFROM:-0500
TZOFFSETTO:-0600
TZNAME:CST
DTSTART:20261101T070000
END:STANDARD
END:VTIMEZONE
BEGIN:VEVENT
DTSTART;TZID=America/Chicago:20250816T133000
DTEND;TZID=America/Chicago:20250817T220000
DTSTAMP:20260424T031656
CREATED:20250802T232923Z
LAST-MODIFIED:20250802T233204Z
UID:10644-1755351000-1755468000@uccaillinois.org
SUMMARY:Ukrainian Village Fest
DESCRIPTION:Sts. Volodymyr and Olha Parish\ninvites the community and beyond  for the annual\n \nUkrainian Village Fest as we “Stand with Ukraine”\n \nSaturday: 1pm (main stage program begins at 4pm)\, Sunday 1pm (main stage program begins at 2pm) \n  \nPlease join us on August 16th-17th from 1pm-10pm for our 2025 Ukrainian Village Fest as we “Stand with Ukraine” by coming together to celebrate the heart and soul of the Ukrainian people in Ukraine\, across the world\, and in our own city of Chicago. \nCome enjoy delicious ethnic food\, imported beer\, vibrant arts & crafts\, and high-energy performances throughout the weekend! Main stage performances begin at 4pm on Saturday and 2pm on Sunday. Don’t miss any of the action on Superior St. and under the Big Tent on August 16th-17th! Slava Ykraiini! \nSponsoring organizations: Platinum sponsors: Selfreliance Federal Credit Union\, The Heritage Foundation\, Kefas Development\, United Tires & Tinting Chicago\, Slavon Roofing Company. Many more Gold\, Silver & Bronze spomsors!
URL:https://uccaillinois.org/event/ukrainian-village-fest-3/
LOCATION:Sts. Volodymyr and Olha Ukrainian Catholic Church\, 739 North Oakley Boulevard\, Chicago\, IL\, 60612\, United States
ATTACH;FMTTYPE=image/jpeg:https://uccaillinois.org/wp-content/uploads/2025/08/UVF_Save-the-Date-2025_FB2.jpg
ORGANIZER;CN="Sts. Volodymyr and Olha Ukrainian Catholic Parish":MAILTO:ukrainianvillagefestival@uccaillinois.orggmail.com
END:VEVENT
END:VCALENDAR