BEGIN:VCALENDAR
VERSION:2.0
PRODID:-//UCCA - ECPv6.15.20//NONSGML v1.0//EN
CALSCALE:GREGORIAN
METHOD:PUBLISH
X-ORIGINAL-URL:https://uccaillinois.org
X-WR-CALDESC:Events for UCCA
REFRESH-INTERVAL;VALUE=DURATION:PT1H
X-Robots-Tag:noindex
X-PUBLISHED-TTL:PT1H
BEGIN:VTIMEZONE
TZID:America/Chicago
BEGIN:DAYLIGHT
TZOFFSETFROM:-0600
TZOFFSETTO:-0500
TZNAME:CDT
DTSTART:20230312T080000
END:DAYLIGHT
BEGIN:STANDARD
TZOFFSETFROM:-0500
TZOFFSETTO:-0600
TZNAME:CST
DTSTART:20231105T070000
END:STANDARD
BEGIN:DAYLIGHT
TZOFFSETFROM:-0600
TZOFFSETTO:-0500
TZNAME:CDT
DTSTART:20240310T080000
END:DAYLIGHT
BEGIN:STANDARD
TZOFFSETFROM:-0500
TZOFFSETTO:-0600
TZNAME:CST
DTSTART:20241103T070000
END:STANDARD
BEGIN:DAYLIGHT
TZOFFSETFROM:-0600
TZOFFSETTO:-0500
TZNAME:CDT
DTSTART:20250309T080000
END:DAYLIGHT
BEGIN:STANDARD
TZOFFSETFROM:-0500
TZOFFSETTO:-0600
TZNAME:CST
DTSTART:20251102T070000
END:STANDARD
END:VTIMEZONE
BEGIN:VEVENT
DTSTART;VALUE=DATE:20241130
DTEND;VALUE=DATE:20241201
DTSTAMP:20260424T191946
CREATED:20240904T132510Z
LAST-MODIFIED:20240904T133104Z
UID:9399-1732924800-1733011199@uccaillinois.org
SUMMARY:Plast Chicago 75th Anniversary
DESCRIPTION: Plast Chicago\ncordially invites you to \nPlast Chicago’s 75th Anniversary\nFundraising Banquet and Zabava  \nNovember 30\, 2024\nUkrainian Cultural Center \nCost: Banquet $150\n           Zabava   $50 \n        Time: TBA
URL:https://uccaillinois.org/event/plast-chicago-75th-anniversary/
LOCATION:Ukrainian Cultural Center\, 2247 W. Chicago Ave.\, Chicago\, IL\, 60622\, United States
ATTACH;FMTTYPE=image/jpeg:https://uccaillinois.org/wp-content/uploads/2024/08/PLAST_IMG_4746.jpg
ORGANIZER;CN="Plast Chicago":MAILTO:juliekashuba@gmail.com
END:VEVENT
END:VCALENDAR