BEGIN:VCALENDAR
VERSION:2.0
PRODID:-//UCCA - ECPv6.15.20//NONSGML v1.0//EN
CALSCALE:GREGORIAN
METHOD:PUBLISH
X-ORIGINAL-URL:https://uccaillinois.org
X-WR-CALDESC:Events for UCCA
REFRESH-INTERVAL;VALUE=DURATION:PT1H
X-Robots-Tag:noindex
X-PUBLISHED-TTL:PT1H
BEGIN:VTIMEZONE
TZID:America/Chicago
BEGIN:DAYLIGHT
TZOFFSETFROM:-0600
TZOFFSETTO:-0500
TZNAME:CDT
DTSTART:20230312T080000
END:DAYLIGHT
BEGIN:STANDARD
TZOFFSETFROM:-0500
TZOFFSETTO:-0600
TZNAME:CST
DTSTART:20231105T070000
END:STANDARD
BEGIN:DAYLIGHT
TZOFFSETFROM:-0600
TZOFFSETTO:-0500
TZNAME:CDT
DTSTART:20240310T080000
END:DAYLIGHT
BEGIN:STANDARD
TZOFFSETFROM:-0500
TZOFFSETTO:-0600
TZNAME:CST
DTSTART:20241103T070000
END:STANDARD
BEGIN:DAYLIGHT
TZOFFSETFROM:-0600
TZOFFSETTO:-0500
TZNAME:CDT
DTSTART:20250309T080000
END:DAYLIGHT
BEGIN:STANDARD
TZOFFSETFROM:-0500
TZOFFSETTO:-0600
TZNAME:CST
DTSTART:20251102T070000
END:STANDARD
END:VTIMEZONE
BEGIN:VEVENT
DTSTART;TZID=America/Chicago:20241129T190000
DTEND;TZID=America/Chicago:20241129T210000
DTSTAMP:20260424T191929
CREATED:20241119T024929Z
LAST-MODIFIED:20241119T024929Z
UID:9528-1732906800-1732914000@uccaillinois.org
SUMMARY:Dark Night of the Soul - Book signing and discussion
DESCRIPTION:Author Daniel Hryhorczuk will present his new novel\, The “Dark Night of the Soul\,” about a Ukrainian writer who embarks on a spiritual journey to reconcile with his Russian daughter and seek redemption amid the pandemic and the war in Ukraine. \n\nThe evening presents a wonderful opportunity to meet the Chicago author\, Daniel Hryhorczuk\, purchase a signed copy of his book\, and socialize with fellow attendees.
URL:https://uccaillinois.org/event/dark-night-of-the-soul-book-signing-and-discussion/
LOCATION:Ukrainian National Museum\, 2249 W. Superior Street\, Chicago \, IL\, 60612\, United States
ATTACH;FMTTYPE=image/png:https://uccaillinois.org/wp-content/uploads/2024/11/467048345_1285744162767205_7376621890125241679_n.png
END:VEVENT
END:VCALENDAR