BEGIN:VCALENDAR
VERSION:2.0
PRODID:-//UCCA - ECPv6.15.20//NONSGML v1.0//EN
CALSCALE:GREGORIAN
METHOD:PUBLISH
X-ORIGINAL-URL:https://uccaillinois.org
X-WR-CALDESC:Events for UCCA
REFRESH-INTERVAL;VALUE=DURATION:PT1H
X-Robots-Tag:noindex
X-PUBLISHED-TTL:PT1H
BEGIN:VTIMEZONE
TZID:America/Chicago
BEGIN:DAYLIGHT
TZOFFSETFROM:-0600
TZOFFSETTO:-0500
TZNAME:CDT
DTSTART:20230312T080000
END:DAYLIGHT
BEGIN:STANDARD
TZOFFSETFROM:-0500
TZOFFSETTO:-0600
TZNAME:CST
DTSTART:20231105T070000
END:STANDARD
BEGIN:DAYLIGHT
TZOFFSETFROM:-0600
TZOFFSETTO:-0500
TZNAME:CDT
DTSTART:20240310T080000
END:DAYLIGHT
BEGIN:STANDARD
TZOFFSETFROM:-0500
TZOFFSETTO:-0600
TZNAME:CST
DTSTART:20241103T070000
END:STANDARD
BEGIN:DAYLIGHT
TZOFFSETFROM:-0600
TZOFFSETTO:-0500
TZNAME:CDT
DTSTART:20250309T080000
END:DAYLIGHT
BEGIN:STANDARD
TZOFFSETFROM:-0500
TZOFFSETTO:-0600
TZNAME:CST
DTSTART:20251102T070000
END:STANDARD
END:VTIMEZONE
BEGIN:VEVENT
DTSTART;TZID=America/Chicago:20240921T183000
DTEND;TZID=America/Chicago:20240921T183000
DTSTAMP:20260424T231215
CREATED:20240905T192407Z
LAST-MODIFIED:20240905T193116Z
UID:9408-1726943400-1726943400@uccaillinois.org
SUMMARY:Да Вінчі
DESCRIPTION:Запрошуємо вас на особливий показ фільму «Да Вінчі»\, що розповідає про героїчну історію воїна\, який загинув на війні росії з Україною. Цей фільм вшановує пам’ять про відвагу і самопожертву людей\, які борються за свободу та незалежність нашої країни. \n📅 Дата: 21 вересня 2024 року\n🕒 Час: 18:30\n📍 Місце: 5000 North Cumberland Ave\n🎟️ Вартість квитка: 40$\n🔞 Вік: 16+ \nФільм розкриває силу духу та непохитність Героїв\, які на передовій борються заради нашого спільного майбутнього. Ця подія стане важливою частиною нашої пам’яті та вшанування тих\, хто віддав своє життя за нашу свободу. \nНе пропустіть можливість побачити цей фільм і поділитися миттю спільної пам’яті. \nДо зустрічі на показі! \n🕊️ Пам’ятаймо та шануймо Героїв! 🕊️
URL:https://uccaillinois.org/event/9408/
LOCATION:St. Joseph the Bethroted Ukrainian Catholic  Church\, 5000 North Cumberland Avenue\, Chicago\, IL\, 60656\, United States
ATTACH;FMTTYPE=image/jpeg:https://uccaillinois.org/wp-content/uploads/2024/08/2000224645153907070.jpg
END:VEVENT
END:VCALENDAR