BEGIN:VCALENDAR
VERSION:2.0
PRODID:-//UCCA - ECPv6.15.20//NONSGML v1.0//EN
CALSCALE:GREGORIAN
METHOD:PUBLISH
X-ORIGINAL-URL:https://uccaillinois.org
X-WR-CALDESC:Events for UCCA
REFRESH-INTERVAL;VALUE=DURATION:PT1H
X-Robots-Tag:noindex
X-PUBLISHED-TTL:PT1H
BEGIN:VTIMEZONE
TZID:America/Chicago
BEGIN:DAYLIGHT
TZOFFSETFROM:-0600
TZOFFSETTO:-0500
TZNAME:CDT
DTSTART:20230312T080000
END:DAYLIGHT
BEGIN:STANDARD
TZOFFSETFROM:-0500
TZOFFSETTO:-0600
TZNAME:CST
DTSTART:20231105T070000
END:STANDARD
BEGIN:DAYLIGHT
TZOFFSETFROM:-0600
TZOFFSETTO:-0500
TZNAME:CDT
DTSTART:20240310T080000
END:DAYLIGHT
BEGIN:STANDARD
TZOFFSETFROM:-0500
TZOFFSETTO:-0600
TZNAME:CST
DTSTART:20241103T070000
END:STANDARD
BEGIN:DAYLIGHT
TZOFFSETFROM:-0600
TZOFFSETTO:-0500
TZNAME:CDT
DTSTART:20250309T080000
END:DAYLIGHT
BEGIN:STANDARD
TZOFFSETFROM:-0500
TZOFFSETTO:-0600
TZNAME:CST
DTSTART:20251102T070000
END:STANDARD
END:VTIMEZONE
BEGIN:VEVENT
DTSTART;TZID=America/Chicago:20240915T130000
DTEND;TZID=America/Chicago:20240915T130000
DTSTAMP:20260424T230145
CREATED:20240816T034636Z
LAST-MODIFIED:20240816T035302Z
UID:9280-1726405200-1726405200@uccaillinois.org
SUMMARY:Ecumenical Memorial Service Commemorating 10\,000\,000 Victims of the 1932-33 Genocide Against Ukrainians
DESCRIPTION:UKRAINIAN GENOCIDE FAMINE FOUNDATION-USA\, INC. \nPlease join us for an \nEcumenical Memorial Service\nCommemorating 10\,000\,000 Victims of the 1932-33 Genocide Against Ukrainians\nSunday\, September 15\, 2024\n1:00pm \nUkrainian Orthodox Holy Patronage Cathedral Orthodox Church of Ukraine 900 N. Washtenaw Ave. Chicago\, IL. \n“Holodnyi Obid” and program will follow in church hall\nKeynote Speakers: Olga Bertelson\, Ph.D. Victoria Malko\, Ph.D
URL:https://uccaillinois.org/event/9280/
LOCATION:IL
ATTACH;FMTTYPE=image/png:https://uccaillinois.org/wp-content/uploads/2024/08/Ecumenical-Memorial-Service-POSTER11-x-17-in.png
END:VEVENT
END:VCALENDAR