BEGIN:VCALENDAR
VERSION:2.0
PRODID:-//UCCA - ECPv6.15.20//NONSGML v1.0//EN
CALSCALE:GREGORIAN
METHOD:PUBLISH
X-ORIGINAL-URL:https://uccaillinois.org
X-WR-CALDESC:Events for UCCA
REFRESH-INTERVAL;VALUE=DURATION:PT1H
X-Robots-Tag:noindex
X-PUBLISHED-TTL:PT1H
BEGIN:VTIMEZONE
TZID:America/Chicago
BEGIN:DAYLIGHT
TZOFFSETFROM:-0600
TZOFFSETTO:-0500
TZNAME:CDT
DTSTART:20230312T080000
END:DAYLIGHT
BEGIN:STANDARD
TZOFFSETFROM:-0500
TZOFFSETTO:-0600
TZNAME:CST
DTSTART:20231105T070000
END:STANDARD
BEGIN:DAYLIGHT
TZOFFSETFROM:-0600
TZOFFSETTO:-0500
TZNAME:CDT
DTSTART:20240310T080000
END:DAYLIGHT
BEGIN:STANDARD
TZOFFSETFROM:-0500
TZOFFSETTO:-0600
TZNAME:CST
DTSTART:20241103T070000
END:STANDARD
BEGIN:DAYLIGHT
TZOFFSETFROM:-0600
TZOFFSETTO:-0500
TZNAME:CDT
DTSTART:20250309T080000
END:DAYLIGHT
BEGIN:STANDARD
TZOFFSETFROM:-0500
TZOFFSETTO:-0600
TZNAME:CST
DTSTART:20251102T070000
END:STANDARD
END:VTIMEZONE
BEGIN:VEVENT
DTSTART;TZID=America/Chicago:20240517T190000
DTEND;TZID=America/Chicago:20240609T160000
DTSTAMP:20260425T055129
CREATED:20240514T002309Z
LAST-MODIFIED:20240514T014849Z
UID:8683-1715972400-1717948800@uccaillinois.org
SUMMARY:Our Soul Never Dies
DESCRIPTION:Ukrainian National Museum\nArt Exhibit Opening\, Friday\, May 17\, 2024. 7:00 pm\nExhibit Runs through June 9\, 2024 \n“Our Soul Never Dies” is an art exhibit dedicated to the memory of Eugenia Sakevych Dallas (1925-2014). The exhibit showcases her paintings\, posters\, and book\, which reflect her life experiences\, including the Genocide against Ukrainians in 1932-33. Through her struggles\, Eugenia achieved significant accomplishments and triumphs. She was an exceptional woman who\, as a child\, survived the Genocide and rose to become a model in Europe and “lived the joy of freedom” in the United States\, where she lectured about the Soviet-engineered Genocide\, authored “One Woman Five Lives Five Countries\,” and contributed to the U.S. Congressional investigation that declared the Holodomor a GENOCIDE. When alone\, she painted cityscapes and rural scenes\, reminding her of the many places she lived. These paintings brought her reflection and joy. \n 
URL:https://uccaillinois.org/event/our-soul-never-dies/
LOCATION:Ukrainian National Museum\, 2249 W. Superior Street\, Chicago \, IL\, 60612\, United States
ATTACH;FMTTYPE=image/png:https://uccaillinois.org/wp-content/uploads/2024/05/1.png
END:VEVENT
BEGIN:VEVENT
DTSTART;TZID=America/Chicago:20240518T140000
DTEND;TZID=America/Chicago:20240518T170000
DTSTAMP:20260425T055129
CREATED:20240509T030424Z
LAST-MODIFIED:20240509T031102Z
UID:8661-1716040800-1716051600@uccaillinois.org
SUMMARY:Mondelez Stop War Profiteering - Exit Russia Now!
DESCRIPTION:UCCA IL is spearheading a rally aimed at spotlighting Mondelez International as war profiteers. Despite mounting investor pressure and rallies urging its withdrawal from Russia\, Mondelez persists in selling its products there. The rally seeks media attention to highlight this issue. Rally will take place at square near the Wrigley Building – 410 N. Michigan Avenue
URL:https://uccaillinois.org/event/mondelez-stop-war-profiteering-exit-russia-now/
LOCATION:IL
ATTACH;FMTTYPE=image/png:https://uccaillinois.org/wp-content/uploads/2024/05/Mondelez1920-x-1005-px-1.png
END:VEVENT
END:VCALENDAR