BEGIN:VCALENDAR
VERSION:2.0
PRODID:-//UCCA - ECPv6.15.20//NONSGML v1.0//EN
CALSCALE:GREGORIAN
METHOD:PUBLISH
X-ORIGINAL-URL:https://uccaillinois.org
X-WR-CALDESC:Events for UCCA
REFRESH-INTERVAL;VALUE=DURATION:PT1H
X-Robots-Tag:noindex
X-PUBLISHED-TTL:PT1H
BEGIN:VTIMEZONE
TZID:America/Chicago
BEGIN:DAYLIGHT
TZOFFSETFROM:-0600
TZOFFSETTO:-0500
TZNAME:CDT
DTSTART:20230312T080000
END:DAYLIGHT
BEGIN:STANDARD
TZOFFSETFROM:-0500
TZOFFSETTO:-0600
TZNAME:CST
DTSTART:20231105T070000
END:STANDARD
BEGIN:DAYLIGHT
TZOFFSETFROM:-0600
TZOFFSETTO:-0500
TZNAME:CDT
DTSTART:20240310T080000
END:DAYLIGHT
BEGIN:STANDARD
TZOFFSETFROM:-0500
TZOFFSETTO:-0600
TZNAME:CST
DTSTART:20241103T070000
END:STANDARD
BEGIN:DAYLIGHT
TZOFFSETFROM:-0600
TZOFFSETTO:-0500
TZNAME:CDT
DTSTART:20250309T080000
END:DAYLIGHT
BEGIN:STANDARD
TZOFFSETFROM:-0500
TZOFFSETTO:-0600
TZNAME:CST
DTSTART:20251102T070000
END:STANDARD
END:VTIMEZONE
BEGIN:VEVENT
DTSTART;TZID=America/Chicago:20240512T120000
DTEND;TZID=America/Chicago:20240512T120000
DTSTAMP:20260425T055129
CREATED:20240430T213834Z
LAST-MODIFIED:20240430T215222Z
UID:8570-1715515200-1715515200@uccaillinois.org
SUMMARY:Cвяткування з нагоди Дня матері
DESCRIPTION:Cвяткування з нагоди Дня матері\n12:00pm \nУкраїнська Православна Катедра св. Покрова \nHoly Protectress Ukrainian Orthodox Cathedral \n904 North Washtenaw Avenue \nChicago\, IL 60622 \n 
URL:https://uccaillinois.org/event/c%d0%b2%d1%8f%d1%82%d0%ba%d1%83%d0%b2%d0%b0%d0%bd%d0%bd%d1%8f-%d0%b7-%d0%bd%d0%b0%d0%b3%d0%be%d0%b4%d0%b8-%d0%b4%d0%bd%d1%8f-%d0%bc%d0%b0%d1%82%d0%b5%d1%80%d1%96/
LOCATION:IL
END:VEVENT
END:VCALENDAR