BEGIN:VCALENDAR
VERSION:2.0
PRODID:-//UCCA - ECPv6.15.20//NONSGML v1.0//EN
CALSCALE:GREGORIAN
METHOD:PUBLISH
X-ORIGINAL-URL:https://uccaillinois.org
X-WR-CALDESC:Events for UCCA
REFRESH-INTERVAL;VALUE=DURATION:PT1H
X-Robots-Tag:noindex
X-PUBLISHED-TTL:PT1H
BEGIN:VTIMEZONE
TZID:America/Chicago
BEGIN:DAYLIGHT
TZOFFSETFROM:-0600
TZOFFSETTO:-0500
TZNAME:CDT
DTSTART:20230312T080000
END:DAYLIGHT
BEGIN:STANDARD
TZOFFSETFROM:-0500
TZOFFSETTO:-0600
TZNAME:CST
DTSTART:20231105T070000
END:STANDARD
BEGIN:DAYLIGHT
TZOFFSETFROM:-0600
TZOFFSETTO:-0500
TZNAME:CDT
DTSTART:20240310T080000
END:DAYLIGHT
BEGIN:STANDARD
TZOFFSETFROM:-0500
TZOFFSETTO:-0600
TZNAME:CST
DTSTART:20241103T070000
END:STANDARD
BEGIN:DAYLIGHT
TZOFFSETFROM:-0600
TZOFFSETTO:-0500
TZNAME:CDT
DTSTART:20250309T080000
END:DAYLIGHT
BEGIN:STANDARD
TZOFFSETFROM:-0500
TZOFFSETTO:-0600
TZNAME:CST
DTSTART:20251102T070000
END:STANDARD
END:VTIMEZONE
BEGIN:VEVENT
DTSTART;TZID=America/Chicago:20240510T190000
DTEND;TZID=America/Chicago:20240510T210000
DTSTAMP:20260425T055130
CREATED:20240509T020854Z
LAST-MODIFIED:20240509T020854Z
UID:8658-1715367600-1715374800@uccaillinois.org
SUMMARY:Book presentation by Volodymyr Mula - "Wayne Called Me"
DESCRIPTION:Author Volodymyr Mula will give his presentation in Ukrainian.\nThe events in Ukraine during the early 20th century resonate with us even today. The book “Wayne Called Me” tells the story of the famous hockey player Wayne Gretzky. It features unique photographs and stories of the families of exceptional hockey players of Ukrainian origin\, providing a glimpse into the country’s atmosphere during that time. Many of these players’ ancestors were quite intimidated and didn’t disclose their Ukrainian heritage until 1991 when Ukraine gained independence.\nVolodymyr Mula\, the writer and director\, has used this book as the backdrop to create a groundbreaking documentary film called UKE. This film\, which took the world by storm in 2020\, chronicles the triumphs of Ukrainian fighters for independence through Mula’s lens. \nAuthor Volodymyr Mula will present in Ukrainian.
URL:https://uccaillinois.org/event/book-presentation-by-volodymyr-mula-wayne-called-me/
LOCATION:Ukrainian National Museum\, 2249 W. Superior Street\, Chicago \, IL\, 60612\, United States
ATTACH;FMTTYPE=image/jpeg:https://uccaillinois.org/wp-content/uploads/2024/05/439866112_1143979496943673_295982051932537035_n.jpeg
END:VEVENT
END:VCALENDAR