BEGIN:VCALENDAR
VERSION:2.0
PRODID:-//UCCA - ECPv6.15.20//NONSGML v1.0//EN
CALSCALE:GREGORIAN
METHOD:PUBLISH
X-WR-CALNAME:UCCA
X-ORIGINAL-URL:https://uccaillinois.org
X-WR-CALDESC:Events for UCCA
REFRESH-INTERVAL;VALUE=DURATION:PT1H
X-Robots-Tag:noindex
X-PUBLISHED-TTL:PT1H
BEGIN:VTIMEZONE
TZID:America/Chicago
BEGIN:DAYLIGHT
TZOFFSETFROM:-0600
TZOFFSETTO:-0500
TZNAME:CDT
DTSTART:20230312T080000
END:DAYLIGHT
BEGIN:STANDARD
TZOFFSETFROM:-0500
TZOFFSETTO:-0600
TZNAME:CST
DTSTART:20231105T070000
END:STANDARD
BEGIN:DAYLIGHT
TZOFFSETFROM:-0600
TZOFFSETTO:-0500
TZNAME:CDT
DTSTART:20240310T080000
END:DAYLIGHT
BEGIN:STANDARD
TZOFFSETFROM:-0500
TZOFFSETTO:-0600
TZNAME:CST
DTSTART:20241103T070000
END:STANDARD
BEGIN:DAYLIGHT
TZOFFSETFROM:-0600
TZOFFSETTO:-0500
TZNAME:CDT
DTSTART:20250309T080000
END:DAYLIGHT
BEGIN:STANDARD
TZOFFSETFROM:-0500
TZOFFSETTO:-0600
TZNAME:CST
DTSTART:20251102T070000
END:STANDARD
END:VTIMEZONE
BEGIN:VEVENT
DTSTART;TZID=America/Chicago:20240420T170000
DTEND;TZID=America/Chicago:20240420T193000
DTSTAMP:20260425T073532
CREATED:20240205T163907Z
LAST-MODIFIED:20240205T163915Z
UID:8009-1713632400-1713641400@uccaillinois.org
SUMMARY:St. Nicholas Cathedral Fundraising Event
DESCRIPTION:Fundraising Event to benefit the restoration of St. Nicholas Cathedral
URL:https://uccaillinois.org/event/st-nicholas-cathedral-fundraising-event-2/
LOCATION:Ukrainian Cultural Center\, 2247 W. Chicago Ave.\, Chicago\, IL\, 60622\, United States
ATTACH;FMTTYPE=image/jpeg:https://uccaillinois.org/wp-content/uploads/2024/02/st-nicholas-eric-allix-rogers-01.jpg
ORGANIZER;CN="Eparchy of St Nicholas Ukrainian Cathedral":MAILTO:mariya.kokor@esnucc.org
END:VEVENT
BEGIN:VEVENT
DTSTART;TZID=America/Chicago:20240421T130000
DTEND;TZID=America/Chicago:20240421T130000
DTSTAMP:20260425T073532
CREATED:20240314T233636Z
LAST-MODIFIED:20240407T133810Z
UID:8246-1713704400-1713704400@uccaillinois.org
SUMMARY:SavED - Save Ukraine's Schools
DESCRIPTION:Educators from Ukraine will focus on project to\nrebuild schools that were destroyed during the war.
URL:https://uccaillinois.org/event/saved-save-ukraines-schools/
LOCATION:Ukrainian Institute of Modern Art\, 2320 West Chicago Avenue\, Chicago\, IL\, 60622\, United States
ATTACH;FMTTYPE=image/png:https://uccaillinois.org/wp-content/uploads/2024/03/KMF-USA_horiz_for-light-backs_RGB.png
END:VEVENT
END:VCALENDAR