BEGIN:VCALENDAR
VERSION:2.0
PRODID:-//UCCA - ECPv6.15.20//NONSGML v1.0//EN
CALSCALE:GREGORIAN
METHOD:PUBLISH
X-WR-CALNAME:UCCA
X-ORIGINAL-URL:https://uccaillinois.org
X-WR-CALDESC:Events for UCCA
REFRESH-INTERVAL;VALUE=DURATION:PT1H
X-Robots-Tag:noindex
X-PUBLISHED-TTL:PT1H
BEGIN:VTIMEZONE
TZID:America/Chicago
BEGIN:DAYLIGHT
TZOFFSETFROM:-0600
TZOFFSETTO:-0500
TZNAME:CDT
DTSTART:20230312T080000
END:DAYLIGHT
BEGIN:STANDARD
TZOFFSETFROM:-0500
TZOFFSETTO:-0600
TZNAME:CST
DTSTART:20231105T070000
END:STANDARD
BEGIN:DAYLIGHT
TZOFFSETFROM:-0600
TZOFFSETTO:-0500
TZNAME:CDT
DTSTART:20240310T080000
END:DAYLIGHT
BEGIN:STANDARD
TZOFFSETFROM:-0500
TZOFFSETTO:-0600
TZNAME:CST
DTSTART:20241103T070000
END:STANDARD
BEGIN:DAYLIGHT
TZOFFSETFROM:-0600
TZOFFSETTO:-0500
TZNAME:CDT
DTSTART:20250309T080000
END:DAYLIGHT
BEGIN:STANDARD
TZOFFSETFROM:-0500
TZOFFSETTO:-0600
TZNAME:CST
DTSTART:20251102T070000
END:STANDARD
END:VTIMEZONE
BEGIN:VEVENT
DTSTART;TZID=America/Chicago:20240323T100000
DTEND;TZID=America/Chicago:20240323T140000
DTSTAMP:20260425T091337
CREATED:20240216T235031Z
LAST-MODIFIED:20240216T235134Z
UID:8065-1711188000-1711202400@uccaillinois.org
SUMMARY:Pysanka Workshop
DESCRIPTION:Let your creative juices flow as you create a piece of artwork to add to your treasure trove. \nEach workshop is 4 hours long from 10:am-2:pm. Dates: March 9\, March 23\, April 13\, April 27. Seating is limited to 18 participants per workshop. Participants must be 17 years of age or older. Registration fee $45 per person. \nRegister online: ukrainiannationalmuseum.org/workshops/
URL:https://uccaillinois.org/event/pysanka-workshop/
LOCATION:Ukrainian National Museum\, 2249 W. Superior Street\, Chicago \, IL\, 60612\, United States
ATTACH;FMTTYPE=image/png:https://uccaillinois.org/wp-content/uploads/2024/02/pysanky.png
END:VEVENT
END:VCALENDAR