BEGIN:VCALENDAR
VERSION:2.0
PRODID:-//UCCA - ECPv6.15.20//NONSGML v1.0//EN
CALSCALE:GREGORIAN
METHOD:PUBLISH
X-ORIGINAL-URL:https://uccaillinois.org
X-WR-CALDESC:Events for UCCA
REFRESH-INTERVAL;VALUE=DURATION:PT1H
X-Robots-Tag:noindex
X-PUBLISHED-TTL:PT1H
BEGIN:VTIMEZONE
TZID:America/Chicago
BEGIN:DAYLIGHT
TZOFFSETFROM:-0600
TZOFFSETTO:-0500
TZNAME:CDT
DTSTART:20230312T080000
END:DAYLIGHT
BEGIN:STANDARD
TZOFFSETFROM:-0500
TZOFFSETTO:-0600
TZNAME:CST
DTSTART:20231105T070000
END:STANDARD
BEGIN:DAYLIGHT
TZOFFSETFROM:-0600
TZOFFSETTO:-0500
TZNAME:CDT
DTSTART:20240310T080000
END:DAYLIGHT
BEGIN:STANDARD
TZOFFSETFROM:-0500
TZOFFSETTO:-0600
TZNAME:CST
DTSTART:20241103T070000
END:STANDARD
BEGIN:DAYLIGHT
TZOFFSETFROM:-0600
TZOFFSETTO:-0500
TZNAME:CDT
DTSTART:20250309T080000
END:DAYLIGHT
BEGIN:STANDARD
TZOFFSETFROM:-0500
TZOFFSETTO:-0600
TZNAME:CST
DTSTART:20251102T070000
END:STANDARD
END:VTIMEZONE
BEGIN:VEVENT
DTSTART;TZID=America/Chicago:20240317T140000
DTEND;TZID=America/Chicago:20240317T140000
DTSTAMP:20260425T091335
CREATED:20240315T020523Z
LAST-MODIFIED:20240315T022653Z
UID:8259-1710684000-1710684000@uccaillinois.org
SUMMARY:UEFA Euro Watch Party
DESCRIPTION:Cym Chicago will be showing the Bosnia-Herzegovina vs Ukraine soccer game.\nDoors open at 2:15 pm.
URL:https://uccaillinois.org/event/uefa-euro-watch-party/
LOCATION:American Ukrainian Youth Association\, 2457 W. Chicago Avenue\, Chicago\, IL\, 60622\, United States
ATTACH;FMTTYPE=image/jpeg:https://uccaillinois.org/wp-content/uploads/2024/03/IMG_20240314_202046.jpg
END:VEVENT
END:VCALENDAR