BEGIN:VCALENDAR
VERSION:2.0
PRODID:-//UCCA - ECPv6.15.20//NONSGML v1.0//EN
CALSCALE:GREGORIAN
METHOD:PUBLISH
X-ORIGINAL-URL:https://uccaillinois.org
X-WR-CALDESC:Events for UCCA
REFRESH-INTERVAL;VALUE=DURATION:PT1H
X-Robots-Tag:noindex
X-PUBLISHED-TTL:PT1H
BEGIN:VTIMEZONE
TZID:America/Chicago
BEGIN:DAYLIGHT
TZOFFSETFROM:-0600
TZOFFSETTO:-0500
TZNAME:CDT
DTSTART:20230312T080000
END:DAYLIGHT
BEGIN:STANDARD
TZOFFSETFROM:-0500
TZOFFSETTO:-0600
TZNAME:CST
DTSTART:20231105T070000
END:STANDARD
BEGIN:DAYLIGHT
TZOFFSETFROM:-0600
TZOFFSETTO:-0500
TZNAME:CDT
DTSTART:20240310T080000
END:DAYLIGHT
BEGIN:STANDARD
TZOFFSETFROM:-0500
TZOFFSETTO:-0600
TZNAME:CST
DTSTART:20241103T070000
END:STANDARD
BEGIN:DAYLIGHT
TZOFFSETFROM:-0600
TZOFFSETTO:-0500
TZNAME:CDT
DTSTART:20250309T080000
END:DAYLIGHT
BEGIN:STANDARD
TZOFFSETFROM:-0500
TZOFFSETTO:-0600
TZNAME:CST
DTSTART:20251102T070000
END:STANDARD
END:VTIMEZONE
BEGIN:VEVENT
DTSTART;TZID=America/Chicago:20240316T180000
DTEND;TZID=America/Chicago:20240316T180000
DTSTAMP:20260425T091334
CREATED:20240315T020935Z
LAST-MODIFIED:20240315T022710Z
UID:8262-1710612000-1710612000@uccaillinois.org
SUMMARY:Cym Trivia Night
DESCRIPTION:Запрошуємо всіх сумівців до активної\nучасті в “СУМ Trivia Night” на підтримку\nосередку СУМ ім. Миколи Павлушкова\nта наших СУМівців-бійців в Україні. \n16-го березня о 6:00 п.п. \n$15 – дорослі \n$5 – члени юнацтва до 17 років \nІГРИ \nПРИЗИ ТА НАГОРОДИ\nПЕРЕКУСКИ\nЛОТЕРІЯ \n2457 W Chicago Ave\, Chicago\, IL 60622 КІЛЬКІСТЬ ЧЛЕНІВ У ОДНІЙ\nКОМАНДІ: 4-6 ОСІБ\nhttp://tinyurl.com/ywss2h85\nЗ питаннями: cymchicago75@cym.org
URL:https://uccaillinois.org/event/cym-trivia-night/
LOCATION:American Ukrainian Youth Association\, 2457 W. Chicago Avenue\, Chicago\, IL\, 60622\, United States
ATTACH;FMTTYPE=application/pdf:https://uccaillinois.org/wp-content/uploads/2024/03/CYM-Trivia-March-16-3.pdf
END:VEVENT
END:VCALENDAR