BEGIN:VCALENDAR
VERSION:2.0
PRODID:-//UCCA - ECPv6.15.20//NONSGML v1.0//EN
CALSCALE:GREGORIAN
METHOD:PUBLISH
X-WR-CALNAME:UCCA
X-ORIGINAL-URL:https://uccaillinois.org
X-WR-CALDESC:Events for UCCA
REFRESH-INTERVAL;VALUE=DURATION:PT1H
X-Robots-Tag:noindex
X-PUBLISHED-TTL:PT1H
BEGIN:VTIMEZONE
TZID:America/Chicago
BEGIN:DAYLIGHT
TZOFFSETFROM:-0600
TZOFFSETTO:-0500
TZNAME:CDT
DTSTART:20230312T080000
END:DAYLIGHT
BEGIN:STANDARD
TZOFFSETFROM:-0500
TZOFFSETTO:-0600
TZNAME:CST
DTSTART:20231105T070000
END:STANDARD
BEGIN:DAYLIGHT
TZOFFSETFROM:-0600
TZOFFSETTO:-0500
TZNAME:CDT
DTSTART:20240310T080000
END:DAYLIGHT
BEGIN:STANDARD
TZOFFSETFROM:-0500
TZOFFSETTO:-0600
TZNAME:CST
DTSTART:20241103T070000
END:STANDARD
BEGIN:DAYLIGHT
TZOFFSETFROM:-0600
TZOFFSETTO:-0500
TZNAME:CDT
DTSTART:20250309T080000
END:DAYLIGHT
BEGIN:STANDARD
TZOFFSETFROM:-0500
TZOFFSETTO:-0600
TZNAME:CST
DTSTART:20251102T070000
END:STANDARD
END:VTIMEZONE
BEGIN:VEVENT
DTSTART;TZID=America/Chicago:20240310T130000
DTEND;TZID=America/Chicago:20240310T130000
DTSTAMP:20260425T091337
CREATED:20240214T030435Z
LAST-MODIFIED:20240214T030442Z
UID:8053-1710075600-1710075600@uccaillinois.org
SUMMARY:The Village Strings Musical Event
DESCRIPTION:UIMA Presents The Village Strings Concert featuring music by Ukrainian composers\, Stankovych\, Skoryk\,Kyva\, Shevchenko and others. \nAll proceeds designated to Ukrainian war effort
URL:https://uccaillinois.org/event/the-village-strings-musical-event-2/
LOCATION:St. Nicholas Ukrainian Cathedral\, 835 N. Oakley Blvd\, Chicago\, IL\, 60622\, United States
ATTACH;FMTTYPE=image/png:https://uccaillinois.org/wp-content/uploads/2016/10/village-strings.png
END:VEVENT
END:VCALENDAR