BEGIN:VCALENDAR
VERSION:2.0
PRODID:-//UCCA - ECPv6.15.20//NONSGML v1.0//EN
CALSCALE:GREGORIAN
METHOD:PUBLISH
X-ORIGINAL-URL:https://uccaillinois.org
X-WR-CALDESC:Events for UCCA
REFRESH-INTERVAL;VALUE=DURATION:PT1H
X-Robots-Tag:noindex
X-PUBLISHED-TTL:PT1H
BEGIN:VTIMEZONE
TZID:America/Chicago
BEGIN:DAYLIGHT
TZOFFSETFROM:-0600
TZOFFSETTO:-0500
TZNAME:CDT
DTSTART:20230312T080000
END:DAYLIGHT
BEGIN:STANDARD
TZOFFSETFROM:-0500
TZOFFSETTO:-0600
TZNAME:CST
DTSTART:20231105T070000
END:STANDARD
BEGIN:DAYLIGHT
TZOFFSETFROM:-0600
TZOFFSETTO:-0500
TZNAME:CDT
DTSTART:20240310T080000
END:DAYLIGHT
BEGIN:STANDARD
TZOFFSETFROM:-0500
TZOFFSETTO:-0600
TZNAME:CST
DTSTART:20241103T070000
END:STANDARD
BEGIN:DAYLIGHT
TZOFFSETFROM:-0600
TZOFFSETTO:-0500
TZNAME:CDT
DTSTART:20250309T080000
END:DAYLIGHT
BEGIN:STANDARD
TZOFFSETFROM:-0500
TZOFFSETTO:-0600
TZNAME:CST
DTSTART:20251102T070000
END:STANDARD
END:VTIMEZONE
BEGIN:VEVENT
DTSTART;TZID=America/Chicago:20240224T114500
DTEND;TZID=America/Chicago:20240224T114500
DTSTAMP:20260425T103629
CREATED:20240226T035253Z
LAST-MODIFIED:20240226T035441Z
UID:8083-1708775100-1708775100@uccaillinois.org
SUMMARY:2024 Десята Річниця "Небесної Сотні"
DESCRIPTION:Religious Memorial Service \n  \n 
URL:https://uccaillinois.org/event/2024-%d0%b4%d0%b5%d1%81%d1%8f%d1%82%d0%b0-%d1%80%d1%96%d1%87%d0%bd%d0%b8%d1%86%d1%8f-%d0%bd%d0%b5%d0%b1%d0%b5%d1%81%d0%bd%d0%be%d1%97-%d1%81%d0%be%d1%82%d0%bd%d1%96/
LOCATION:St. Andrew Ukrainian Orthodox Church\, 300 E. Army Trail Rd.\, Bloomingdale\,\, IL\, United States
END:VEVENT
BEGIN:VEVENT
DTSTART;TZID=America/Chicago:20240224T160000
DTEND;TZID=America/Chicago:20240224T180000
DTSTAMP:20260425T103629
CREATED:20240204T144508Z
LAST-MODIFIED:20240204T144710Z
UID:7996-1708790400-1708797600@uccaillinois.org
SUMMARY:Stand With Ukraine Rally
DESCRIPTION:Join us on February 24th\, 2024\, at 4 pm at the Wrigley Building 400-410 North Michigan Avenue\, as we stand together\, mourn together\, and promise to forge ahead with renewed determination. Let the world witness our unwavering support for Ukraine and our shared commitment to a future where the indomitable spirit of resilience prevails over the forces of russian aggression. Together\, we stand\, united in the pursuit of justice and victory.
URL:https://uccaillinois.org/event/stand-with-ukraine-rally/
LOCATION:IL
ATTACH;FMTTYPE=image/jpeg:https://uccaillinois.org/wp-content/uploads/2024/02/Stand-With-Ukraine-Cropped.jpg
END:VEVENT
END:VCALENDAR