BEGIN:VCALENDAR
VERSION:2.0
PRODID:-//UCCA - ECPv6.15.20//NONSGML v1.0//EN
CALSCALE:GREGORIAN
METHOD:PUBLISH
X-WR-CALNAME:UCCA
X-ORIGINAL-URL:https://uccaillinois.org
X-WR-CALDESC:Events for UCCA
REFRESH-INTERVAL;VALUE=DURATION:PT1H
X-Robots-Tag:noindex
X-PUBLISHED-TTL:PT1H
BEGIN:VTIMEZONE
TZID:America/Chicago
BEGIN:DAYLIGHT
TZOFFSETFROM:-0600
TZOFFSETTO:-0500
TZNAME:CDT
DTSTART:20230312T080000
END:DAYLIGHT
BEGIN:STANDARD
TZOFFSETFROM:-0500
TZOFFSETTO:-0600
TZNAME:CST
DTSTART:20231105T070000
END:STANDARD
BEGIN:DAYLIGHT
TZOFFSETFROM:-0600
TZOFFSETTO:-0500
TZNAME:CDT
DTSTART:20240310T080000
END:DAYLIGHT
BEGIN:STANDARD
TZOFFSETFROM:-0500
TZOFFSETTO:-0600
TZNAME:CST
DTSTART:20241103T070000
END:STANDARD
BEGIN:DAYLIGHT
TZOFFSETFROM:-0600
TZOFFSETTO:-0500
TZNAME:CDT
DTSTART:20250309T080000
END:DAYLIGHT
BEGIN:STANDARD
TZOFFSETFROM:-0500
TZOFFSETTO:-0600
TZNAME:CST
DTSTART:20251102T070000
END:STANDARD
END:VTIMEZONE
BEGIN:VEVENT
DTSTART;TZID=America/Chicago:20240218T140000
DTEND;TZID=America/Chicago:20240218T163000
DTSTAMP:20260425T103634
CREATED:20240204T145218Z
LAST-MODIFIED:20240204T145218Z
UID:8000-1708264800-1708273800@uccaillinois.org
SUMMARY:Непереможні\, Коли Обʼєднані - Invincible When United
DESCRIPTION:The Ukrainian World Congress and the Serhiy Prytula Charity Foundation proudly announce their collaborative endeavor – a charitable tour across North America titled “Непереможні\, Коли Об’єднані – Invincible When United.” This initiative aims to raise funds for the purchase of armored vehicles\, dedicated to safe humanitarian demining efforts in the Kherson region\, a vital aspect in the ongoing conflict.
URL:https://uccaillinois.org/event/%d0%bd%d0%b5%d0%bf%d0%b5%d1%80%d0%b5%d0%bc%d0%be%d0%b6%d0%bd%d1%96-%d0%ba%d0%be%d0%bb%d0%b8-%d0%be%d0%b1%ca%bc%d1%94%d0%b4%d0%bd%d0%b0%d0%bd%d1%96-invincible-when-united/
LOCATION:IL
ATTACH;FMTTYPE=image/jpeg:https://uccaillinois.org/wp-content/uploads/2024/02/Prytula.jpeg
END:VEVENT
END:VCALENDAR