BEGIN:VCALENDAR
VERSION:2.0
PRODID:-//UCCA - ECPv6.15.20//NONSGML v1.0//EN
CALSCALE:GREGORIAN
METHOD:PUBLISH
X-WR-CALNAME:UCCA
X-ORIGINAL-URL:https://uccaillinois.org
X-WR-CALDESC:Events for UCCA
REFRESH-INTERVAL;VALUE=DURATION:PT1H
X-Robots-Tag:noindex
X-PUBLISHED-TTL:PT1H
BEGIN:VTIMEZONE
TZID:America/Chicago
BEGIN:DAYLIGHT
TZOFFSETFROM:-0600
TZOFFSETTO:-0500
TZNAME:CDT
DTSTART:20230312T080000
END:DAYLIGHT
BEGIN:STANDARD
TZOFFSETFROM:-0500
TZOFFSETTO:-0600
TZNAME:CST
DTSTART:20231105T070000
END:STANDARD
BEGIN:DAYLIGHT
TZOFFSETFROM:-0600
TZOFFSETTO:-0500
TZNAME:CDT
DTSTART:20240310T080000
END:DAYLIGHT
BEGIN:STANDARD
TZOFFSETFROM:-0500
TZOFFSETTO:-0600
TZNAME:CST
DTSTART:20241103T070000
END:STANDARD
BEGIN:DAYLIGHT
TZOFFSETFROM:-0600
TZOFFSETTO:-0500
TZNAME:CDT
DTSTART:20250309T080000
END:DAYLIGHT
BEGIN:STANDARD
TZOFFSETFROM:-0500
TZOFFSETTO:-0600
TZNAME:CST
DTSTART:20251102T070000
END:STANDARD
END:VTIMEZONE
BEGIN:VEVENT
DTSTART;TZID=America/Chicago:20240217T173000
DTEND;TZID=America/Chicago:20240217T173000
DTSTAMP:20260425T103635
CREATED:20240207T141911Z
LAST-MODIFIED:20240207T141911Z
UID:8017-1708191000-1708191000@uccaillinois.org
SUMMARY:Своє: Читай/Дивись українське. Образотворче мистецтво
DESCRIPTION:Будемо розмовляти про українське (цього разу – образотворче мистецтво)\, буде вікторина\, багато подарунків і смачнюща їжа від локальних українських бізнесів.
URL:https://uccaillinois.org/event/%d1%81%d0%b2%d0%be%d1%94-%d1%87%d0%b8%d1%82%d0%b0%d0%b9-%d0%b4%d0%b8%d0%b2%d0%b8%d1%81%d1%8c-%d1%83%d0%ba%d1%80%d0%b0%d1%97%d0%bd%d1%81%d1%8c%d0%ba%d0%b5-%d0%be%d0%b1%d1%80%d0%b0%d0%b7%d0%be%d1%82/
LOCATION:IL
ATTACH;FMTTYPE=image/jpeg:https://uccaillinois.org/wp-content/uploads/2024/02/ЧитайДивись-українське.-Образотворче-мистецтво.jpeg
END:VEVENT
END:VCALENDAR